Workbook
Name Slicer_Certificate_Owner: #N/A
Name Slicer_Certificate_Owner1: #N/A
Name Slicer_Product_category: #N/A
Name Slicer_Product_category1: #N/A
Name Slicer_Responsible_Company: #N/A
Name Slicer_Responsible_Company1: #N/A
Name Slicer_Type_of_certificate: #N/A
Name Slicer_Type_of_certificate1: #N/A

Sheet OLD_Certificates
A1: Click here for more information ℹ️ | B1: Expiration date | C1: Link to cerfiticate | D1: Certificate Owner | E1: Responsible Company | F1: Index Number/Title | G1: Certification No. | H1: Product category | I1: Type of certificate | J1: Content of Certificate | K1: Applicable in following regions
B2: =IF(DATA!O6="","",DATA!O6) -> 45436 | C2: =IF(DATA!F6<>"", HYPERLINK(DATA!F6, "Link"), "") -> Link | D2: =DATA!A6 -> PWG Certificate | E2: =DATA!E6 -> Suko NV | F2: =DATA!B6 -> Adoucisseur Clack WR 1.25In | G2: =IF(DATA!C6="","",DATA!C6) -> 17 ACC LY 610 | H2: =DATA!J6 -> Softeners | I2: =DATA!L6 -> ACS | J2: =IF(DATA!D6="","",DATA!D6) | K2: =DATA!H6 -> France
B3: =IF(DATA!#REF!="","",DATA!#REF!) -> #REF! | C3: =IF(DATA!#REF!<>"", HYPERLINK(DATA!#REF!, "Link"), "") -> #REF! | D3: =DATA!#REF! -> #REF! | E3: =DATA!#REF! -> #REF! | F3: =DATA!#REF! -> #REF! | G3: =IF(DATA!#REF!="","",DATA!#REF!) -> #REF! | H3: =DATA!#REF! -> #REF! | I3: =DATA!#REF! -> #REF! | J3: =IF(DATA!#REF!="","",DATA!#REF!) -> #REF! | K3: =DATA!#REF! -> #REF!
B4: =IF(DATA!#REF!="","",DATA!#REF!) -> #REF! | C4: =IF(DATA!#REF!<>"", HYPERLINK(DATA!#REF!, "Link"), "") -> #REF! | D4: =DATA!#REF! -> #REF! | E4: =DATA!#REF! -> #REF! | F4: =DATA!#REF! -> #REF! | G4: =IF(DATA!#REF!="","",DATA!#REF!) -> #REF! | H4: =DATA!#REF! -> #REF! | I4: =DATA!#REF! -> #REF! | J4: =IF(DATA!#REF!="","",DATA!#REF!) -> #REF! | K4: =DATA!#REF! -> #REF!
B5: =IF(DATA!#REF!="","",DATA!#REF!) -> #REF! | C5: =IF(DATA!#REF!<>"", HYPERLINK(DATA!#REF!, "Link"), "") -> #REF! | D5: =DATA!#REF! -> #REF! | E5: =DATA!#REF! -> #REF! | F5: =DATA!#REF! -> #REF! | G5: =IF(DATA!#REF!="","",DATA!#REF!) -> #REF! | H5: =DATA!#REF! -> #REF! | I5: =DATA!#REF! -> #REF! | J5: =IF(DATA!#REF!="","",DATA!#REF!) -> #REF! | K5: =DATA!#REF! -> #REF!
B6: =IF(DATA!#REF!="","",DATA!#REF!) -> #REF! | C6: =IF(DATA!#REF!<>"", HYPERLINK(DATA!#REF!, "Link"), "") -> #REF! | D6: =DATA!#REF! -> #REF! | E6: =DATA!#REF! -> #REF! | F6: =DATA!#REF! -> #REF! | G6: =IF(DATA!#REF!="","",DATA!#REF!) -> #REF! | H6: =DATA!#REF! -> #REF! | I6: =DATA!#REF! -> #REF! | J6: =IF(DATA!#REF!="","",DATA!#REF!) -> #REF! | K6: =DATA!#REF! -> #REF!
B7: =IF(DATA!O67="","",DATA!O67) -> 47363 | C7: =IF(DATA!F67<>"", HYPERLINK(DATA!F67, "Link"), "") -> Link | D7: =DATA!A67 -> PWG Certificate | E7: =DATA!E67 -> CTA | F7: =DATA!B67 -> Softeners Clack Gamme 26 MCL100V | G7: =IF(DATA!C67="","",DATA!C67) -> 24 ACC LY 461 | H7: =DATA!J67 -> Softeners | I7: =DATA!L67 -> ACS | J7: =IF(DATA!D67="","",DATA!D67) -> MCL40V, MCL80V, MCL100V, MCL140V, MCL160V, MCL200V; MCL250V, MCL300V, MCL350V SCL105V, SCL145V, SCL165V, SCL205V, SCL255V, SCL305V, SCL505V, SCL755V SCL126V, SCL226V, SCL326V, SCL526V, SCL726V, SCL1026V, SCL1526V, SCL1726V, SCL2226V DCL126V, DCL226V, DCL326V, DCL526V, DCL726V, DCL1026V, DCL1526V, DCL1726V, DCL2226V FA08FAG, FA10FAG, FA12FAG, FA14FAG, FA08CHA, FA10CHA, FA12CHA, FA14CHA FA08CAL, FA10CAL, FA12CAL, FA14CAL | K7: =DATA!H67 -> France
B8: =IF(DATA!O39="","",DATA!O39) -> 46896 | C8: =IF(DATA!F39<>"", HYPERLINK(DATA!F39, "Link"), "") -> Link | D8: =DATA!A39 -> PWG Certificate | E8: =DATA!E39 -> Suko NV | F8: =DATA!B39 -> Adoucissuer Clack WR 2In | G8: =IF(DATA!C39="","",DATA!C39) -> 23 ACC LY 061 | H8: =DATA!J39 -> Softeners | I8: =DATA!L39 -> ACS | J8: =IF(DATA!D39="","",DATA!D39) | K8: =DATA!H39 -> France
B9: =IF(DATA!#REF!="","",DATA!#REF!) -> #REF! | C9: =IF(DATA!#REF!<>"", HYPERLINK(DATA!#REF!, "Link"), "") -> #REF! | D9: =DATA!#REF! -> #REF! | E9: =DATA!#REF! -> #REF! | F9: =DATA!#REF! -> #REF! | G9: =IF(DATA!#REF!="","",DATA!#REF!) -> #REF! | H9: =DATA!#REF! -> #REF! | I9: =DATA!#REF! -> #REF! | J9: =IF(DATA!#REF!="","",DATA!#REF!) -> #REF! | K9: =DATA!#REF! -> #REF!
B10: =IF(DATA!O25="","",DATA!O25) -> 46508 | C10: =IF(DATA!F25<>"", HYPERLINK(DATA!F25, "Link"), "") -> Link | D10: =DATA!A25 -> PWG Certificate | E10: =DATA!E25 -> Wycombe Water Ltd. | F10: =DATA!B25 -> 2205103 | G10: =IF(DATA!C25="","",DATA!C25) -> 2205103 | H10: =DATA!J25 -> UV | I10: =DATA!L25 -> WRAS | J10: =IF(DATA!D25="","",DATA!D25) -> L8 L12 L22 L41 L57 L79 H15 H38 H93 H95 H151 UV DISINFECTION UNIT | K10: =DATA!H25 -> United Kingdom
B11: =IF('Not used'!O4="","",'Not used'!O4) -> 45922 | C11: =IF('Not used'!F4<>"", HYPERLINK('Not used'!F4, "Link"), "") -> Link | D11: ='Not used'!A4 -> Supplier Certifcate | E11: ='Not used'!E4 -> PWG France | F11: ='Not used'!B4 -> Cartouches Atlas Filtri CA 4-10 SE | G11: =IF('Not used'!C4="","",'Not used'!C4) -> 20 ACC LY 235 | H11: ='Not used'!J4 -> Filters and components | I11: ='Not used'!L4 -> ACS | J11: =IF('Not used'!D4="","",'Not used'!D4) -> CA 4/5/7/10 SE SX/PB/BX | K11: ='Not used'!H4 -> France
B12: =IF(DATA!O3="","",DATA!O3) -> 45436 | C12: =IF(DATA!F3<>"", HYPERLINK(DATA!F3, "Link"), "") -> Link | D12: =DATA!A3 -> PWG Certificate | E12: =DATA!E3 -> Suko NV | F12: =DATA!B3 -> Adoucisseur Clack WR duplex 1In | G12: =IF(DATA!C3="","",DATA!C3) -> 17 ACC LY 611 | H12: =DATA!J3 -> Softeners | I12: =DATA!L3 -> ACS | J12: =IF(DATA!D3="","",DATA!D3) | K12: =DATA!H3 -> France
B13: =IF(DATA!O35="","",DATA!O35) -> 46728 | C13: =IF(DATA!F35<>"", HYPERLINK(DATA!F35, "Link"), "") -> Link | D13: =DATA!A35 -> Supplier Certifcate | E13: =DATA!E35 -> PWG France | F13: =DATA!B35 -> Resine Dupont Taptec HCRSS FF Na | G13: =IF(DATA!C35="","",DATA!C35) -> 20 RES LY 005 | H13: =DATA!J35 -> ION exchange resins | I13: =DATA!L35 -> ACS | J13: =IF(DATA!D35="","",DATA!D35) | K13: =DATA!H35 -> France
B14: =IF(DATA!O4="","",DATA!O4) -> 45436 | C14: =IF(DATA!F4<>"", HYPERLINK(DATA!F4, "Link"), "") -> Link | D14: =DATA!A4 -> PWG Certificate | E14: =DATA!E4 -> Suko NV | F14: =DATA!B4 -> Adoucisseur Clack 1In | G14: =IF(DATA!C4="","",DATA!C4) -> 17 ACC LY 607 | H14: =DATA!J4 -> Softeners | I14: =DATA!L4 -> ACS | J14: =IF(DATA!D4="","",DATA!D4) | K14: =DATA!H4 -> France
B15: =IF('Not used'!O14="","",'Not used'!O14) -> 45787 | C15: =IF('Not used'!F14<>"", HYPERLINK('Not used'!F14, "Link"), "") -> Link | D15: ='Not used'!A14 -> Supplier Certifcate | E15: ='Not used'!E14 -> PWG N.V. | F15: ='Not used'!B14 -> Resin Sunresin SEPLITE Monojet SC3100 (2x mod) | G15: =IF('Not used'!C14="","",'Not used'!C14) -> SO 009/20 | H15: ='Not used'!J14 -> ION exchange resins | I15: ='Not used'!L14 -> Other | J15: =IF('Not used'!D14="","",'Not used'!D14) -> SEPLITE Monojet SC3100 (2x mod) | K15: ='Not used'!H14 -> European Union
B16: =IF(DATA!#REF!="","",DATA!#REF!) -> #REF! | C16: =IF(DATA!#REF!<>"", HYPERLINK(DATA!#REF!, "Link"), "") -> #REF! | D16: =DATA!#REF! -> #REF! | E16: =DATA!#REF! -> #REF! | F16: =DATA!#REF! -> #REF! | G16: =IF(DATA!#REF!="","",DATA!#REF!) -> #REF! | H16: =DATA!#REF! -> #REF! | I16: =DATA!#REF! -> #REF! | J16: =IF(DATA!#REF!="","",DATA!#REF!) -> #REF! | K16: =DATA!#REF! -> #REF!
B17: =IF(DATA!#REF!="","",DATA!#REF!) -> #REF! | C17: =IF(DATA!#REF!<>"", HYPERLINK(DATA!#REF!, "Link"), "") -> #REF! | D17: =DATA!#REF! -> #REF! | E17: =DATA!#REF! -> #REF! | F17: =DATA!#REF! -> #REF! | G17: =IF(DATA!#REF!="","",DATA!#REF!) -> #REF! | H17: =DATA!#REF! -> #REF! | I17: =DATA!#REF! -> #REF! | J17: =IF(DATA!#REF!="","",DATA!#REF!) -> #REF! | K17: =DATA!#REF! -> #REF!
B18: =IF(DATA!O63="","",DATA!O63) -> 47206 | C18: =IF(DATA!F63<>"", HYPERLINK(DATA!F63, "Link"), "") -> Link | D18: =DATA!A63 -> PWG Certificate | E18: =DATA!E63 -> PWG France | F18: =DATA!B63 -> Softeners Vanne 79 or 105 | G18: =IF(DATA!C63="","",DATA!C63) -> 24 ACC LY 204 | H18: =DATA!J63 -> Softeners | I18: =DATA!L63 -> ACS | J18: =IF(DATA!D63="","",DATA!D63) -> Softeners Vanne 79 or 105 | K18: =DATA!H63 -> France
B19: =IF(DATA!O58="","",DATA!O58) -> 47078 | C19: =IF(DATA!F58<>"", HYPERLINK(DATA!F58, "Link"), "") -> Link | D19: =DATA!A58 -> PWG Certificate | E19: =DATA!E58 -> Cappers | F19: =DATA!B58 -> Softeners Cappers Ino20 | G19: =IF(DATA!C58="","",DATA!C58) -> Swedish Type Approval TG 1856 | H19: =DATA!J58 -> Softeners | I19: =DATA!L58 -> Swedish type approval (rise) | J19: =IF(DATA!D58="","",DATA!D58) -> Components Supplier Model Valve Cappers Ino20 KTW series Pressure vessel Pentair 2,5" inlet 8,8 to 103,1 l Riser tube Pallas 1,05" Bottom distributor KSH GBU/GDU Connector Cappers Straight 3/4" or Straight 1" or elbowed 1" Optional Bypass Cappers Residential Bypass | K19: =DATA!H58 -> Sweden; Norway; Denmark
B20: =IF(DATA!O61="","",DATA!O61) -> 47137 | C20: =IF(DATA!F61<>"", HYPERLINK(DATA!F61, "Link"), "") -> Link | D20: =DATA!A61 -> Supplier Certifcate | E20: =DATA!E61 -> PWG N.V. | F20: =DATA!B61 -> Preassure vessels Noyi | G20: =IF(DATA!C61="","",DATA!C61) -> 23 ACS NY 557 | H20: =DATA!J61 -> Composite pressure vessels | I20: =DATA!L61 -> ACS | J20: =IF(DATA!D61="","",DATA!D61) -> RÉSERVOIR 5x13, 2.5"-8NPSM | K20: =DATA!H61 -> France
B21: =IF(DATA!O47="","",DATA!O47) -> 46944 | C21: =IF(DATA!F47<>"", HYPERLINK(DATA!F47, "Link"), "") -> Link | D21: =DATA!A47 -> Supplier Certifcate | E21: =DATA!E47 -> PWG France | F21: =DATA!B47 -> Pressure vessels Pentair Flanged Rotomolded Tanks C-XXYY-* | G21: =IF(DATA!C47="","",DATA!C47) -> 23 MAT LY 100 | H21: =DATA!J47 -> Composite pressure vessels | I21: =DATA!L47 -> ACS | J21: =IF(DATA!D47="","",DATA!D47) -> Nom(s) commercial(aux) du produit fini / Commercial name(s) of the finished product : C-xxyy -* Flanged Rotomolded Tanks What is Meaning / Range : C Product /Final use Commercial / Industrial xx External Diameter (in") From 14 to 36 yy Vessel Height (in") From 43 to 72 | K21: =DATA!H47 -> France
B22: =IF(DATA!O51="","",DATA!O51) -> 47006 | C22: =IF(DATA!F51<>"", HYPERLINK(DATA!F51, "Link"), "") -> Link | D22: =DATA!A51 -> Supplier Certifcate | E22: =DATA!E51 -> PWG N.V. | F22: =DATA!B51 -> SS Housings Bona Water Purification | G22: =IF(DATA!C51="","",DATA!C51) -> 17861/1/2025-CERT-01 | H22: =DATA!J51 -> Other | I22: =DATA!L51 -> CE | J22: =IF(DATA!D51="","",DATA!D51) -> Scope of equipment: RO Membrane housing, Cartridge filter housing, Bag filter housing, Media filter housing, Heat exchanger (Max PS 1000 PSI, fluid: water, max V=8000L, material: stainless steel) | K22: =DATA!H51 -> European Union
B23: =IF(DATA!O41="","",DATA!O41) -> 46896 | C23: =IF(DATA!F41<>"", HYPERLINK(DATA!F41, "Link"), "") -> Link | D23: =DATA!A41 -> PWG Certificate | E23: =DATA!E41 -> Suko NV | F23: =DATA!B41 -> Adoucisseur Clack WR 2In HF | G23: =IF(DATA!C41="","",DATA!C41) -> 23 ACC LY 063 | H23: =DATA!J41 -> Softeners | I23: =DATA!L41 -> ACS | J23: =IF(DATA!D41="","",DATA!D41) | K23: =DATA!H41 -> France
B24: =IF(DATA!O27="","",DATA!O27) -> 46581 | C24: =IF(DATA!F27<>"", HYPERLINK(DATA!F27, "Link"), "") -> Link | D24: =DATA!A27 -> Supplier Certifcate | E24: =DATA!E27 -> PWG France | F24: =DATA!B27 -> PE/TUBE Reliance Worldwide Corporation Tube LLDPE Bleu | G24: =IF(DATA!C27="","",DATA!C27) -> 22 MAT NY 110 | H24: =DATA!J27 -> Tubes/Pipes | I24: =DATA!L27 -> ACS | J24: =IF(DATA!D27="","",DATA!D27) -> Tube/Pipe polyethylenee PE 240cm2 / L Bleu | K24: =DATA!H27 -> France
B25: =IF(DATA!O38="","",DATA!O38) -> 46820 | C25: =IF(DATA!F38<>"", HYPERLINK(DATA!F38, "Link"), "") -> Link | D25: =DATA!A38 -> PWG Certificate | E25: =DATA!E38 -> Suko NV | F25: =DATA!B38 -> Softeners Clack 3-4In & 1In Plastic | G25: =IF(DATA!C38="","",DATA!C38) -> KIWA-23-DW-10335-1 | H25: =DATA!J38 -> Softeners | I25: =DATA!L38 -> KTW-UBA | J25: =IF(DATA!D38="","",DATA!D38) -> Containing Structural Pressure Vessels - 2,5" Inlet - 8,8 L to 103,1 L Containing 3/4" & 1" Plastic Male BSPT Fittings - V3007-06-KTW or V3007-14-KTW Containing V3006-KTW Bypass Containing Pallas Riser Tube Containing GBO Upper Screen Containing GBU Lower Screen Clack 1" valve | K25: =DATA!H38 -> Germany
B26: =IF(DATA!O40="","",DATA!O40) -> 46896 | C26: =IF(DATA!F40<>"", HYPERLINK(DATA!F40, "Link"), "") -> Link | D26: =DATA!A40 -> PWG Certificate | E26: =DATA!E40 -> Suko NV | F26: =DATA!B40 -> Adoucisseur Clack WR 2In QC | G26: =IF(DATA!C40="","",DATA!C40) -> 23 ACC LY 062 | H26: =DATA!J40 -> Softeners | I26: =DATA!L40 -> ACS | J26: =IF(DATA!D40="","",DATA!D40) | K26: =DATA!H40 -> France
B27: =IF(DATA!O21="","",DATA!O21) -> 46446 | C27: =IF(DATA!F21<>"", HYPERLINK(DATA!F21, "Link"), "") -> Link | D27: =DATA!A21 -> Supplier Certifcate | E27: =DATA!E21 -> PWG France | F27: =DATA!B21 -> PE/TUBE Reliance Worldwide Corporation Tube LLDPE Naturel | G27: =IF(DATA!C21="","",DATA!C21) -> 22 MAT NY 108 | H27: =DATA!J21 -> Tubes/Pipes | I27: =DATA!L21 -> ACS | J27: =IF(DATA!D21="","",DATA!D21) -> Tube/Pipe polyethylenee PE 240cm2 / L Naturel | K27: =DATA!H21 -> France
B28: =IF(DATA!#REF!="","",DATA!#REF!) -> #REF! | C28: =IF(DATA!#REF!<>"", HYPERLINK(DATA!#REF!, "Link"), "") -> #REF! | D28: =DATA!#REF! -> #REF! | E28: =DATA!#REF! -> #REF! | F28: =DATA!#REF! -> #REF! | G28: =IF(DATA!#REF!="","",DATA!#REF!) -> #REF! | H28: =DATA!#REF! -> #REF! | I28: =DATA!#REF! -> #REF! | J28: =IF(DATA!#REF!="","",DATA!#REF!) -> #REF! | K28: =DATA!#REF! -> #REF!
B29: =IF(DATA!O19="","",DATA!O19) -> 46404 | C29: =IF(DATA!F19<>"", HYPERLINK(DATA!F19, "Link"), "") -> Link | D29: =DATA!A19 -> Supplier Certifcate | E29: =DATA!E19 -> PWG France | F29: =DATA!B19 -> Pressure vessels Canature 4in | G29: =IF(DATA!C19="","",DATA!C19) -> 21 ACC LY 695 | H29: =DATA!J19 -> Composite pressure vessels | I29: =DATA!L19 -> ACS | J29: =IF(DATA!D19="","",DATA!D19) -> Pressure Vessel 4" 3072 Pressure Vessel 4"-4" 3072 Pressure Vessel 4"-4" 3672 | K29: =DATA!H19 -> France
B30: =IF(DATA!O29="","",DATA!O29) -> 46583 | C30: =IF(DATA!F29<>"", HYPERLINK(DATA!F29, "Link"), "") -> Link | D30: =DATA!A29 -> PWG Certificate | E30: =DATA!E29 -> Delta Water Engineering N.V. | F30: =DATA!B29 -> Softeners Delta Hydro @ Home | G30: =IF(DATA!C29="","",DATA!C29) -> K109795/03 | H30: =DATA!J29 -> Softeners | I30: =DATA!L29 -> Dutch ATA (KIWA) | J30: =IF(DATA!D29="","",DATA!D29) -> Hydro @ Home - Simplex 3L Hydrosoft DSHO-100-M Hydrosoft DHSO-100-B Hydrosoft DHSO-100-BS Hydro@Home - Duplex 3L Hydrosoft DHSO-200-M Hydrosoft DHSO-200-B Hydrosoft DHSO-200-BL Hydrosoft DHSO-200-BLS Talent - Simplex 3L DTSO-100-M DTSO-100-B DTSO-100-BS Talent - Duplex 3L DTSO-200-M DTSO-200-B DTSO-200-BL DTSO-200-BLS | K30: =DATA!H29 -> European Union
B31: =IF('Not used'!O13="","",'Not used'!O13) -> 45763 | C31: =IF('Not used'!F13<>"", HYPERLINK('Not used'!F13, "Link"), "") -> Link | D31: ='Not used'!A13 -> Supplier Certifcate | E31: ='Not used'!E13 -> PWG N.V. | F31: ='Not used'!B13 -> Valves Runxin Multi-functional Low voltage directive 2014/35/EU & EMC 2014/30/EU | G31: =IF('Not used'!C13="","",'Not used'!C13) -> ISETC.002620200417 | H31: ='Not used'!J13 -> Valves - Runxin | I31: ='Not used'!L13 -> CE | J31: =IF('Not used'!D13="","",'Not used'!D13) -> Multi-functional Flow Control Valve for Water Treatment Systems MODEL(S): TM.F | K31: ='Not used'!H13 -> European Union
B32: =IF('Not used'!O2="","",'Not used'!O2) -> 45443 | C32: =IF('Not used'!F2<>"", HYPERLINK('Not used'!F2, "Link"), "") -> Link | D32: ='Not used'!A2 -> Supplier Certifcate | E32: ='Not used'!E2 -> PWG N.V. | F32: ='Not used'!B2 -> UV Sita Stainless steel bodies & sensors | G32: =IF('Not used'!C2="","",'Not used'!C2) -> 1905378 | H32: ='Not used'!J2 -> UV | I32: ='Not used'!L2 -> WRAS | J32: =IF('Not used'!D2="","",'Not used'!D2) -> RANGE OF UV DISINFECTION UNITS INCORPORATING STAINLESS STEEL BODIES & SENSORS | K32: ='Not used'!H2 -> United Kingdom
B33: =IF(DATA!O28="","",DATA!O28) -> 46581 | C33: =IF(DATA!F28<>"", HYPERLINK(DATA!F28, "Link"), "") -> Link | D33: =DATA!A28 -> Supplier Certifcate | E33: =DATA!E28 -> PWG France | F33: =DATA!B28 -> PE/TUBE Reliance Worldwide Corporation Tube LLDPE Rouge | G33: =IF(DATA!C28="","",DATA!C28) -> 22 MAT NY 111 | H33: =DATA!J28 -> Tubes/Pipes | I33: =DATA!L28 -> ACS | J33: =IF(DATA!D28="","",DATA!D28) -> Tube/Pipe polyethylenee PE 240cm2 / L Rouge | K33: =DATA!H28 -> France
B34: =IF(DATA!O37="","",DATA!O37) -> 46802 | C34: =IF(DATA!F37<>"", HYPERLINK(DATA!F37, "Link"), "") -> Link | D34: =DATA!A37 -> PWG Certificate | E34: =DATA!E37 -> Delta Water Engineering N.V. | F34: =DATA!B37 -> Filters Delta drinking water filter with activated carbon | G34: =IF(DATA!C37="","",DATA!C37) -> 043/2023 Swedish Type Approval 1837 | H34: =DATA!J37 -> Filters and components | I34: =DATA!L37 -> Swedish type approval (rise) | J34: =IF(DATA!D37="","",DATA!D37) -> Talent DPU-100 H@H Hydropure DPU-100 Delta DPU-100 | K34: =DATA!H37 -> Sweden; Denmark; Norway
B35: =IF('Not used'!O19="","",'Not used'!O19) -> 45869 | C35: =IF('Not used'!F19<>"", HYPERLINK('Not used'!F19, "Link"), "") -> Link | D35: ='Not used'!A19 -> Supplier Certifcate | E35: ='Not used'!E19 -> PWG N.V. | F35: ='Not used'!B19 -> WRAS Pressure vessels Pentair Polyethylene | G35: =IF('Not used'!C19="","",'Not used'!C19) -> 2007073 | H35: ='Not used'!J19 -> Composite pressure vessels | I35: ='Not used'!L19 -> WRAS | J35: =IF('Not used'!D19="","",'Not used'!D19) -> Model number: C-****-A*-NI, DPEX****, DPEX*****, Q-****-A*, RT-****-P*, RT-****-A* RT-****-P*-NI & RT-****-A*-NI RANGE OF POLYETHYLENE PRESSURE VESSELS | K35: ='Not used'!H19 -> United Kingdom
B36: =IF(DATA!O59="","",DATA!O59) -> 47079 | C36: =IF(DATA!F59<>"", HYPERLINK(DATA!F59, "Link"), "") -> Link | D36: =DATA!A59 -> Supplier Certifcate | E36: =DATA!E59 -> PWG France | F36: =DATA!B59 -> Filter Thinkwater Profine Blue and Violet | G36: =IF(DATA!C59="","",DATA!C59) -> 23 ACC LY 638 | H36: =DATA!J59 -> Filters and components | I36: =DATA!L59 -> ACS | J36: =IF(DATA!D59="","",DATA!D59) -> Profine Blue small Profine Blue medium Profine Blue large Profine Blue sky small Profine Blue sky medium Profine Blue sky large Profine Violet small Profine Violet medium Profine Violet large | K36: =DATA!H59 -> France
B37: =IF('Not used'!O17="","",'Not used'!O17) -> 45831 | C37: =IF('Not used'!F17<>"", HYPERLINK('Not used'!F17, "Link"), "") -> Link | D37: ='Not used'!A17 -> Supplier Certifcate | E37: ='Not used'!E17 -> PWG N.V. | F37: ='Not used'!B17 -> ISO14001 Canature Health Technology | G37: =IF('Not used'!C17="","",'Not used'!C17) -> EMS 711832 | H37: ='Not used'!J17 -> ISO | I37: ='Not used'!L17 -> ISO | J37: =IF('Not used'!D17="","",'Not used'!D17) -> ISO14001 The design and manufacture of water purification equipment and its core components. | K37: ='Not used'!H17 -> European Union
B38: =IF(DATA!O42="","",DATA!O42) -> 46896 | C38: =IF(DATA!F42<>"", HYPERLINK(DATA!F42, "Link"), "") -> Link | D38: =DATA!A42 -> PWG Certificate | E38: =DATA!E42 -> Suko NV | F38: =DATA!B42 -> Adoucisseur Clack WR 3In | G38: =IF(DATA!C42="","",DATA!C42) -> 23 ACC LY 064 | H38: =DATA!J42 -> Softeners | I38: =DATA!L42 -> ACS | J38: =IF(DATA!D42="","",DATA!D42) | K38: =DATA!H42 -> France
B39: =IF(DATA!#REF!="","",DATA!#REF!) -> #REF! | C39: =IF(DATA!#REF!<>"", HYPERLINK(DATA!#REF!, "Link"), "") -> #REF! | D39: =DATA!#REF! -> #REF! | E39: =DATA!#REF! -> #REF! | F39: =DATA!#REF! -> #REF! | G39: =IF(DATA!#REF!="","",DATA!#REF!) -> #REF! | H39: =DATA!#REF! -> #REF! | I39: =DATA!#REF! -> #REF! | J39: =IF(DATA!#REF!="","",DATA!#REF!) -> #REF! | K39: =DATA!#REF! -> #REF!
B40: =IF('Not used'!O16="","",'Not used'!O16) -> 45831 | C40: =IF('Not used'!F16<>"", HYPERLINK('Not used'!F16, "Link"), "") -> Link | D40: ='Not used'!A16 -> Supplier Certifcate | E40: ='Not used'!E16 -> PWG N.V. | F40: ='Not used'!B16 -> ISO9001 Canature Health Technology | G40: =IF('Not used'!C16="","",'Not used'!C16) -> FM 711830 | H40: ='Not used'!J16 -> ISO | I40: ='Not used'!L16 -> ISO | J40: =IF('Not used'!D16="","",'Not used'!D16) -> ISO9001 The design and manufacture of water purification equipment and its core components. | K40: ='Not used'!H16 -> European Union
...

Sheet DATA
A1: Certificate Owner | B1: Index Number/Title | C1: Certification No. | D1: Content of Certificate | E1: Responsible Company | F1: Download the PDF of the certificate here | G1: E-mail of the responsible | H1: Applicable in following countries and continents | I1: If your region is not in the list above, fill it out here | J1: Product category | K1: Category | L1: Type of certificate | M1: Creation date of certificate | N1: Expiration date? | O1: Expiration date of certificate is | P1: Reminder mail has been send? | Q1: Send a reminder mail on | R1: Renewal certificate requested? | S1: Request Date of certificate by PWG member | T1: Select relevant communication flows
A2: PWG Certificate | B2: Softeners Delta Simplex & Delta Duplex | C2: KIWA-22-DW-10312 | D2: SIMPLEX: Hydro @ Home - Simplex 3L Hydrosoft DHSO-100-M Hydrosoft DHSO-100-B Hydrosoft DHSO-100-BS Talent - Simplex 3L DTSO-100-M DTSO-100-B DTSO-100-BS Soft Monomatik Pallas NES Simplex DUPLEX: Hydro@Home - Duplex 3L Hydrosoft DHSO-200-M Hydrosoft DHSO-200-B Hydrosoft DHSO-200-BL Hydrosoft DHSO-200-BLS Talent - Duplex 3L DTSO-200-M DTSO-200-B DTSO-200-BL DTSO-200-BLS Soft Duomatik Evoline Pallas NES Duplex | E2: Delta Water Engineering N.V. | F2: https://polletgroupintranet.sharepoint.com/:b:/s/PG_CORP_MKT/EfdvOo4Vk0hDkTyQ21bI4nUBaKGcPMbTN7t1yfTGJubDqQ?e=tPxJ8Y | G2: johan.lansens@pwg.be | H2: Germany | J2: Softeners | L2: KTW-UBA | M2: 44854 | N2: Yes | O2: 45006 | R2: No
A3: PWG Certificate | B3: Adoucisseur Clack WR duplex 1In | C3: 17 ACC LY 611 | E3: Suko NV | F3: https://polletgroupintranet.sharepoint.com/:b:/s/PG_CORP_MKT/EaveSjO62l9Hjhl2fnDIWIkBfzOoNd4fRuXgKFYCnxfYHg?e=jkRZpu | G3: johan.lansens@pwg.be | H3: France | J3: Softeners | L3: ACS | M3: 44901 | N3: Yes | O3: 45436 | Q3: 45400 | R3: No | T3: Expiration Mail: certificate reaches expiration date soon
A4: PWG Certificate | B4: Adoucisseur Clack 1In | C4: 17 ACC LY 607 | E4: Suko NV | F4: https://polletgroupintranet.sharepoint.com/:b:/s/PG_CORP_MKT/EcqK-mJCJPtDqPXji0xSY_gBNtNidem17eNkGF7g4v-GlQ?e=wgNZHr | G4: johan.lansens@pwg.be | H4: France | J4: Softeners | L4: ACS | M4: 44901 | N4: Yes | O4: 45436 | Q4: 45400 | R4: No | T4: Expiration Mail: certificate reaches expiration date soon
A5: PWG Certificate | B5: Adoucisseur Clack PI | C5: 17 ACC LY 608 | E5: Suko NV | F5: https://polletgroupintranet.sharepoint.com/:b:/s/PG_CORP_MKT/EV22MCF9_RBDkmv1H4OWJiYBTrZlCiJFqrcX3PbPirXAQQ?e=1ricSU | G5: johan.lansens@pwg.be | H5: France | J5: Softeners | L5: ACS | M5: 44901 | N5: Yes | O5: 45436 | Q5: 45400 | R5: No | T5: Expiration Mail: certificate reaches expiration date soon
A6: PWG Certificate | B6: Adoucisseur Clack WR 1.25In | C6: 17 ACC LY 610 | E6: Suko NV | F6: https://polletgroupintranet.sharepoint.com/:b:/s/PG_CORP_MKT/EZR2vJdxz4xLq_vQVuDmDsIBo_fEc9gP7_L8aceRXPKX_w?e=N3wkey | G6: johan.lansens@pwg.be | H6: France | J6: Softeners | L6: ACS | M6: 44901 | N6: Yes | O6: 45436 | Q6: 45400 | R6: No | T6: Expiration Mail: certificate reaches expiration date soon
A7: PWG Certificate | B7: Adoucisseur Clack WR 1In | C7: 17 ACC LY 609 | E7: Suko NV | F7: https://polletgroupintranet.sharepoint.com/:b:/s/PG_CORP_MKT/Edj7PGEspRhLoUp9bbJLc_QB7P5bAMbEhSJ8YMe0FLrR4A?e=xuvOre | G7: johan.lansens@pwg.be | H7: France | J7: Softeners | L7: ACS | M7: 44901 | N7: Yes | O7: 45436 | Q7: 45400 | R7: No | T7: Expiration Mail: certificate reaches expiration date soon
A8: Supplier Certifcate | B8: Filters Cintropur NW18 to 75 | C8: 21 ACC LY 752 | D8: Cintropur NW 18 to 75 | E8: PWG France | F8: https://polletgroupintranet.sharepoint.com/:b:/s/PG_CORP_MKT/EePUeSnn_J1OgZpwCeiN0RYB_Ps6TPs6M-JUKBYPEMNs8w?e=GAB0pf | G8: johan.lansens@pwg.be | H8: France | J8: Filters and components | L8: ACS | M8: 44504 | N8: Yes | O8: 46330 | Q8: 45965 | R8: No | T8: Expiration Mail: certificate reaches expiration date soon
A9: PWG Certificate | B9: Adoucisseur Delta 3L Simplex and Duplex | C9: 21 ACC LY 098 | D9: Hydro @ Home - range Talent - range Delta 3L Simplex Delta 3L Duplex | E9: Delta Water Engineering N.V. | F9: https://polletgroupintranet.sharepoint.com/:b:/s/PG_CORP_MKT/EUVoBmMEZjdOhelaVZgTF7MBRP6gLiwIMPIZF_M54QyooA?e=7TcnnJ | G9: johan.lansens@pwg.be | H9: France | J9: Softeners | L9: ACS | M9: 44537 | N9: Yes | O9: 46363 | Q9: 45998 | R9: No | T9: Expiration Mail: certificate reaches expiration date soon
A10: PWG Customer Certificate | B10: Adoucisseur Aqua 2000 Excell | C10: 21 ACC LY 931 | D10: Excell Hydro @ Home | E10: Delta Water Engineering N.V. | F10: https://polletgroupintranet.sharepoint.com/:b:/s/PG_CORP_MKT/Ed8O58HIk11Am0fLmNUMF4EBFhR5t2RjZHPeYlu70TSE5Q?e=sON5BO | G10: johan.lansens@pwg.be | H10: France | J10: Softeners | L10: ACS | M10: 44537 | N10: Yes | O10: 46363 | Q10: 45998 | R10: No | T10: Expiration Mail: certificate reaches expiration date soon
A11: PWG Certificate | B11: Adoucisseur PWG France Wave | C11: 21 ACC LY 932 | D11: Wave | E11: Delta Water Engineering N.V. | F11: https://polletgroupintranet.sharepoint.com/:b:/s/PG_CORP_MKT/EXPHXt7U5U5CuN8k9kJMWegBadBr_rwCbsBmXFKKPBkuWA?e=d8JTje | G11: johan.lansens@pwg.be | H11: France | J11: Softeners | L11: ACS | M11: 44537 | N11: Yes | O11: 46363 | Q11: 45998 | R11: No | T11: Expiration Mail: certificate reaches expiration date soon
A12: PWG Certificate | B12: Adoucisseur PWG France CR2J Hydroline | C12: 21 ACC LY 933 | D12: CR2J Hydroline | E12: Delta Water Engineering N.V. | F12: https://polletgroupintranet.sharepoint.com/:b:/s/PG_CORP_MKT/ERrIvckYu0FOg3orLM41v3wB4nEfbWJX6UNZXwuKm5Y-og?e=vBcxnk | G12: johan.lansens@pwg.be | H12: France | J12: Softeners | L12: ACS | M12: 44537 | N12: Yes | O12: 46363 | Q12: 45998 | R12: No | T12: Expiration Mail: certificate reaches expiration date soon
A13: PWG Customer Certificate | B13: Adoucisseur Sotco Ozeo | C13: 21 ACC LY 934 | D13: Sotco Ozeo | E13: Delta Water Engineering N.V. | F13: https://polletgroupintranet.sharepoint.com/:b:/s/PG_CORP_MKT/Ed8O58HIk11Am0fLmNUMF4EBFhR5t2RjZHPeYlu70TSE5Q?e=sON5BO | G13: johan.lansens@pwg.be | H13: France | J13: Softeners | L13: ACS | M13: 44537 | N13: Yes | O13: 46363 | Q13: 45998 | R13: No | T13: Expiration Mail: certificate reaches expiration date soon
A14: PWG Certificate | B14: Adoucisseur PWG France Pallas NES | C14: 21 ACC LY 935 | D14: Pallas NES | E14: Delta Water Engineering N.V. | F14: https://polletgroupintranet.sharepoint.com/:b:/s/PG_CORP_MKT/EZmf0x03BmNIoTR6bWBL-PwBrw5shB12Eo6prp5cLMyiig?e=KbWc96 | G14: johan.lansens@pwg.be | H14: France | J14: Softeners | L14: ACS | M14: 44537 | N14: Yes | O14: 46363 | Q14: 45998 | R14: No | T14: Expiration Mail: certificate reaches expiration date soon
A15: PWG Certificate | B15: Softeners Delta Simplex & Delta Duplex | C15: 461/2021 Swedish Type Approval 1773 | D15: SIMPLEX 3L DSO-100 Delta Simplex 3L DHSO-100-M Hydrosoft 100M DHSO-100-B Hydrosoft 100B DHSO-100-BS Hydrosoft 100BS DTSO-100-M Talent 100M DTSO-100-B Talent 100B DTSO-100-BS Talent 100BS DUPLEX 3L DSO-200 Delta Duplex 3L DHSO-200-M Hydrosoft 200M DHSO-200-B Hydrosoft 200B DHSO-200-BL Hydrosoft 200BL DTSO-200-M Talent 200M DTSO-200-B Talent 200B DTSO-200-BL Talent 200BL | E15: Delta Water Engineering N.V. | F15: https://polletgroupintranet.sharepoint.com/:b:/s/PG_CORP_MKT/EecXVayrwpZDs3c9q2VKTEYBi4m_2USZ-h-qXNxuuUMCMw?e=hGVfQp; https://polletgroupintranet.sharepoint.com/:b:/s/PG_CORP_MKT/EQkk5Z4H5AdOvaDORtNe9ukBuaC6K8qwCFNEh5-1Bybefg?e=GQ0AAf | G15: johan.lansens@pwg.be | H15: Sweden; Norway; Denmark | J15: Softeners | L15: Swedish type approval (rise) | M15: 44540 | N15: Yes | O15: 46365 | Q15: 46000 | R15: No | T15: Expiration Mail: certificate reaches expiration date soon
A16: Supplier Certifcate | B16: Softeners Runxin Residental Directive 2011/65/EU | C16: ICR Polska/VC/HL211204 | D16: Product type: Residential softener RL-R30, RL-R50, RL-R55, RL-R60, RL-R70, RL-R80, RL-R90, RL-R100, RL-R105, RL-R110, RL-R115, RL-R120, RL-R150, RL-R200, RL-R250, RL-R300, RL-S30, RL-S50, RL-S55, RL-S60, RL-S70, RL-S80, RL-S90, RL-S100, RL-S105, RL-S110, RL-S115, RL-S120, RL-S150, RL-S200, RL-S250, RL-S300 | E16: PWG N.V. | F16: https://polletgroupintranet.sharepoint.com/:b:/s/PG_CORP_MKT/EZ8Zl0YKIstLrxlSBJRjt7oBYfPnabOJR0Ok3dNync7p-A?e=0syCZZ | G16: johan.lansens@pwg.be | H16: European Union | J16: Softeners | L16: CE | M16: 44544 | N16: Yes | O16: 46369 | Q16: 46004 | R16: No | T16: Expiration Mail: certificate reaches expiration date soon
A17: Supplier Certifcate | B17: Filters Runxin Backwashable Disk Prefilter Directives 2014/35/EU and 2014/30/EU | C17: ICR Polska/VC/HL211206 | D17: Product types: Backwashable Disk Prefilter RL-Q01, RL-Q02, RL-Q03, RL-Q04, RL-Q05, RL-Q06, RL-Q07, RL-Q08, RL-Q09 | E17: PWG N.V. | F17: https://polletgroupintranet.sharepoint.com/:b:/s/PG_CORP_MKT/EQ3qZhtza1tGuNcM8eZ4y0kB8PZCzr8vuLvNBjhP_-Mvnw?e=XMdi9G | G17: johan.lansens@pwg.be | H17: European Union | J17: Filters and components | L17: CE | M17: 44552 | N17: Yes | O17: 46377 | Q17: 46012 | R17: No | T17: Expiration Mail: certificate reaches expiration date soon
A18: Supplier Certifcate | B18: Filters Runxin Backwashable Disk Prefilter Directives 2011/65/EU | C18: ICR Polska/VC/HL211207 | D18: Product types: Backwashable Disk Prefilters RL-Q01, RL-Q02, RL-Q03, RL-Q04, RL-Q05, RL-Q06, RL-Q07, RL-Q08, RL-Q09 | E18: PWG N.V. | F18: https://polletgroupintranet.sharepoint.com/:b:/s/PG_CORP_MKT/ETkz0Vv9FVJLnK09-Ze1lu8BDH-nym1iAJIVzB3ZcpULuA?e=PaQtMQ | G18: johan.lansens@pwg.be | H18: European Union | J18: Filters and components | L18: CE | M18: 44552 | N18: Yes | O18: 46377 | Q18: 46012 | R18: No | T18: Expiration Mail: certificate reaches expiration date soon
A19: Supplier Certifcate | B19: Pressure vessels Canature 4in | C19: 21 ACC LY 695 | D19: Pressure Vessel 4" 3072 Pressure Vessel 4"-4" 3072 Pressure Vessel 4"-4" 3672 | E19: PWG France | F19: https://polletgroupintranet.sharepoint.com/:b:/s/PG_CORP_MKT/EXbv0PSWtZJOv3M-b6tDS2UBnHBLoStWFxeOGqHYmBe_lQ?e=Wryusc | G19: johan.lansens@pwg.be | H19: France | J19: Composite pressure vessels | L19: ACS | M19: 44578 | N19: Yes | O19: 46404 | R19: No
A20: Supplier Certifcate | B20: Pressure vessels Canature 6 flange | C20: 21 MAT LY 167 | D20: Nom(s) commercial(aux) du produit fini / Pressure Vessel 6"-6" 3072 Pressure Vessel 6"-6" 3672 Pressure Vessel 6"-6" 4272 Pressure Vessel 6"-6" 4872 Pressure Vessel 6"-6" 5872 Pressure Vessel 6"-6" 6367 Pressure Vessel 6"-6" 6386 | E20: PWG France | F20: https://polletgroupintranet.sharepoint.com/:b:/s/PG_CORP_MKT/EUkZlodv-11Ks44EWGKIFeUBHX1Emv-tRYzRHqC7p-_p4w?e=2LQeZU | G20: johan.lansens@pwg.be | H20: France | J20: Composite pressure vessels | L20: ACS | M20: 44578 | N20: Yes | O20: 46404 | R20: No
A21: Supplier Certifcate | B21: PE/TUBE Reliance Worldwide Corporation Tube LLDPE Naturel | C21: 22 MAT NY 108 | D21: Tube/Pipe polyethylenee PE 240cm2 / L Naturel | E21: PWG France | F21: https://polletgroupintranet.sharepoint.com/:b:/s/PG_CORP_MKT/EU0jndonOCpPhat4YeSzoD4BbRUAccrSh8YQKEBz663Kzg?e=YI3nA0 | G21: johan.lansens@pwg.be | H21: France | J21: Tubes/Pipes | L21: ACS | M21: 44869 | N21: Yes | O21: 46446 | Q21: 46081 | R21: No | T21: Expiration Mail: certificate reaches expiration date soon
A22: PWG Certificate | B22: ISO9001 TES DIN EN ISO9001:2015 | C22: 73 100 7202 | D22: Scope: Technical advice and services in the sale of water treatment systems and their components. | E22: TES Water Treatment GmbH | F22: https://polletgroupintranet.sharepoint.com/:b:/s/PG_CORP_MKT/EanSXn6Yc2xNv2BVMpqNeikBPR8L1vA9A1Tc9Yg2s7pzuA?e=SdCG3x | G22: johan.lansens@pwg.be | H22: Other | J22: ISO | L22: ISO | M22: 45409 | N22: Yes | O22: 46503 | Q22: 46138 | R22: No | T22: Expiration Mail: certificate reaches expiration date soon
A23: Supplier Certifcate | B23: Resin Pure PC002 | C23: D-22-008495-31 | D23: Pure Resin PC002 | E23: PWG N.V. | F23: https://polletgroupintranet.sharepoint.com/:f:/s/PG_CORP_MKT/EiakZRxZ4HZHl4oBPlkksqYBGxRbs0OX-9w2BsoeI8n0uA?e=b4NNEs | G23: johan.lansens@pwg.be | H23: European Union | J23: ION exchange resins | L23: ACS | M23: 44662 | N23: Yes | O23: 46507 | R23: No
A24: Supplier Certifcate | B24: Resin Pure PC002 | C24: D-22-008495-31 | D24: Pure Resin PC002 | E24: PWG N.V. | F24: https://polletgroupintranet.sharepoint.com/:f:/s/PG_CORP_MKT/EhDsFgiY4bxGi6g_5kw-7KoBUxYh_5qoUlbicSozom-ySw?e=KWdehN | G24: johan.lansens@pwg.be | H24: European Union | J24: ION exchange resins | L24: RESAP | M24: 44662 | N24: Yes | O24: 46507 | R24: No
A25: PWG Certificate | B25: =IF(Table6[[#This Row],[Certification No.]]<>"",Table6[[#This Row],[Certification No.]],"") -> 2205103 | C25: 2205103 | D25: L8 L12 L22 L41 L57 L79 H15 H38 H93 H95 H151 UV DISINFECTION UNIT | E25: Wycombe Water Ltd. | F25: https://polletgroupintranet.sharepoint.com/:b:/s/PG_CORP_MKT/EUljUe9KtmVLlFpM-M0lXYwBQ1abPrxX0ed5Mv9S58erjw?e=CdlDWX | G25: johan.lansens@pwg.be | H25: United Kingdom | J25: UV | L25: WRAS | M25: 44682 | N25: Yes | O25: 46508 | R25: No
A26: Supplier Certifcate | B26: Joint/O-ring Joreau Elastomeres Melanges 2875N | C26: 22 CLP NY 026 | D26: Joint de diametre inferieur a 63mm EPDM Noir | E26: PWG France | F26: https://polletgroupintranet.sharepoint.com/:b:/s/PG_CORP_MKT/EecvCbhkjRhAiB_U5Z33r0YBlpBb-L8fyGaA3lN4WH9n4A?e=eLL578 | G26: johan.lansens@pwg.be | H26: France | J26: Other | L26: ACS | M26: 44739 | N26: Yes | O26: 46565 | Q26: 46200 | R26: No | T26: Expiration Mail: certificate reaches expiration date soon
A27: Supplier Certifcate | B27: PE/TUBE Reliance Worldwide Corporation Tube LLDPE Bleu | C27: 22 MAT NY 110 | D27: Tube/Pipe polyethylenee PE 240cm2 / L Bleu | E27: PWG France | F27: https://polletgroupintranet.sharepoint.com/:b:/s/PG_CORP_MKT/EaGNgxUGUqBGvCpjAY2M9dMBBlKnkpQeYl4Z-i-2Hl53YQ?e=fX1oWw | G27: johan.lansens@pwg.be | H27: France | J27: Tubes/Pipes | L27: ACS | M27: 44869 | N27: Yes | O27: 46581 | Q27: 46216 | R27: No | T27: Expiration Mail: certificate reaches expiration date soon
A28: Supplier Certifcate | B28: PE/TUBE Reliance Worldwide Corporation Tube LLDPE Rouge | C28: 22 MAT NY 111 | D28: Tube/Pipe polyethylenee PE 240cm2 / L Rouge | E28: PWG France | F28: https://polletgroupintranet.sharepoint.com/:b:/s/PG_CORP_MKT/EWgCor2yLxtBqo0-EoSKXUABEu863z_UVEl06oNDVW6UBw?e=tQegge | G28: johan.lansens@pwg.be | H28: France | J28: Tubes/Pipes | L28: ACS | M28: 44869 | N28: Yes | O28: 46581 | Q28: 46247 | R28: No | T28: Expiration Mail: certificate reaches expiration date soon
A29: PWG Certificate | B29: Softeners Delta Hydro @ Home | C29: K109795/03 | D29: Hydro @ Home - Simplex 3L Hydrosoft DSHO-100-M Hydrosoft DHSO-100-B Hydrosoft DHSO-100-BS Hydro@Home - Duplex 3L Hydrosoft DHSO-200-M Hydrosoft DHSO-200-B Hydrosoft DHSO-200-BL Hydrosoft DHSO-200-BLS Talent - Simplex 3L DTSO-100-M DTSO-100-B DTSO-100-BS Talent - Duplex 3L DTSO-200-M DTSO-200-B DTSO-200-BL DTSO-200-BLS | E29: Delta Water Engineering N.V. | F29: https://polletgroupintranet.sharepoint.com/:b:/s/PG_CORP_MKT/EaNlutVSshtAsgaggmvg-rIB7OxdxchNTPgwuY53ifvRPg?e=OAOVET; https://polletgroupintranet.sharepoint.com/:b:/s/PG_CORP_MKT/EbzjcYimoJhHhDd6kwOIR_8BrAPyMF3Bcl3l8LpD_nNERw?e=37UM0y | G29: johan.lansens@pwg.be | H29: European Union | J29: Softeners | L29: Dutch ATA (KIWA) | M29: 45413 | N29: Yes | O29: 46583 | Q29: 46218 | R29: No | T29: Expiration Mail: certificate reaches expiration date soon
A30: Supplier Certifcate | B30: Softeners Runxin Residental Directives 2014/35/EU and 2014/30/EU | C30: ICR Polska/VC/HL220802 | D30: Product types: Residential softeners RL-R30, RL-R50, RL-R55, RL-R60, RL-R70, RL-R80, RL-R90, RL-R100, RL-R105, RL-R110, RL-R115, RL-R120, RL-R150, RL-R200, RL-R250, RL-R300, RL-S30, RL-S50, RL-S55, RL-S60, RL-S70, RL-S80, RL-S90, RL-S100, RL-S105, RL-S110, RL-S115, RL-S120, RL-S150, RL-S200, RL-S250, RL-S300 | E30: PWG N.V. | F30: https://polletgroupintranet.sharepoint.com/:b:/s/PG_CORP_MKT/EYjO2leOScxOg56ZVrcVxWQBfG2YPPzbWtlfT_nrjj8TEg?e=HM2xH8 | G30: johan.lansens@pwg.be | H30: European Union; United Kingdom | J30: Softeners | L30: CE | M30: 44781 | N30: Yes | O30: 46606 | Q30: 46241 | R30: No | T30: Expiration Mail: certificate reaches expiration date soon
A31: Supplier Certifcate | B31: Valves Pentair Vannes Famille 5600 | C31: 22 ACC NY 282 | E31: PWG France | F31: https://polletgroupintranet.sharepoint.com/:b:/s/PG_CORP_MKT/ERIOr7ZgEXlBgo544VOh9QkBme9Q-17qXWsKbIDHsY9whw?e=oZmPEY | G31: johan.lansens@pwg.be | H31: France | J31: Valves - Fleck | L31: ACS | M31: 44796 | N31: Yes | O31: 46622 | Q31: 46257 | R31: No | T31: Expiration Mail: certificate reaches expiration date soon
A32: Supplier Certifcate | B32: PE/TUBE Reliance Worldwide Corporation Tube LLDPE Noir | C32: 22 MAT NY 109 | D32: Tube/Pipe polyethylenee PE 240cm2 / L Noir | E32: PWG France | F32: https://polletgroupintranet.sharepoint.com/:b:/s/PG_CORP_MKT/EXVqgX1xrfBLhqGZckBBq_0Bj8_dnGtCXa510Uynml5YkQ?e=R3umpn | G32: johan.lansens@pwg.be | H32: France | J32: Tubes/Pipes | L32: ACS | M32: 44869 | N32: Yes | O32: 46673 | Q32: 46308 | R32: No | T32: Expiration Mail: certificate reaches expiration date soon
A33: PWG Certificate | B33: Cartridge Wounded Pallas 10 to 40In | C33: 22 ACC LY 701 | E33: PWG N.V. | F33: https://polletgroupintranet.sharepoint.com/:b:/s/PG_CORP_MKT/EYqpFtOysWRKjIRyASZx5CwBTdaIzMdwTkP-VD8WtiIIyQ?e=WYWPCy | G33: johan.lansens@pwg.be | H33: France | J33: Filters and components | L33: ACS | M33: 44890 | N33: Yes | O33: 46716 | Q33: 46351 | R33: No | T33: Expiration Mail: certificate reaches expiration date soon
A34: Supplier Certifcate | B34: Resine Dupont Dowex Marathon Amberlite | C34: 22 RES LY 004 | D34: Dowex Marathon C(Na) Amberlite HPR1100 Na | E34: PWG France | F34: https://polletgroupintranet.sharepoint.com/:b:/s/PG_CORP_MKT/Efhp_jUlhXpHhDRf39_RyhcB6y-bELX18zORo-_jgJ3kqA?e=aLAmwp | G34: johan.lansens@pwg.be | H34: France | J34: ION exchange resins | L34: ACS | M34: 44902 | N34: Yes | O34: 46728 | Q34: 46363 | R34: No | T34: Expiration Mail: certificate reaches expiration date soon
A35: Supplier Certifcate | B35: Resine Dupont Taptec HCRSS FF Na | C35: 20 RES LY 005 | E35: PWG France | F35: https://polletgroupintranet.sharepoint.com/:b:/s/PG_CORP_MKT/ETIa0ej3UtlMvdIOQlSg4BEBlbl7mr4B7YSw682-wwFl4Q?e=zuFuQ4 | G35: johan.lansens@pwg.be | H35: France | J35: ION exchange resins | L35: ACS | M35: 44902 | N35: Yes | O35: 46728 | Q35: 46363 | R35: No | T35: Expiration Mail: certificate reaches expiration date soon
A36: Supplier Certifcate | B36: Resine Dupont Taptec SR1L Na & Amberlite SR1L Na | C36: 21 RES LY 001 | E36: PWG France | F36: https://polletgroupintranet.sharepoint.com/:b:/s/PG_CORP_MKT/Eb6ExO2VC-dBjoySeK0abqcByi0vx3gb2sJhovlrnLwihQ?e=FhkjBY | G36: johan.lansens@pwg.be | H36: France | J36: ION exchange resins | L36: ACS | M36: 44902 | N36: Yes | O36: 46728 | Q36: 46363 | R36: No | T36: Expiration Mail: certificate reaches expiration date soon
A37: PWG Certificate | B37: Filters Delta drinking water filter with activated carbon | C37: 043/2023 Swedish Type Approval 1837 | D37: Talent DPU-100 H@H Hydropure DPU-100 Delta DPU-100 | E37: Delta Water Engineering N.V. | F37: https://polletgroupintranet.sharepoint.com/:b:/s/PG_CORP_MKT/EfNDWmwdC4JIozJmimTiucUBYnV-8OXyJpQCIj_2FnQKDg?e=fejmpC; https://polletgroupintranet.sharepoint.com/:b:/s/PG_CORP_MKT/Ee0119ITJslHq-9HWRN-EB4BFa-VsFCQRYIK8LpMpd-syw?e=2Ki4XY | G37: johan.lansens@pwg.be | H37: Sweden; Denmark; Norway | J37: Filters and components | L37: Swedish type approval (rise) | M37: 44977 | N37: Yes | O37: 46802 | Q37: 46437 | R37: No | T37: Expiration Mail: certificate reaches expiration date soon
A38: PWG Certificate | B38: Softeners Clack 3-4In & 1In Plastic | C38: KIWA-23-DW-10335-1 | D38: Containing Structural Pressure Vessels - 2,5" Inlet - 8,8 L to 103,1 L Containing 3/4" & 1" Plastic Male BSPT Fittings - V3007-06-KTW or V3007-14-KTW Containing V3006-KTW Bypass Containing Pallas Riser Tube Containing GBO Upper Screen Containing GBU Lower Screen Clack 1" valve | E38: Suko NV | F38: https://polletgroupintranet.sharepoint.com/:b:/s/PG_CORP_MKT/Eb_gqB0jxG1KvhUPUpmmMVIBuCVhaDT9SMWYKV8aTxspjg?e=1DtKmv | G38: johan.lansens@pwg.be | H38: Germany | J38: Softeners | L38: KTW-UBA | M38: 45370 | N38: Yes | O38: 46820 | Q38: 46454 | R38: No | T38: Expiration Mail: certificate reaches expiration date soon
A39: PWG Certificate | B39: Adoucissuer Clack WR 2In | C39: 23 ACC LY 061 | E39: Suko NV | F39: https://polletgroupintranet.sharepoint.com/:b:/s/PG_CORP_MKT/Ecn1egFW-mJOlcWsNsCwwqgBZXYkau2I0hCAm6GT6hHF7w?e=RjPfdG | G39: johan.lansens@pwg.be | H39: France | J39: Softeners | L39: ACS | M39: 45106 | N39: Yes | O39: 46896 | Q39: 46896 | R39: No | T39: Expiration Mail: certificate reaches expiration date soon
A40: PWG Certificate | B40: Adoucisseur Clack WR 2In QC | C40: 23 ACC LY 062 | E40: Suko NV | F40: https://polletgroupintranet.sharepoint.com/:b:/s/PG_CORP_MKT/ETcLb35DeflPuwN6Wgr-DmEBfKN4W65kykOFhbZy2ktM8g?e=OHPrz8 | G40: johan.lansens@pwg.be | H40: France | J40: Softeners | L40: ACS | M40: 45106 | N40: Yes | O40: 46896 | Q40: 46530 | R40: No | T40: Expiration Mail: certificate reaches expiration date soon
...

Sheet Certificates
B1: Red color indicates certificates that are expired. | G1: If you have any questions, feedback or information regarding certificates,
B2: Orange color indicates certificates that will expire within 180days. | G2: please contact pawel.oslislok@pwg.be or johan.lansens@pwg.be
B4: Expiration date | C4: Renewal in progress? | D4: Link to cerfiticate | E4: Certificate Owner | F4: Responsible Company | G4: Index Number/Title | H4: Certification No. | I4: Product category | J4: Type of certificate | K4: Content of Certificate | L4: Applicable in following regions
B5: =IF(Table6[[#This Row],[Expiration date of certificate is]]<>"",Table6[[#This Row],[Expiration date of certificate is]],"") -> 45436 | C5: =IF(Table6[[#This Row],[Renewal certificate requested?]]<>"",Table6[[#This Row],[Renewal certificate requested?]],"") -> No | D5: =IF(Table6[[#This Row],[Download the PDF of the certificate here]]<>"", HYPERLINK(Table6[[#This Row],[Download the PDF of the certificate here]],"Link"),"") -> Link | E5: =IF(Table6[[#This Row],[Certificate Owner]]<>"",Table6[[#This Row],[Certificate Owner]],"") -> PWG Certificate | F5: =IF(Table6[[#This Row],[Responsible Company]]<>"",Table6[[#This Row],[Responsible Company]],"") -> Suko NV | G5: =IF(Table6[[#This Row],[Index Number/Title]]<>"",Table6[[#This Row],[Index Number/Title]],"") -> Adoucisseur Clack PI | H5: =IF(Table6[[#This Row],[Certification No.]]<>"",Table6[[#This Row],[Certification No.]],"") -> 17 ACC LY 608 | I5: =IF(Table6[[#This Row],[Product category]]<>"",Table6[[#This Row],[Product category]],"") -> Softeners | J5: =IF(Table6[[#This Row],[Type of certificate]]<>"",Table6[[#This Row],[Type of certificate]],"") -> ACS | K5: =IF(Table6[[#This Row],[Content of Certificate]]<>"",Table6[[#This Row],[Content of Certificate]],"") | L5: =IF(Table6[[#This Row],[Applicable in following countries and continents]]<>"",Table6[[#This Row],[Applicable in following countries and continents]],"") -> France
B6: =IF(Table6[[#This Row],[Expiration date of certificate is]]<>"",Table6[[#This Row],[Expiration date of certificate is]],"") -> 45436 | C6: =IF(Table6[[#This Row],[Renewal certificate requested?]]<>"",Table6[[#This Row],[Renewal certificate requested?]],"") -> No | D6: =IF(Table6[[#This Row],[Download the PDF of the certificate here]]<>"", HYPERLINK(Table6[[#This Row],[Download the PDF of the certificate here]],"Link"),"") -> Link | E6: =IF(Table6[[#This Row],[Certificate Owner]]<>"",Table6[[#This Row],[Certificate Owner]],"") -> PWG Certificate | F6: =IF(Table6[[#This Row],[Responsible Company]]<>"",Table6[[#This Row],[Responsible Company]],"") -> Suko NV | G6: =IF(Table6[[#This Row],[Index Number/Title]]<>"",Table6[[#This Row],[Index Number/Title]],"") -> Adoucisseur Clack WR 1.25In | H6: =IF(Table6[[#This Row],[Certification No.]]<>"",Table6[[#This Row],[Certification No.]],"") -> 17 ACC LY 610 | I6: =IF(Table6[[#This Row],[Product category]]<>"",Table6[[#This Row],[Product category]],"") -> Softeners | J6: =IF(Table6[[#This Row],[Type of certificate]]<>"",Table6[[#This Row],[Type of certificate]],"") -> ACS | K6: =IF(Table6[[#This Row],[Content of Certificate]]<>"",Table6[[#This Row],[Content of Certificate]],"") | L6: =IF(Table6[[#This Row],[Applicable in following countries and continents]]<>"",Table6[[#This Row],[Applicable in following countries and continents]],"") -> France
B7: =IF(Table6[[#This Row],[Expiration date of certificate is]]<>"",Table6[[#This Row],[Expiration date of certificate is]],"") -> 45436 | C7: =IF(Table6[[#This Row],[Renewal certificate requested?]]<>"",Table6[[#This Row],[Renewal certificate requested?]],"") -> No | D7: =IF(Table6[[#This Row],[Download the PDF of the certificate here]]<>"", HYPERLINK(Table6[[#This Row],[Download the PDF of the certificate here]],"Link"),"") -> Link | E7: =IF(Table6[[#This Row],[Certificate Owner]]<>"",Table6[[#This Row],[Certificate Owner]],"") -> PWG Certificate | F7: =IF(Table6[[#This Row],[Responsible Company]]<>"",Table6[[#This Row],[Responsible Company]],"") -> Suko NV | G7: =IF(Table6[[#This Row],[Index Number/Title]]<>"",Table6[[#This Row],[Index Number/Title]],"") -> Adoucisseur Clack WR 1In | H7: =IF(Table6[[#This Row],[Certification No.]]<>"",Table6[[#This Row],[Certification No.]],"") -> 17 ACC LY 609 | I7: =IF(Table6[[#This Row],[Product category]]<>"",Table6[[#This Row],[Product category]],"") -> Softeners | J7: =IF(Table6[[#This Row],[Type of certificate]]<>"",Table6[[#This Row],[Type of certificate]],"") -> ACS | K7: =IF(Table6[[#This Row],[Content of Certificate]]<>"",Table6[[#This Row],[Content of Certificate]],"") | L7: =IF(Table6[[#This Row],[Applicable in following countries and continents]]<>"",Table6[[#This Row],[Applicable in following countries and continents]],"") -> France
B8: =IF(Table6[[#This Row],[Expiration date of certificate is]]<>"",Table6[[#This Row],[Expiration date of certificate is]],"") -> 46330 | C8: =IF(Table6[[#This Row],[Renewal certificate requested?]]<>"",Table6[[#This Row],[Renewal certificate requested?]],"") -> No | D8: =IF(Table6[[#This Row],[Download the PDF of the certificate here]]<>"", HYPERLINK(Table6[[#This Row],[Download the PDF of the certificate here]],"Link"),"") -> Link | E8: =IF(Table6[[#This Row],[Certificate Owner]]<>"",Table6[[#This Row],[Certificate Owner]],"") -> Supplier Certifcate | F8: =IF(Table6[[#This Row],[Responsible Company]]<>"",Table6[[#This Row],[Responsible Company]],"") -> PWG France | G8: =IF(Table6[[#This Row],[Index Number/Title]]<>"",Table6[[#This Row],[Index Number/Title]],"") -> Filters Cintropur NW18 to 75 | H8: =IF(Table6[[#This Row],[Certification No.]]<>"",Table6[[#This Row],[Certification No.]],"") -> 21 ACC LY 752 | I8: =IF(Table6[[#This Row],[Product category]]<>"",Table6[[#This Row],[Product category]],"") -> Filters and components | J8: =IF(Table6[[#This Row],[Type of certificate]]<>"",Table6[[#This Row],[Type of certificate]],"") -> ACS | K8: =IF(Table6[[#This Row],[Content of Certificate]]<>"",Table6[[#This Row],[Content of Certificate]],"") -> Cintropur NW 18 to 75 | L8: =IF(Table6[[#This Row],[Applicable in following countries and continents]]<>"",Table6[[#This Row],[Applicable in following countries and continents]],"") -> France
B9: =IF(Table6[[#This Row],[Expiration date of certificate is]]<>"",Table6[[#This Row],[Expiration date of certificate is]],"") -> 46363 | C9: =IF(Table6[[#This Row],[Renewal certificate requested?]]<>"",Table6[[#This Row],[Renewal certificate requested?]],"") -> No | D9: =IF(Table6[[#This Row],[Download the PDF of the certificate here]]<>"", HYPERLINK(Table6[[#This Row],[Download the PDF of the certificate here]],"Link"),"") -> Link | E9: =IF(Table6[[#This Row],[Certificate Owner]]<>"",Table6[[#This Row],[Certificate Owner]],"") -> PWG Certificate | F9: =IF(Table6[[#This Row],[Responsible Company]]<>"",Table6[[#This Row],[Responsible Company]],"") -> Delta Water Engineering N.V. | G9: =IF(Table6[[#This Row],[Index Number/Title]]<>"",Table6[[#This Row],[Index Number/Title]],"") -> Adoucisseur Delta 3L Simplex and Duplex | H9: =IF(Table6[[#This Row],[Certification No.]]<>"",Table6[[#This Row],[Certification No.]],"") -> 21 ACC LY 098 | I9: =IF(Table6[[#This Row],[Product category]]<>"",Table6[[#This Row],[Product category]],"") -> Softeners | J9: =IF(Table6[[#This Row],[Type of certificate]]<>"",Table6[[#This Row],[Type of certificate]],"") -> ACS | K9: =IF(Table6[[#This Row],[Content of Certificate]]<>"",Table6[[#This Row],[Content of Certificate]],"") -> Hydro @ Home - range Talent - range Delta 3L Simplex Delta 3L Duplex | L9: =IF(Table6[[#This Row],[Applicable in following countries and continents]]<>"",Table6[[#This Row],[Applicable in following countries and continents]],"") -> France
B10: =IF(Table6[[#This Row],[Expiration date of certificate is]]<>"",Table6[[#This Row],[Expiration date of certificate is]],"") -> 46363 | C10: =IF(Table6[[#This Row],[Renewal certificate requested?]]<>"",Table6[[#This Row],[Renewal certificate requested?]],"") -> No | D10: =IF(Table6[[#This Row],[Download the PDF of the certificate here]]<>"", HYPERLINK(Table6[[#This Row],[Download the PDF of the certificate here]],"Link"),"") -> Link | E10: =IF(Table6[[#This Row],[Certificate Owner]]<>"",Table6[[#This Row],[Certificate Owner]],"") -> PWG Customer Certificate | F10: =IF(Table6[[#This Row],[Responsible Company]]<>"",Table6[[#This Row],[Responsible Company]],"") -> Delta Water Engineering N.V. | G10: =IF(Table6[[#This Row],[Index Number/Title]]<>"",Table6[[#This Row],[Index Number/Title]],"") -> Adoucisseur Aqua 2000 Excell | H10: =IF(Table6[[#This Row],[Certification No.]]<>"",Table6[[#This Row],[Certification No.]],"") -> 21 ACC LY 931 | I10: =IF(Table6[[#This Row],[Product category]]<>"",Table6[[#This Row],[Product category]],"") -> Softeners | J10: =IF(Table6[[#This Row],[Type of certificate]]<>"",Table6[[#This Row],[Type of certificate]],"") -> ACS | K10: =IF(Table6[[#This Row],[Content of Certificate]]<>"",Table6[[#This Row],[Content of Certificate]],"") -> Excell Hydro @ Home | L10: =IF(Table6[[#This Row],[Applicable in following countries and continents]]<>"",Table6[[#This Row],[Applicable in following countries and continents]],"") -> France
B11: =IF(Table6[[#This Row],[Expiration date of certificate is]]<>"",Table6[[#This Row],[Expiration date of certificate is]],"") -> 46363 | C11: =IF(Table6[[#This Row],[Renewal certificate requested?]]<>"",Table6[[#This Row],[Renewal certificate requested?]],"") -> No | D11: =IF(Table6[[#This Row],[Download the PDF of the certificate here]]<>"", HYPERLINK(Table6[[#This Row],[Download the PDF of the certificate here]],"Link"),"") -> Link | E11: =IF(Table6[[#This Row],[Certificate Owner]]<>"",Table6[[#This Row],[Certificate Owner]],"") -> PWG Certificate | F11: =IF(Table6[[#This Row],[Responsible Company]]<>"",Table6[[#This Row],[Responsible Company]],"") -> Delta Water Engineering N.V. | G11: =IF(Table6[[#This Row],[Index Number/Title]]<>"",Table6[[#This Row],[Index Number/Title]],"") -> Adoucisseur PWG France Wave | H11: =IF(Table6[[#This Row],[Certification No.]]<>"",Table6[[#This Row],[Certification No.]],"") -> 21 ACC LY 932 | I11: =IF(Table6[[#This Row],[Product category]]<>"",Table6[[#This Row],[Product category]],"") -> Softeners | J11: =IF(Table6[[#This Row],[Type of certificate]]<>"",Table6[[#This Row],[Type of certificate]],"") -> ACS | K11: =IF(Table6[[#This Row],[Content of Certificate]]<>"",Table6[[#This Row],[Content of Certificate]],"") -> Wave | L11: =IF(Table6[[#This Row],[Applicable in following countries and continents]]<>"",Table6[[#This Row],[Applicable in following countries and continents]],"") -> France
B12: =IF(Table6[[#This Row],[Expiration date of certificate is]]<>"",Table6[[#This Row],[Expiration date of certificate is]],"") -> 46363 | C12: =IF(Table6[[#This Row],[Renewal certificate requested?]]<>"",Table6[[#This Row],[Renewal certificate requested?]],"") -> No | D12: =IF(Table6[[#This Row],[Download the PDF of the certificate here]]<>"", HYPERLINK(Table6[[#This Row],[Download the PDF of the certificate here]],"Link"),"") -> Link | E12: =IF(Table6[[#This Row],[Certificate Owner]]<>"",Table6[[#This Row],[Certificate Owner]],"") -> PWG Certificate | F12: =IF(Table6[[#This Row],[Responsible Company]]<>"",Table6[[#This Row],[Responsible Company]],"") -> Delta Water Engineering N.V. | G12: =IF(Table6[[#This Row],[Index Number/Title]]<>"",Table6[[#This Row],[Index Number/Title]],"") -> Adoucisseur PWG France CR2J Hydroline | H12: =IF(Table6[[#This Row],[Certification No.]]<>"",Table6[[#This Row],[Certification No.]],"") -> 21 ACC LY 933 | I12: =IF(Table6[[#This Row],[Product category]]<>"",Table6[[#This Row],[Product category]],"") -> Softeners | J12: =IF(Table6[[#This Row],[Type of certificate]]<>"",Table6[[#This Row],[Type of certificate]],"") -> ACS | K12: =IF(Table6[[#This Row],[Content of Certificate]]<>"",Table6[[#This Row],[Content of Certificate]],"") -> CR2J Hydroline | L12: =IF(Table6[[#This Row],[Applicable in following countries and continents]]<>"",Table6[[#This Row],[Applicable in following countries and continents]],"") -> France
B13: =IF(Table6[[#This Row],[Expiration date of certificate is]]<>"",Table6[[#This Row],[Expiration date of certificate is]],"") -> 46363 | C13: =IF(Table6[[#This Row],[Renewal certificate requested?]]<>"",Table6[[#This Row],[Renewal certificate requested?]],"") -> No | D13: =IF(Table6[[#This Row],[Download the PDF of the certificate here]]<>"", HYPERLINK(Table6[[#This Row],[Download the PDF of the certificate here]],"Link"),"") -> Link | E13: =IF(Table6[[#This Row],[Certificate Owner]]<>"",Table6[[#This Row],[Certificate Owner]],"") -> PWG Customer Certificate | F13: =IF(Table6[[#This Row],[Responsible Company]]<>"",Table6[[#This Row],[Responsible Company]],"") -> Delta Water Engineering N.V. | G13: =IF(Table6[[#This Row],[Index Number/Title]]<>"",Table6[[#This Row],[Index Number/Title]],"") -> Adoucisseur Sotco Ozeo | H13: =IF(Table6[[#This Row],[Certification No.]]<>"",Table6[[#This Row],[Certification No.]],"") -> 21 ACC LY 934 | I13: =IF(Table6[[#This Row],[Product category]]<>"",Table6[[#This Row],[Product category]],"") -> Softeners | J13: =IF(Table6[[#This Row],[Type of certificate]]<>"",Table6[[#This Row],[Type of certificate]],"") -> ACS | K13: =IF(Table6[[#This Row],[Content of Certificate]]<>"",Table6[[#This Row],[Content of Certificate]],"") -> Sotco Ozeo | L13: =IF(Table6[[#This Row],[Applicable in following countries and continents]]<>"",Table6[[#This Row],[Applicable in following countries and continents]],"") -> France
B14: =IF(Table6[[#This Row],[Expiration date of certificate is]]<>"",Table6[[#This Row],[Expiration date of certificate is]],"") -> 46363 | C14: =IF(Table6[[#This Row],[Renewal certificate requested?]]<>"",Table6[[#This Row],[Renewal certificate requested?]],"") -> No | D14: =IF(Table6[[#This Row],[Download the PDF of the certificate here]]<>"", HYPERLINK(Table6[[#This Row],[Download the PDF of the certificate here]],"Link"),"") -> Link | E14: =IF(Table6[[#This Row],[Certificate Owner]]<>"",Table6[[#This Row],[Certificate Owner]],"") -> PWG Certificate | F14: =IF(Table6[[#This Row],[Responsible Company]]<>"",Table6[[#This Row],[Responsible Company]],"") -> Delta Water Engineering N.V. | G14: =IF(Table6[[#This Row],[Index Number/Title]]<>"",Table6[[#This Row],[Index Number/Title]],"") -> Adoucisseur PWG France Pallas NES | H14: =IF(Table6[[#This Row],[Certification No.]]<>"",Table6[[#This Row],[Certification No.]],"") -> 21 ACC LY 935 | I14: =IF(Table6[[#This Row],[Product category]]<>"",Table6[[#This Row],[Product category]],"") -> Softeners | J14: =IF(Table6[[#This Row],[Type of certificate]]<>"",Table6[[#This Row],[Type of certificate]],"") -> ACS | K14: =IF(Table6[[#This Row],[Content of Certificate]]<>"",Table6[[#This Row],[Content of Certificate]],"") -> Pallas NES | L14: =IF(Table6[[#This Row],[Applicable in following countries and continents]]<>"",Table6[[#This Row],[Applicable in following countries and continents]],"") -> France
B15: =IF(Table6[[#This Row],[Expiration date of certificate is]]<>"",Table6[[#This Row],[Expiration date of certificate is]],"") -> 46365 | C15: =IF(Table6[[#This Row],[Renewal certificate requested?]]<>"",Table6[[#This Row],[Renewal certificate requested?]],"") -> No | D15: =IF(Table6[[#This Row],[Download the PDF of the certificate here]]<>"", HYPERLINK(Table6[[#This Row],[Download the PDF of the certificate here]],"Link"),"") -> Link | E15: =IF(Table6[[#This Row],[Certificate Owner]]<>"",Table6[[#This Row],[Certificate Owner]],"") -> PWG Certificate | F15: =IF(Table6[[#This Row],[Responsible Company]]<>"",Table6[[#This Row],[Responsible Company]],"") -> Delta Water Engineering N.V. | G15: =IF(Table6[[#This Row],[Index Number/Title]]<>"",Table6[[#This Row],[Index Number/Title]],"") -> Softeners Delta Simplex & Delta Duplex | H15: =IF(Table6[[#This Row],[Certification No.]]<>"",Table6[[#This Row],[Certification No.]],"") -> 461/2021 Swedish Type Approval 1773 | I15: =IF(Table6[[#This Row],[Product category]]<>"",Table6[[#This Row],[Product category]],"") -> Softeners | J15: =IF(Table6[[#This Row],[Type of certificate]]<>"",Table6[[#This Row],[Type of certificate]],"") -> Swedish type approval (rise) | K15: =IF(Table6[[#This Row],[Content of Certificate]]<>"",Table6[[#This Row],[Content of Certificate]],"") -> SIMPLEX 3L DSO-100 Delta Simplex 3L DHSO-100-M Hydrosoft 100M DHSO-100-B Hydrosoft 100B DHSO-100-BS Hydrosoft 100BS DTSO-100-M Talent 100M DTSO-100-B Talent 100B DTSO-100-BS Talent 100BS DUPLEX 3L DSO-200 Delta Duplex 3L DHSO-200-M Hydrosoft 200M DHSO-200-B Hydrosoft 200B DHSO-200-BL Hydrosoft 200BL DTSO-200-M Talent 200M DTSO-200-B Talent 200B DTSO-200-BL Talent 200BL | L15: =IF(Table6[[#This Row],[Applicable in following countries and continents]]<>"",Table6[[#This Row],[Applicable in following countries and continents]],"") -> Sweden; Norway; Denmark
B16: =IF(Table6[[#This Row],[Expiration date of certificate is]]<>"",Table6[[#This Row],[Expiration date of certificate is]],"") -> 46369 | C16: =IF(Table6[[#This Row],[Renewal certificate requested?]]<>"",Table6[[#This Row],[Renewal certificate requested?]],"") -> No | D16: =IF(Table6[[#This Row],[Download the PDF of the certificate here]]<>"", HYPERLINK(Table6[[#This Row],[Download the PDF of the certificate here]],"Link"),"") -> Link | E16: =IF(Table6[[#This Row],[Certificate Owner]]<>"",Table6[[#This Row],[Certificate Owner]],"") -> Supplier Certifcate | F16: =IF(Table6[[#This Row],[Responsible Company]]<>"",Table6[[#This Row],[Responsible Company]],"") -> PWG N.V. | G16: =IF(Table6[[#This Row],[Index Number/Title]]<>"",Table6[[#This Row],[Index Number/Title]],"") -> Softeners Runxin Residental Directive 2011/65/EU | H16: =IF(Table6[[#This Row],[Certification No.]]<>"",Table6[[#This Row],[Certification No.]],"") -> ICR Polska/VC/HL211204 | I16: =IF(Table6[[#This Row],[Product category]]<>"",Table6[[#This Row],[Product category]],"") -> Softeners | J16: =IF(Table6[[#This Row],[Type of certificate]]<>"",Table6[[#This Row],[Type of certificate]],"") -> CE | K16: =IF(Table6[[#This Row],[Content of Certificate]]<>"",Table6[[#This Row],[Content of Certificate]],"") -> Product type: Residential softener RL-R30, RL-R50, RL-R55, RL-R60, RL-R70, RL-R80, RL-R90, RL-R100, RL-R105, RL-R110, RL-R115, RL-R120, RL-R150, RL-R200, RL-R250, RL-R300, RL-S30, RL-S50, RL-S55, RL-S60, RL-S70, RL-S80, RL-S90, RL-S100, RL-S105, RL-S110, RL-S115, RL-S120, RL-S150, RL-S200, RL-S250, RL-S300 | L16: =IF(Table6[[#This Row],[Applicable in following countries and continents]]<>"",Table6[[#This Row],[Applicable in following countries and continents]],"") -> European Union
