Workbook
Name Slicer_Certificate_Owner: #N/A
Name Slicer_Certificate_Owner1: #N/A
Name Slicer_Product_category: #N/A
Name Slicer_Product_category1: #N/A
Name Slicer_Responsible_Company: #N/A
Name Slicer_Responsible_Company1: #N/A
Name Slicer_Type_of_certificate: #N/A
Name Slicer_Type_of_certificate1: #N/A

Sheet OLD_Certificates
A1: Click here for more information ℹ️ | B1: Expiration date | C1: Link to cerfiticate | D1: Certificate Owner | E1: Responsible Company | F1: Index Number/Title | G1: Certification No. | H1: Product category | I1: Type of certificate | J1: Content of Certificate | K1: Applicable in following regions
B2: =IF(DATA!O6="","",DATA!O6) -> 45436 | C2: =IF(DATA!F6<>"", HYPERLINK(DATA!F6, "Link"), "") -> Link | D2: =DATA!A6 -> PWG Certificate | E2: =DATA!E6 -> Suko NV | F2: =DATA!B6 -> Adoucisseur Clack WR 1.25In | G2: =IF(DATA!C6="","",DATA!C6) -> 17 ACC LY 610 | H2: =DATA!J6 -> Softeners | I2: =DATA!L6 -> ACS | J2: =IF(DATA!D6="","",DATA!D6) | K2: =DATA!H6 -> France
B3: =IF(DATA!#REF!="","",DATA!#REF!) -> #REF! | C3: =IF(DATA!#REF!<>"", HYPERLINK(DATA!#REF!, "Link"), "") -> #REF! | D3: =DATA!#REF! -> #REF! | E3: =DATA!#REF! -> #REF! | F3: =DATA!#REF! -> #REF! | G3: =IF(DATA!#REF!="","",DATA!#REF!) -> #REF! | H3: =DATA!#REF! -> #REF! | I3: =DATA!#REF! -> #REF! | J3: =IF(DATA!#REF!="","",DATA!#REF!) -> #REF! | K3: =DATA!#REF! -> #REF!
B4: =IF(DATA!#REF!="","",DATA!#REF!) -> #REF! | C4: =IF(DATA!#REF!<>"", HYPERLINK(DATA!#REF!, "Link"), "") -> #REF! | D4: =DATA!#REF! -> #REF! | E4: =DATA!#REF! -> #REF! | F4: =DATA!#REF! -> #REF! | G4: =IF(DATA!#REF!="","",DATA!#REF!) -> #REF! | H4: =DATA!#REF! -> #REF! | I4: =DATA!#REF! -> #REF! | J4: =IF(DATA!#REF!="","",DATA!#REF!) -> #REF! | K4: =DATA!#REF! -> #REF!
B5: =IF(DATA!#REF!="","",DATA!#REF!) -> #REF! | C5: =IF(DATA!#REF!<>"", HYPERLINK(DATA!#REF!, "Link"), "") -> #REF! | D5: =DATA!#REF! -> #REF! | E5: =DATA!#REF! -> #REF! | F5: =DATA!#REF! -> #REF! | G5: =IF(DATA!#REF!="","",DATA!#REF!) -> #REF! | H5: =DATA!#REF! -> #REF! | I5: =DATA!#REF! -> #REF! | J5: =IF(DATA!#REF!="","",DATA!#REF!) -> #REF! | K5: =DATA!#REF! -> #REF!
B6: =IF(DATA!#REF!="","",DATA!#REF!) -> #REF! | C6: =IF(DATA!#REF!<>"", HYPERLINK(DATA!#REF!, "Link"), "") -> #REF! | D6: =DATA!#REF! -> #REF! | E6: =DATA!#REF! -> #REF! | F6: =DATA!#REF! -> #REF! | G6: =IF(DATA!#REF!="","",DATA!#REF!) -> #REF! | H6: =DATA!#REF! -> #REF! | I6: =DATA!#REF! -> #REF! | J6: =IF(DATA!#REF!="","",DATA!#REF!) -> #REF! | K6: =DATA!#REF! -> #REF!
B7: =IF(DATA!O67="","",DATA!O67) -> 47363 | C7: =IF(DATA!F67<>"", HYPERLINK(DATA!F67, "Link"), "") -> Link | D7: =DATA!A67 -> PWG Certificate | E7: =DATA!E67 -> CTA | F7: =DATA!B67 -> Softeners Clack Gamme 26 MCL100V | G7: =IF(DATA!C67="","",DATA!C67) -> 24 ACC LY 461 | H7: =DATA!J67 -> Softeners | I7: =DATA!L67 -> ACS | J7: =IF(DATA!D67="","",DATA!D67) -> MCL40V, MCL80V, MCL100V, MCL140V, MCL160V, MCL200V; MCL250V, MCL300V, MCL350V SCL105V, SCL145V, SCL165V, SCL205V, SCL255V, SCL305V, SCL505V, SCL755V SCL126V, SCL226V, SCL326V, SCL526V, SCL726V, SCL1026V, SCL1526V, SCL1726V, SCL2226V DCL126V, DCL226V, DCL326V, DCL526V, DCL726V, DCL1026V, DCL1526V, DCL1726V, DCL2226V FA08FAG, FA10FAG, FA12FAG, FA14FAG, FA08CHA, FA10CHA, FA12CHA, FA14CHA FA08CAL, FA10CAL, FA12CAL, FA14CAL | K7: =DATA!H67 -> France
B8: =IF(DATA!O39="","",DATA!O39) -> 46896 | C8: =IF(DATA!F39<>"", HYPERLINK(DATA!F39, "Link"), "") -> Link | D8: =DATA!A39 -> PWG Certificate | E8: =DATA!E39 -> Suko NV | F8: =DATA!B39 -> Adoucissuer Clack WR 2In | G8: =IF(DATA!C39="","",DATA!C39) -> 23 ACC LY 061 | H8: =DATA!J39 -> Softeners | I8: =DATA!L39 -> ACS | J8: =IF(DATA!D39="","",DATA!D39) | K8: =DATA!H39 -> France
B9: =IF(DATA!#REF!="","",DATA!#REF!) -> #REF! | C9: =IF(DATA!#REF!<>"", HYPERLINK(DATA!#REF!, "Link"), "") -> #REF! | D9: =DATA!#REF! -> #REF! | E9: =DATA!#REF! -> #REF! | F9: =DATA!#REF! -> #REF! | G9: =IF(DATA!#REF!="","",DATA!#REF!) -> #REF! | H9: =DATA!#REF! -> #REF! | I9: =DATA!#REF! -> #REF! | J9: =IF(DATA!#REF!="","",DATA!#REF!) -> #REF! | K9: =DATA!#REF! -> #REF!
B10: =IF(DATA!O25="","",DATA!O25) -> 46508 | C10: =IF(DATA!F25<>"", HYPERLINK(DATA!F25, "Link"), "") -> Link | D10: =DATA!A25 -> PWG Certificate | E10: =DATA!E25 -> Wycombe Water Ltd. | F10: =DATA!B25 -> 2205103 | G10: =IF(DATA!C25="","",DATA!C25) -> 2205103 | H10: =DATA!J25 -> UV | I10: =DATA!L25 -> WRAS | J10: =IF(DATA!D25="","",DATA!D25) -> L8 L12 L22 L41 L57 L79 H15 H38 H93 H95 H151 UV DISINFECTION UNIT | K10: =DATA!H25 -> United Kingdom
B11: =IF('Not used'!O4="","",'Not used'!O4) -> 45922 | C11: =IF('Not used'!F4<>"", HYPERLINK('Not used'!F4, "Link"), "") -> Link | D11: ='Not used'!A4 -> Supplier Certifcate | E11: ='Not used'!E4 -> PWG France | F11: ='Not used'!B4 -> Cartouches Atlas Filtri CA 4-10 SE | G11: =IF('Not used'!C4="","",'Not used'!C4) -> 20 ACC LY 235 | H11: ='Not used'!J4 -> Filters and components | I11: ='Not used'!L4 -> ACS | J11: =IF('Not used'!D4="","",'Not used'!D4) -> CA 4/5/7/10 SE SX/PB/BX | K11: ='Not used'!H4 -> France
B12: =IF(DATA!O3="","",DATA!O3) -> 45436 | C12: =IF(DATA!F3<>"", HYPERLINK(DATA!F3, "Link"), "") -> Link | D12: =DATA!A3 -> PWG Certificate | E12: =DATA!E3 -> Suko NV | F12: =DATA!B3 -> Adoucisseur Clack WR duplex 1In | G12: =IF(DATA!C3="","",DATA!C3) -> 17 ACC LY 611 | H12: =DATA!J3 -> Softeners | I12: =DATA!L3 -> ACS | J12: =IF(DATA!D3="","",DATA!D3) | K12: =DATA!H3 -> France
B13: =IF(DATA!O35="","",DATA!O35) -> 46728 | C13: =IF(DATA!F35<>"", HYPERLINK(DATA!F35, "Link"), "") -> Link | D13: =DATA!A35 -> Supplier Certifcate | E13: =DATA!E35 -> PWG France | F13: =DATA!B35 -> Resine Dupont Taptec HCRSS FF Na | G13: =IF(DATA!C35="","",DATA!C35) -> 20 RES LY 005 | H13: =DATA!J35 -> ION exchange resins | I13: =DATA!L35 -> ACS | J13: =IF(DATA!D35="","",DATA!D35) | K13: =DATA!H35 -> France
B14: =IF(DATA!O4="","",DATA!O4) -> 45436 | C14: =IF(DATA!F4<>"", HYPERLINK(DATA!F4, "Link"), "") -> Link | D14: =DATA!A4 -> PWG Certificate | E14: =DATA!E4 -> Suko NV | F14: =DATA!B4 -> Adoucisseur Clack 1In | G14: =IF(DATA!C4="","",DATA!C4) -> 17 ACC LY 607 | H14: =DATA!J4 -> Softeners | I14: =DATA!L4 -> ACS | J14: =IF(DATA!D4="","",DATA!D4) | K14: =DATA!H4 -> France
B15: =IF('Not used'!O14="","",'Not used'!O14) -> 45787 | C15: =IF('Not used'!F14<>"", HYPERLINK('Not used'!F14, "Link"), "") -> Link | D15: ='Not used'!A14 -> Supplier Certifcate | E15: ='Not used'!E14 -> PWG N.V. | F15: ='Not used'!B14 -> Resin Sunresin SEPLITE Monojet SC3100 (2x mod) | G15: =IF('Not used'!C14="","",'Not used'!C14) -> SO 009/20 | H15: ='Not used'!J14 -> ION exchange resins | I15: ='Not used'!L14 -> Other | J15: =IF('Not used'!D14="","",'Not used'!D14) -> SEPLITE Monojet SC3100 (2x mod) | K15: ='Not used'!H14 -> European Union
B16: =IF(DATA!#REF!="","",DATA!#REF!) -> #REF! | C16: =IF(DATA!#REF!<>"", HYPERLINK(DATA!#REF!, "Link"), "") -> #REF! | D16: =DATA!#REF! -> #REF! | E16: =DATA!#REF! -> #REF! | F16: =DATA!#REF! -> #REF! | G16: =IF(DATA!#REF!="","",DATA!#REF!) -> #REF! | H16: =DATA!#REF! -> #REF! | I16: =DATA!#REF! -> #REF! | J16: =IF(DATA!#REF!="","",DATA!#REF!) -> #REF! | K16: =DATA!#REF! -> #REF!
B17: =IF(DATA!#REF!="","",DATA!#REF!) -> #REF! | C17: =IF(DATA!#REF!<>"", HYPERLINK(DATA!#REF!, "Link"), "") -> #REF! | D17: =DATA!#REF! -> #REF! | E17: =DATA!#REF! -> #REF! | F17: =DATA!#REF! -> #REF! | G17: =IF(DATA!#REF!="","",DATA!#REF!) -> #REF! | H17: =DATA!#REF! -> #REF! | I17: =DATA!#REF! -> #REF! | J17: =IF(DATA!#REF!="","",DATA!#REF!) -> #REF! | K17: =DATA!#REF! -> #REF!
B18: =IF(DATA!O63="","",DATA!O63) -> 47206 | C18: =IF(DATA!F63<>"", HYPERLINK(DATA!F63, "Link"), "") -> Link | D18: =DATA!A63 -> PWG Certificate | E18: =DATA!E63 -> PWG France | F18: =DATA!B63 -> Softeners Vanne 79 or 105 | G18: =IF(DATA!C63="","",DATA!C63) -> 24 ACC LY 204 | H18: =DATA!J63 -> Softeners | I18: =DATA!L63 -> ACS | J18: =IF(DATA!D63="","",DATA!D63) -> Softeners Vanne 79 or 105 | K18: =DATA!H63 -> France
B19: =IF(DATA!O58="","",DATA!O58) -> 47078 | C19: =IF(DATA!F58<>"", HYPERLINK(DATA!F58, "Link"), "") -> Link | D19: =DATA!A58 -> PWG Certificate | E19: =DATA!E58 -> Cappers | F19: =DATA!B58 -> Softeners Cappers Ino20 | G19: =IF(DATA!C58="","",DATA!C58) -> Swedish Type Approval TG 1856 | H19: =DATA!J58 -> Softeners | I19: =DATA!L58 -> Swedish type approval (rise) | J19: =IF(DATA!D58="","",DATA!D58) -> Components Supplier Model Valve Cappers Ino20 KTW series Pressure vessel Pentair 2,5" inlet 8,8 to 103,1 l Riser tube Pallas 1,05" Bottom distributor KSH GBU/GDU Connector Cappers Straight 3/4" or Straight 1" or elbowed 1" Optional Bypass Cappers Residential Bypass | K19: =DATA!H58 -> Sweden; Norway; Denmark
B20: =IF(DATA!O61="","",DATA!O61) -> 47137 | C20: =IF(DATA!F61<>"", HYPERLINK(DATA!F61, "Link"), "") -> Link | D20: =DATA!A61 -> Supplier Certifcate | E20: =DATA!E61 -> PWG N.V. | F20: =DATA!B61 -> Preassure vessels Noyi | G20: =IF(DATA!C61="","",DATA!C61) -> 23 ACS NY 557 | H20: =DATA!J61 -> Composite pressure vessels | I20: =DATA!L61 -> ACS | J20: =IF(DATA!D61="","",DATA!D61) -> RÉSERVOIR 5x13, 2.5"-8NPSM | K20: =DATA!H61 -> France
B21: =IF(DATA!O47="","",DATA!O47) -> 46944 | C21: =IF(DATA!F47<>"", HYPERLINK(DATA!F47, "Link"), "") -> Link | D21: =DATA!A47 -> Supplier Certifcate | E21: =DATA!E47 -> PWG France | F21: =DATA!B47 -> Pressure vessels Pentair Flanged Rotomolded Tanks C-XXYY-* | G21: =IF(DATA!C47="","",DATA!C47) -> 23 MAT LY 100 | H21: =DATA!J47 -> Composite pressure vessels | I21: =DATA!L47 -> ACS | J21: =IF(DATA!D47="","",DATA!D47) -> Nom(s) commercial(aux) du produit fini / Commercial name(s) of the finished product : C-xxyy -* Flanged Rotomolded Tanks What is Meaning / Range : C Product /Final use Commercial / Industrial xx External Diameter (in") From 14 to 36 yy Vessel Height (in") From 43 to 72 | K21: =DATA!H47 -> France
B22: =IF(DATA!O51="","",DATA!O51) -> 47006 | C22: =IF(DATA!F51<>"", HYPERLINK(DATA!F51, "Link"), "") -> Link | D22: =DATA!A51 -> Supplier Certifcate | E22: =DATA!E51 -> PWG N.V. | F22: =DATA!B51 -> SS Housings Bona Water Purification | G22: =IF(DATA!C51="","",DATA!C51) -> 17861/1/2025-CERT-01 | H22: =DATA!J51 -> Other | I22: =DATA!L51 -> CE | J22: =IF(DATA!D51="","",DATA!D51) -> Scope of equipment: RO Membrane housing, Cartridge filter housing, Bag filter housing, Media filter housing, Heat exchanger (Max PS 1000 PSI, fluid: water, max V=8000L, material: stainless steel) | K22: =DATA!H51 -> European Union
B23: =IF(DATA!O41="","",DATA!O41) -> 46896 | C23: =IF(DATA!F41<>"", HYPERLINK(DATA!F41, "Link"), "") -> Link | D23: =DATA!A41 -> PWG Certificate | E23: =DATA!E41 -> Suko NV | F23: =DATA!B41 -> Adoucisseur Clack WR 2In HF | G23: =IF(DATA!C41="","",DATA!C41) -> 23 ACC LY 063 | H23: =DATA!J41 -> Softeners | I23: =DATA!L41 -> ACS | J23: =IF(DATA!D41="","",DATA!D41) | K23: =DATA!H41 -> France
B24: =IF(DATA!O27="","",DATA!O27) -> 46581 | C24: =IF(DATA!F27<>"", HYPERLINK(DATA!F27, "Link"), "") -> Link | D24: =DATA!A27 -> Supplier Certifcate | E24: =DATA!E27 -> PWG France | F24: =DATA!B27 -> PE/TUBE Reliance Worldwide Corporation Tube LLDPE Bleu | G24: =IF(DATA!C27="","",DATA!C27) -> 22 MAT NY 110 | H24: =DATA!J27 -> Tubes/Pipes | I24: =DATA!L27 -> ACS | J24: =IF(DATA!D27="","",DATA!D27) -> Tube/Pipe polyethylenee PE 240cm2 / L Bleu | K24: =DATA!H27 -> France
B25: =IF(DATA!O38="","",DATA!O38) -> 46820 | C25: =IF(DATA!F38<>"", HYPERLINK(DATA!F38, "Link"), "") -> Link | D25: =DATA!A38 -> PWG Certificate | E25: =DATA!E38 -> Suko NV | F25: =DATA!B38 -> Softeners Clack 3-4In & 1In Plastic | G25: =IF(DATA!C38="","",DATA!C38) -> KIWA-23-DW-10335-1 | H25: =DATA!J38 -> Softeners | I25: =DATA!L38 -> KTW-UBA | J25: =IF(DATA!D38="","",DATA!D38) -> Containing Structural Pressure Vessels - 2,5" Inlet - 8,8 L to 103,1 L Containing 3/4" & 1" Plastic Male BSPT Fittings - V3007-06-KTW or V3007-14-KTW Containing V3006-KTW Bypass Containing Pallas Riser Tube Containing GBO Upper Screen Containing GBU Lower Screen Clack 1" valve | K25: =DATA!H38 -> Germany
B26: =IF(DATA!O40="","",DATA!O40) -> 46896 | C26: =IF(DATA!F40<>"", HYPERLINK(DATA!F40, "Link"), "") -> Link | D26: =DATA!A40 -> PWG Certificate | E26: =DATA!E40 -> Suko NV | F26: =DATA!B40 -> Adoucisseur Clack WR 2In QC | G26: =IF(DATA!C40="","",DATA!C40) -> 23 ACC LY 062 | H26: =DATA!J40 -> Softeners | I26: =DATA!L40 -> ACS | J26: =IF(DATA!D40="","",DATA!D40) | K26: =DATA!H40 -> France
B27: =IF(DATA!O21="","",DATA!O21) -> 46446 | C27: =IF(DATA!F21<>"", HYPERLINK(DATA!F21, "Link"), "") -> Link | D27: =DATA!A21 -> Supplier Certifcate | E27: =DATA!E21 -> PWG France | F27: =DATA!B21 -> PE/TUBE Reliance Worldwide Corporation Tube LLDPE Naturel | G27: =IF(DATA!C21="","",DATA!C21) -> 22 MAT NY 108 | H27: =DATA!J21 -> Tubes/Pipes | I27: =DATA!L21 -> ACS | J27: =IF(DATA!D21="","",DATA!D21) -> Tube/Pipe polyethylenee PE 240cm2 / L Naturel | K27: =DATA!H21 -> France
B28: =IF(DATA!#REF!="","",DATA!#REF!) -> #REF! | C28: =IF(DATA!#REF!<>"", HYPERLINK(DATA!#REF!, "Link"), "") -> #REF! | D28: =DATA!#REF! -> #REF! | E28: =DATA!#REF! -> #REF! | F28: =DATA!#REF! -> #REF! | G28: =IF(DATA!#REF!="","",DATA!#REF!) -> #REF! | H28: =DATA!#REF! -> #REF! | I28: =DATA!#REF! -> #REF! | J28: =IF(DATA!#REF!="","",DATA!#REF!) -> #REF! | K28: =DATA!#REF! -> #REF!
B29: =IF(DATA!O19="","",DATA!O19) -> 46404 | C29: =IF(DATA!F19<>"", HYPERLINK(DATA!F19, "Link"), "") -> Link | D29: =DATA!A19 -> Supplier Certifcate | E29: =DATA!E19 -> PWG France | F29: =DATA!B19 -> Pressure vessels Canature 4in | G29: =IF(DATA!C19="","",DATA!C19) -> 21 ACC LY 695 | H29: =DATA!J19 -> Composite pressure vessels | I29: =DATA!L19 -> ACS | J29: =IF(DATA!D19="","",DATA!D19) -> Pressure Vessel 4" 3072 Pressure Vessel 4"-4" 3072 Pressure Vessel 4"-4" 3672 | K29: =DATA!H19 -> France
B30: =IF(DATA!O29="","",DATA!O29) -> 46583 | C30: =IF(DATA!F29<>"", HYPERLINK(DATA!F29, "Link"), "") -> Link | D30: =DATA!A29 -> PWG Certificate | E30: =DATA!E29 -> Delta Water Engineering N.V. | F30: =DATA!B29 -> Softeners Delta Hydro @ Home | G30: =IF(DATA!C29="","",DATA!C29) -> K109795/03 | H30: =DATA!J29 -> Softeners | I30: =DATA!L29 -> Dutch ATA (KIWA) | J30: =IF(DATA!D29="","",DATA!D29) -> Hydro @ Home - Simplex 3L Hydrosoft DSHO-100-M Hydrosoft DHSO-100-B Hydrosoft DHSO-100-BS Hydro@Home - Duplex 3L Hydrosoft DHSO-200-M Hydrosoft DHSO-200-B Hydrosoft DHSO-200-BL Hydrosoft DHSO-200-BLS Talent - Simplex 3L DTSO-100-M DTSO-100-B DTSO-100-BS Talent - Duplex 3L DTSO-200-M DTSO-200-B DTSO-200-BL DTSO-200-BLS | K30: =DATA!H29 -> European Union
B31: =IF('Not used'!O13="","",'Not used'!O13) -> 45763 | C31: =IF('Not used'!F13<>"", HYPERLINK('Not used'!F13, "Link"), "") -> Link | D31: ='Not used'!A13 -> Supplier Certifcate | E31: ='Not used'!E13 -> PWG N.V. | F31: ='Not used'!B13 -> Valves Runxin Multi-functional Low voltage directive 2014/35/EU & EMC 2014/30/EU | G31: =IF('Not used'!C13="","",'Not used'!C13) -> ISETC.002620200417 | H31: ='Not used'!J13 -> Valves - Runxin | I31: ='Not used'!L13 -> CE | J31: =IF('Not used'!D13="","",'Not used'!D13) -> Multi-functional Flow Control Valve for Water Treatment Systems MODEL(S): TM.F | K31: ='Not used'!H13 -> European Union
B32: =IF('Not used'!O2="","",'Not used'!O2) -> 45443 | C32: =IF('Not used'!F2<>"", HYPERLINK('Not used'!F2, "Link"), "") -> Link | D32: ='Not used'!A2 -> Supplier Certifcate | E32: ='Not used'!E2 -> PWG N.V. | F32: ='Not used'!B2 -> UV Sita Stainless steel bodies & sensors | G32: =IF('Not used'!C2="","",'Not used'!C2) -> 1905378 | H32: ='Not used'!J2 -> UV | I32: ='Not used'!L2 -> WRAS | J32: =IF('Not used'!D2="","",'Not used'!D2) -> RANGE OF UV DISINFECTION UNITS INCORPORATING STAINLESS STEEL BODIES & SENSORS | K32: ='Not used'!H2 -> United Kingdom
B33: =IF(DATA!O28="","",DATA!O28) -> 46581 | C33: =IF(DATA!F28<>"", HYPERLINK(DATA!F28, "Link"), "") -> Link | D33: =DATA!A28 -> Supplier Certifcate | E33: =DATA!E28 -> PWG France | F33: =DATA!B28 -> PE/TUBE Reliance Worldwide Corporation Tube LLDPE Rouge | G33: =IF(DATA!C28="","",DATA!C28) -> 22 MAT NY 111 | H33: =DATA!J28 -> Tubes/Pipes | I33: =DATA!L28 -> ACS | J33: =IF(DATA!D28="","",DATA!D28) -> Tube/Pipe polyethylenee PE 240cm2 / L Rouge | K33: =DATA!H28 -> France
B34: =IF(DATA!O37="","",DATA!O37) -> 46802 | C34: =IF(DATA!F37<>"", HYPERLINK(DATA!F37, "Link"), "") -> Link | D34: =DATA!A37 -> PWG Certificate | E34: =DATA!E37 -> Delta Water Engineering N.V. | F34: =DATA!B37 -> Filters Delta drinking water filter with activated carbon | G34: =IF(DATA!C37="","",DATA!C37) -> 043/2023 Swedish Type Approval 1837 | H34: =DATA!J37 -> Filters and components | I34: =DATA!L37 -> Swedish type approval (rise) | J34: =IF(DATA!D37="","",DATA!D37) -> Talent DPU-100 H@H Hydropure DPU-100 Delta DPU-100 | K34: =DATA!H37 -> Sweden; Denmark; Norway
B35: =IF('Not used'!O19="","",'Not used'!O19) -> 45869 | C35: =IF('Not used'!F19<>"", HYPERLINK('Not used'!F19, "Link"), "") -> Link | D35: ='Not used'!A19 -> Supplier Certifcate | E35: ='Not used'!E19 -> PWG N.V. | F35: ='Not used'!B19 -> WRAS Pressure vessels Pentair Polyethylene | G35: =IF('Not used'!C19="","",'Not used'!C19) -> 2007073 | H35: ='Not used'!J19 -> Composite pressure vessels | I35: ='Not used'!L19 -> WRAS | J35: =IF('Not used'!D19="","",'Not used'!D19) -> Model number: C-****-A*-NI, DPEX****, DPEX*****, Q-****-A*, RT-****-P*, RT-****-A* RT-****-P*-NI & RT-****-A*-NI RANGE OF POLYETHYLENE PRESSURE VESSELS | K35: ='Not used'!H19 -> United Kingdom
B36: =IF(DATA!O59="","",DATA!O59) -> 47079 | C36: =IF(DATA!F59<>"", HYPERLINK(DATA!F59, "Link"), "") -> Link | D36: =DATA!A59 -> Supplier Certifcate | E36: =DATA!E59 -> PWG France | F36: =DATA!B59 -> Filter Thinkwater Profine Blue and Violet | G36: =IF(DATA!C59="","",DATA!C59) -> 23 ACC LY 638 | H36: =DATA!J59 -> Filters and components | I36: =DATA!L59 -> ACS | J36: =IF(DATA!D59="","",DATA!D59) -> Profine Blue small Profine Blue medium Profine Blue large Profine Blue sky small Profine Blue sky medium Profine Blue sky large Profine Violet small Profine Violet medium Profine Violet large | K36: =DATA!H59 -> France
B37: =IF('Not used'!O17="","",'Not used'!O17) -> 45831 | C37: =IF('Not used'!F17<>"", HYPERLINK('Not used'!F17, "Link"), "") -> Link | D37: ='Not used'!A17 -> Supplier Certifcate | E37: ='Not used'!E17 -> PWG N.V. | F37: ='Not used'!B17 -> ISO14001 Canature Health Technology | G37: =IF('Not used'!C17="","",'Not used'!C17) -> EMS 711832 | H37: ='Not used'!J17 -> ISO | I37: ='Not used'!L17 -> ISO | J37: =IF('Not used'!D17="","",'Not used'!D17) -> ISO14001 The design and manufacture of water purification equipment and its core components. | K37: ='Not used'!H17 -> European Union
B38: =IF(DATA!O42="","",DATA!O42) -> 46896 | C38: =IF(DATA!F42<>"", HYPERLINK(DATA!F42, "Link"), "") -> Link | D38: =DATA!A42 -> PWG Certificate | E38: =DATA!E42 -> Suko NV | F38: =DATA!B42 -> Adoucisseur Clack WR 3In | G38: =IF(DATA!C42="","",DATA!C42) -> 23 ACC LY 064 | H38: =DATA!J42 -> Softeners | I38: =DATA!L42 -> ACS | J38: =IF(DATA!D42="","",DATA!D42) | K38: =DATA!H42 -> France
B39: =IF(DATA!#REF!="","",DATA!#REF!) -> #REF! | C39: =IF(DATA!#REF!<>"", HYPERLINK(DATA!#REF!, "Link"), "") -> #REF! | D39: =DATA!#REF! -> #REF! | E39: =DATA!#REF! -> #REF! | F39: =DATA!#REF! -> #REF! | G39: =IF(DATA!#REF!="","",DATA!#REF!) -> #REF! | H39: =DATA!#REF! -> #REF! | I39: =DATA!#REF! -> #REF! | J39: =IF(DATA!#REF!="","",DATA!#REF!) -> #REF! | K39: =DATA!#REF! -> #REF!
B40: =IF('Not used'!O16="","",'Not used'!O16) -> 45831 | C40: =IF('Not used'!F16<>"", HYPERLINK('Not used'!F16, "Link"), "") -> Link | D40: ='Not used'!A16 -> Supplier Certifcate | E40: ='Not used'!E16 -> PWG N.V. | F40: ='Not used'!B16 -> ISO9001 Canature Health Technology | G40: =IF('Not used'!C16="","",'Not used'!C16) -> FM 711830 | H40: ='Not used'!J16 -> ISO | I40: ='Not used'!L16 -> ISO | J40: =IF('Not used'!D16="","",'Not used'!D16) -> ISO9001 The design and manufacture of water purification equipment and its core components. | K40: ='Not used'!H16 -> European Union
B41: =IF('Not used'!O7="","",'Not used'!O7) -> 45579 | C41: =IF('Not used'!F7<>"", HYPERLINK('Not used'!F7, "Link"), "") -> Link | D41: ='Not used'!A7 -> Supplier Certifcate | E41: ='Not used'!E7 -> PWG France | F41: ='Not used'!B7 -> Filters Airwatec Cintropur 1",1"1/4, 1"1/2 | G41: =IF('Not used'!C7="","",'Not used'!C7) -> 19 ACC LY 388 | H41: ='Not used'!J7 -> Filters and components | I41: ='Not used'!L7 -> ACS | J41: =IF('Not used'!D7="","",'Not used'!D7) -> CINTROPUR NW 280 1" CINTROPUR NW 340 1 1/4" CINTROPUR NW 400 1 1/2" | K41: ='Not used'!H7 -> France
B42: =IF(DATA!#REF!="","",DATA!#REF!) -> #REF! | C42: =IF(DATA!#REF!<>"", HYPERLINK(DATA!#REF!, "Link"), "") -> #REF! | D42: =DATA!#REF! -> #REF! | E42: =DATA!#REF! -> #REF! | F42: =DATA!#REF! -> #REF! | G42: =IF(DATA!#REF!="","",DATA!#REF!) -> #REF! | H42: =DATA!#REF! -> #REF! | I42: =DATA!#REF! -> #REF! | J42: =IF(DATA!#REF!="","",DATA!#REF!) -> #REF! | K42: =DATA!#REF! -> #REF!
B43: =IF('Not used'!O6="","",'Not used'!O6) -> 45546 | C43: =IF('Not used'!F6<>"", HYPERLINK('Not used'!F6, "Link"), "") -> Link | D43: ='Not used'!A6 -> Supplier Certifcate | E43: ='Not used'!E6 -> PWG France | F43: ='Not used'!B6 -> Composant d'accessoires Noval/PPI Fritte en PA | G43: =IF('Not used'!C6="","",'Not used'!C6) -> 19 MAT LY 138 | H43: ='Not used'!J6 -> Other | I43: ='Not used'!L6 -> ACS | J43: =IF('Not used'!D6="","",'Not used'!D6) -> PPI-SLS-X001 Couleur du meteriau: Blanc 3cm2 / L | K43: ='Not used'!H6 -> France
B44: =IF('Not used'!O8="","",'Not used'!O8) -> 45618 | C44: =IF('Not used'!F8<>"", HYPERLINK('Not used'!F8, "Link"), "") -> Link | D44: ='Not used'!A8 -> Supplier Certifcate | E44: ='Not used'!E8 -> PWG France | F44: ='Not used'!B8 -> Adocisseur Pentair Evolio 255/760 | G44: =IF('Not used'!C8="","",'Not used'!C8) -> 19 ACC LY 578 | H44: ='Not used'!J8 -> Softeners | I44: ='Not used'!L8 -> ACS | J44: =IF('Not used'!D8="","",'Not used'!D8) -> 8L 15L 20L 30L | K44: ='Not used'!H8 -> France
B45: =IF('Not used'!O1="","",'Not used'!O1) -> 45608 | C45: =IF('Not used'!F1<>"", HYPERLINK('Not used'!F1, "Link"), "") -> Link | D45: ='Not used'!A1 -> PWG Certificate | E45: ='Not used'!E1 -> Cappers | F45: ='Not used'!B1 -> Valves Cappers Vannes industriellles | G45: =IF('Not used'!C1="","",'Not used'!C1) -> 19 ACC LY 306 | H45: ='Not used'!J1 -> Valves - Cappers | I45: ='Not used'!L1 -> ACS | J45: =IF('Not used'!D1="","",'Not used'!D1) | K45: ='Not used'!H1 -> France
B46: =IF('Not used'!O9="","",'Not used'!O9) -> 45725 | C46: =IF('Not used'!F9<>"", HYPERLINK('Not used'!F9, "Link"), "") -> Link | D46: ='Not used'!A9 -> Supplier Certifcate | E46: ='Not used'!E9 -> PWG N.V. | F46: ='Not used'!B9 -> Check Valve Neoperl UK Backflow Prevention Devices | G46: =IF('Not used'!C9="","",'Not used'!C9) -> 2003739 | H46: ='Not used'!J9 -> Valves - Others | I46: ='Not used'!L9 -> UK-REG4 | J46: =IF('Not used'!D9="","",'Not used'!D9) -> Spring loaded, resilient trim, in-line check valve cartridges with plastic guide, stem and body and NBR or EPDM rubber 'O'-rings. | K46: ='Not used'!H9 -> United Kingdom
B47: =IF('Not used'!O12="","",'Not used'!O12) -> 45763 | C47: =IF('Not used'!F12<>"", HYPERLINK('Not used'!F12, "Link"), "") -> Link | D47: ='Not used'!A12 -> Supplier Certifcate | E47: ='Not used'!E12 -> PWG N.V. | F47: ='Not used'!B12 -> Valves Runxin Multi-functional Directive 2011/65/EU and Amendment 2015/ 863/EU | G47: =IF('Not used'!C12="","",'Not used'!C12) -> ISETC.002720200417 | H47: ='Not used'!J12 -> Valves - Runxin | I47: ='Not used'!L12 -> CE | J47: =IF('Not used'!D12="","",'Not used'!D12) -> Product type: Multi-functional Flow Control Valve for Water Treatment Systems MODEL(S): TM.F | K47: ='Not used'!H12 -> European Union
B48: =IF(DATA!O55="","",DATA!O55) -> 47067 | C48: =IF(DATA!F55<>"", HYPERLINK(DATA!F55, "Link"), "") -> Link | D48: =DATA!A55 -> PWG Certificate | E48: =DATA!E55 -> CTA | F48: =DATA!B55 -> Softeners Clack Gamme 40 SCL740 | G48: =IF(DATA!C55="","",DATA!C55) -> 23 ACC LY 546 | H48: =DATA!J55 -> Softeners | I48: =DATA!L55 -> ACS | J48: =IF(DATA!D55="","",DATA!D55) -> SCL740, SCL1040, SCL1240, SCL1540, SCL1740, SCL2040, SCL2240, SCL2540, SCL2740, SCL3040, SCL3240, SCL3540, SCL3740, SCL4040, SCL4240, SCL4540, SCL4740, SCL5040 DCL740, DCL1040, DCL1240, DCL1540, DCL1740, DCL2040, DCL2240, DCL2540, DCL2740, DCL3040 DCL3240, DCL3540, DCL3740, DCL4040, DCL4240, DCL4540, DCL4740, DCL5040 | K48: =DATA!H55 -> France
B49: =IF(DATA!O46="","",DATA!O46) -> 46940 | C49: =IF(DATA!F46<>"", HYPERLINK(DATA!F46, "Link"), "") -> Link | D49: =DATA!A46 -> Supplier Certifcate | E49: =DATA!E46 -> PWG France | F49: =DATA!B46 -> Cartridge CPP Sanic Atlas Filtri | G49: =IF(DATA!C46="","",DATA!C46) -> 23 ACC LY 306 | H49: =DATA!J46 -> Filters and components | I49: =DATA!L46 -> ACS | J49: =IF(DATA!D46="","",DATA!D46) -> CPP Sanic SX AX BX CX | K49: =DATA!H46 -> France
B50: =IF(DATA!O44="","",DATA!O44) -> 46922 | C50: =IF(DATA!F44<>"", HYPERLINK(DATA!F44, "Link"), "") -> Link | D50: =DATA!A44 -> PWG Certificate | E50: =DATA!E44 -> Wycombe Water Ltd. | F50: =DATA!B44 -> Softeners Wycombe FLS29 | G50: =IF(DATA!C44="","",DATA!C44) -> 2306622 S3 | H50: =DATA!J44 -> Softeners | I50: =DATA!L44 -> NSF | J50: =IF(DATA!D44="","",DATA!D44) -> Models: FLS29-125, FLS29-150, FLS29-250, FLS29-350, FLS29-500 and FLS29-750 | K50: =DATA!H44 -> United Kingdom
B51: =IF('Not used'!O20="","",'Not used'!O20) -> 45869 | C51: =IF('Not used'!F20<>"", HYPERLINK('Not used'!F20, "Link"), "") -> Link | D51: ='Not used'!A20 -> Supplier Certifcate | E51: ='Not used'!E20 -> PWG N.V. | F51: ='Not used'!B20 -> WRAS Pressure vessels Pentair C-1468-F*HW | G51: =IF('Not used'!C20="","",'Not used'!C20) -> 2007061 | H51: ='Not used'!J20 -> Composite pressure vessels | I51: ='Not used'!L20 -> WRAS | J51: =IF('Not used'!D20="","",'Not used'!D20) -> Pressure vessel C-1468-F*HW | K51: ='Not used'!H20 -> United Kingdom
B52: =IF(DATA!#REF!="","",DATA!#REF!) -> #REF! | C52: =IF(DATA!#REF!<>"", HYPERLINK(DATA!#REF!, "Link"), "") -> #REF! | D52: =DATA!#REF! -> #REF! | E52: =DATA!#REF! -> #REF! | F52: =DATA!#REF! -> #REF! | G52: =IF(DATA!#REF!="","",DATA!#REF!) -> #REF! | H52: =DATA!#REF! -> #REF! | I52: =DATA!#REF! -> #REF! | J52: =IF(DATA!#REF!="","",DATA!#REF!) -> #REF! | K52: =DATA!#REF! -> #REF!
B53: =IF(DATA!O36="","",DATA!O36) -> 46728 | C53: =IF(DATA!F36<>"", HYPERLINK(DATA!F36, "Link"), "") -> Link | D53: =DATA!A36 -> Supplier Certifcate | E53: =DATA!E36 -> PWG France | F53: =DATA!B36 -> Resine Dupont Taptec SR1L Na & Amberlite SR1L Na | G53: =IF(DATA!C36="","",DATA!C36) -> 21 RES LY 001 | H53: =DATA!J36 -> ION exchange resins | I53: =DATA!L36 -> ACS | J53: =IF(DATA!D36="","",DATA!D36) | K53: =DATA!H36 -> France
B54: =IF(DATA!O23="","",DATA!O23) -> 46507 | C54: =IF(DATA!F23<>"", HYPERLINK(DATA!F23, "Link"), "") -> Link | D54: =DATA!A23 -> Supplier Certifcate | E54: =DATA!E23 -> PWG N.V. | F54: =DATA!B23 -> Resin Pure PC002 | G54: =IF(DATA!C23="","",DATA!C23) -> D-22-008495-31 | H54: =DATA!J23 -> ION exchange resins | I54: =DATA!L23 -> ACS | J54: =IF(DATA!D23="","",DATA!D23) -> Pure Resin PC002 | K54: =DATA!H23 -> European Union
B55: =IF('Not used'!O18="","",'Not used'!O18) -> 45839 | C55: =IF('Not used'!F18<>"", HYPERLINK('Not used'!F18, "Link"), "") -> Link | D55: ='Not used'!A18 -> Supplier Certifcate | E55: ='Not used'!E18 -> PWG France | F55: ='Not used'!B18 -> Pressure Vessels Canature 8x17 and more | G55: =IF('Not used'!C18="","",'Not used'!C18) -> 20 ACC LY 356 | H55: ='Not used'!J18 -> Composite pressure vessels | I55: ='Not used'!L18 -> ACS | J55: =IF('Not used'!D18="","",'Not used'!D18) | K55: ='Not used'!H18 -> France
B56: =IF(DATA!O7="","",DATA!O7) -> 45436 | C56: =IF(DATA!F7<>"", HYPERLINK(DATA!F7, "Link"), "") -> Link | D56: =DATA!A7 -> PWG Certificate | E56: =DATA!E7 -> Suko NV | F56: =DATA!B7 -> Adoucisseur Clack WR 1In | G56: =IF(DATA!C7="","",DATA!C7) -> 17 ACC LY 609 | H56: =DATA!J7 -> Softeners | I56: =DATA!L7 -> ACS | J56: =IF(DATA!D7="","",DATA!D7) | K56: =DATA!H7 -> France
B57: =IF(DATA!O50="","",DATA!O50) -> 46978 | C57: =IF(DATA!F50<>"", HYPERLINK(DATA!F50, "Link"), "") -> Link | D57: =DATA!A50 -> PWG Certificate | E57: =DATA!E50 -> Wycombe Water Ltd. | F57: =DATA!B50 -> Softeners Wycombe FLS39 | G57: =IF(DATA!C50="","",DATA!C50) -> 2308625 S3 | H57: =DATA!J50 -> Softeners | I57: =DATA!L50 -> NSF | J57: =IF(DATA!D50="","",DATA!D50) -> Models: FLS39-0800, FLS39-1000 and FLS39-1300 | K57: =DATA!H50 -> United Kingdom
B58: =IF(DATA!O32="","",DATA!O32) -> 46673 | C58: =IF(DATA!F32<>"", HYPERLINK(DATA!F32, "Link"), "") -> Link | D58: =DATA!A32 -> Supplier Certifcate | E58: =DATA!E32 -> PWG France | F58: =DATA!B32 -> PE/TUBE Reliance Worldwide Corporation Tube LLDPE Noir | G58: =IF(DATA!C32="","",DATA!C32) -> 22 MAT NY 109 | H58: =DATA!J32 -> Tubes/Pipes | I58: =DATA!L32 -> ACS | J58: =IF(DATA!D32="","",DATA!D32) -> Tube/Pipe polyethylenee PE 240cm2 / L Noir | K58: =DATA!H32 -> France
B59: =IF('Not used'!O21="","",'Not used'!O21) -> 45904 | C59: =IF('Not used'!F21<>"", HYPERLINK('Not used'!F21, "Link"), "") -> Link | D59: ='Not used'!A21 -> Supplier Certifcate | E59: ='Not used'!E21 -> PWG N.V. | F59: ='Not used'!B21 -> Filter Hangzhou Tiger Water Bag Filter Housing | G59: =IF('Not used'!C21="","",'Not used'!C21) -> IN-HZ-5805-22087-003 Rev.0 | H59: ='Not used'!J21 -> Filters and components | I59: ='Not used'!L21 -> CE | J59: =IF('Not used'!D21="","",'Not used'!D21) -> Filter Hangzhou Tiger Water Bag Filter Housing | K59: ='Not used'!H21 -> European Union
B60: =IF(DATA!O48="","",DATA!O48) -> 46944 | C60: =IF(DATA!F48<>"", HYPERLINK(DATA!F48, "Link"), "") -> Link | D60: =DATA!A48 -> Supplier Certifcate | E60: =DATA!E48 -> PWG France | F60: =DATA!B48 -> Pressure vessels Pentair Threaded rotomolded tank C-xxyy | G60: =IF(DATA!C48="","",DATA!C48) -> 23 ACC LY 073 | H60: =DATA!J48 -> Composite pressure vessels | I60: =DATA!L48 -> ACS | J60: =IF(DATA!D48="","",DATA!D48) -> C-xxyy -* Threaded Rotomolded Tanks What is : Meaning / Range: C Product /Final use Commercial / Industrial xx External Diameter (in") From 14 to 36 yy Vessel Height (in") From 43 to 72 | K60: =DATA!H48 -> France
B61: =IF(DATA!O34="","",DATA!O34) -> 46728 | C61: =IF(DATA!F34<>"", HYPERLINK(DATA!F34, "Link"), "") -> Link | D61: =DATA!A34 -> Supplier Certifcate | E61: =DATA!E34 -> PWG France | F61: =DATA!B34 -> Resine Dupont Dowex Marathon Amberlite | G61: =IF(DATA!C34="","",DATA!C34) -> 22 RES LY 004 | H61: =DATA!J34 -> ION exchange resins | I61: =DATA!L34 -> ACS | J61: =IF(DATA!D34="","",DATA!D34) -> Dowex Marathon C(Na) Amberlite HPR1100 Na | K61: =DATA!H34 -> France
B62: =IF(DATA!O24="","",DATA!O24) -> 46507 | C62: =IF(DATA!F24<>"", HYPERLINK(DATA!F24, "Link"), "") -> Link | D62: =DATA!A24 -> Supplier Certifcate | E62: =DATA!E24 -> PWG N.V. | F62: =DATA!B24 -> Resin Pure PC002 | G62: =IF(DATA!C24="","",DATA!C24) -> D-22-008495-31 | H62: =DATA!J24 -> ION exchange resins | I62: =DATA!L24 -> RESAP | J62: =IF(DATA!D24="","",DATA!D24) -> Pure Resin PC002 | K62: =DATA!H24 -> European Union
B63: =IF('Not used'!O3="","",'Not used'!O3) -> 46038 | C63: =IF('Not used'!F3<>"", HYPERLINK('Not used'!F3, "Link"), "") -> Link | D63: ='Not used'!A3 -> Supplier Certifcate | E63: ='Not used'!E3 -> PWG N.V. | F63: ='Not used'!B3 -> UV SITA DM 174 Desinfection unit IT Series Model 40 IT | G63: =IF('Not used'!C3="","",'Not used'!C3) -> ICIM-CAP-010237-00 | H63: ='Not used'!J3 -> UV | I63: ='Not used'!L3 -> Other | J63: =IF('Not used'!D3="","",'Not used'!D3) -> DM 174 Desinfection unit IT Series Model 40 IT | K63: ='Not used'!H3 -> Italy
B64: =IF('Not used'!O11="","",'Not used'!O11) -> 45763 | C64: =IF('Not used'!F11<>"", HYPERLINK('Not used'!F11, "Link"), "") -> Link | D64: ='Not used'!A11 -> Supplier Certifcate | E64: ='Not used'!E11 -> PWG N.V. | F64: ='Not used'!B11 -> Softeners Runxin Residential Directive 2011/65/EU & Amendment 2015/863/EU | G64: =IF('Not used'!C11="","",'Not used'!C11) -> ISETC.002820200417 | H64: ='Not used'!J11 -> Softeners | I64: ='Not used'!L11 -> CE | J64: =IF('Not used'!D11="","",'Not used'!D11) -> Type of products: Residential softeners RL-R30, RL-R50, RL-R60, RL-R80, RL-R100, RL-R110, RL-R120, RL-R150, RL-R200, RL-R250, RL-R300, RL-S30, RL-S50, RL-S60, RL-S80, RL-S100, RL-S110, RL-S120, RL-S150, RL-S200, RL-S250, RL-S300 | K64: ='Not used'!H11 -> European Union
B65: =IF(DATA!#REF!="","",DATA!#REF!) -> #REF! | C65: =IF(DATA!#REF!<>"", HYPERLINK(DATA!#REF!, "Link"), "") -> #REF! | D65: =DATA!#REF! -> #REF! | E65: =DATA!#REF! -> #REF! | F65: =DATA!#REF! -> #REF! | G65: =IF(DATA!#REF!="","",DATA!#REF!) -> #REF! | H65: =DATA!#REF! -> #REF! | I65: =DATA!#REF! -> #REF! | J65: =IF(DATA!#REF!="","",DATA!#REF!) -> #REF! | K65: =DATA!#REF! -> #REF!
B66: =IF(DATA!#REF!="","",DATA!#REF!) -> #REF! | C66: =IF(DATA!#REF!<>"", HYPERLINK(DATA!#REF!, "Link"), "") -> #REF! | D66: =DATA!#REF! -> #REF! | E66: =DATA!#REF! -> #REF! | F66: =DATA!#REF! -> #REF! | G66: =IF(DATA!#REF!="","",DATA!#REF!) -> #REF! | H66: =DATA!#REF! -> #REF! | I66: =DATA!#REF! -> #REF! | J66: =IF(DATA!#REF!="","",DATA!#REF!) -> #REF! | K66: =DATA!#REF! -> #REF!
B67: =IF(DATA!#REF!="","",DATA!#REF!) -> #REF! | C67: =IF(DATA!#REF!<>"", HYPERLINK(DATA!#REF!, "Link"), "") -> #REF! | D67: =DATA!#REF! -> #REF! | E67: =DATA!#REF! -> #REF! | F67: =DATA!#REF! -> #REF! | G67: =IF(DATA!#REF!="","",DATA!#REF!) -> #REF! | H67: =DATA!#REF! -> #REF! | I67: =DATA!#REF! -> #REF! | J67: =IF(DATA!#REF!="","",DATA!#REF!) -> #REF! | K67: =DATA!#REF! -> #REF!
B68: =IF(DATA!O71="","",DATA!O71) -> 47388 | C68: =IF(DATA!F71<>"", HYPERLINK(DATA!F71, "Link"), "") -> Link | D68: =DATA!A71 -> Supplier Certifcate | E68: =DATA!E71 -> PWG France | F68: =DATA!B71 -> Valves Canature BNT 850HE Pro T | G68: =IF(DATA!C71="","",DATA!C71) -> 24 ACC NY 396 | H68: =DATA!J71 -> Valves - Canature | I68: =DATA!L71 -> ACS | J68: =IF(DATA!D71="","",DATA!D71) -> Vanne de controle BNT 850HE Pro T | K68: =DATA!H71 -> France
B69: =IF(DATA!O73="","",DATA!O73) -> 47405 | C69: =IF(DATA!F73<>"", HYPERLINK(DATA!F73, "Link"), "") -> Link | D69: =DATA!A73 -> Supplier Certifcate | E69: =DATA!E73 -> PWG N.V. | F69: =DATA!B73 -> Valves Runxin K5-K9, K1 | G69: =IF(DATA!C73="","",DATA!C73) -> 24 ACC LY 227 | H69: =DATA!J73 -> Valve - Runxin | I69: =DATA!L73 -> ACS | J69: =IF(DATA!D73="","",DATA!D73) -> vanne K5XYY vanne K6XYY vanne K7XYY vanne K8XYY vanne K9XYY vanne K1ZXYY + by-pass K70 + crépine et tube plongeur | K69: =DATA!H73 -> France
B70: =IF(DATA!O69="","",DATA!O69) -> 47372 | C70: =IF(DATA!F69<>"", HYPERLINK(DATA!F69, "Link"), "") -> Link | D70: =DATA!A69 -> Supplier Certifcate | E70: =DATA!E69 -> PWG N.V. | F70: =DATA!B69 -> Preassure vessels Noyi | G70: =IF(DATA!C69="","",DATA!C69) -> P1-054-01 | H70: =DATA!J69 -> Composite pressure vessels | I70: =DATA!L69 -> KTW-BWGL | J70: =IF(DATA!D69="","",DATA!D69) -> FRP Tanks Material/polymer: Multilayer product (HDPE, PPO, Glass fiber) Product group P1 (Certification body Eurofins Expert Services) | K70: =DATA!H69 -> Germany
B71: =IF(DATA!#REF!="","",DATA!#REF!) -> #REF! | C71: =IF(DATA!#REF!<>"", HYPERLINK(DATA!#REF!, "Link"), "") -> #REF! | D71: =DATA!#REF! -> #REF! | E71: =DATA!#REF! -> #REF! | F71: =DATA!#REF! -> #REF! | G71: =IF(DATA!#REF!="","",DATA!#REF!) -> #REF! | H71: =DATA!#REF! -> #REF! | I71: =DATA!#REF! -> #REF! | J71: =IF(DATA!#REF!="","",DATA!#REF!) -> #REF! | K71: =DATA!#REF! -> #REF!
B72: =IF(DATA!#REF!="","",DATA!#REF!) -> #REF! | C72: =IF(DATA!#REF!<>"", HYPERLINK(DATA!#REF!, "Link"), "") -> #REF! | D72: =DATA!#REF! -> #REF! | E72: =DATA!#REF! -> #REF! | F72: =DATA!#REF! -> #REF! | G72: =IF(DATA!#REF!="","",DATA!#REF!) -> #REF! | H72: =DATA!#REF! -> #REF! | I72: =DATA!#REF! -> #REF! | J72: =IF(DATA!#REF!="","",DATA!#REF!) -> #REF! | K72: =DATA!#REF! -> #REF!
B73: =IF(DATA!O33="","",DATA!O33) -> 46716 | C73: =IF(DATA!F33<>"", HYPERLINK(DATA!F33, "Link"), "") -> Link | D73: =DATA!A33 -> PWG Certificate | E73: =DATA!E33 -> PWG N.V. | F73: =DATA!B33 -> Cartridge Wounded Pallas 10 to 40In | G73: =IF(DATA!C33="","",DATA!C33) -> 22 ACC LY 701 | H73: =DATA!J33 -> Filters and components | I73: =DATA!L33 -> ACS | J73: =IF(DATA!D33="","",DATA!D33) | K73: =DATA!H33 -> France
B74: =IF(DATA!O30="","",DATA!O30) -> 46606 | C74: =IF(DATA!F30<>"", HYPERLINK(DATA!F30, "Link"), "") -> Link | D74: =DATA!A30 -> Supplier Certifcate | E74: =DATA!E30 -> PWG N.V. | F74: =DATA!B30 -> Softeners Runxin Residental Directives 2014/35/EU and 2014/30/EU | G74: =IF(DATA!C30="","",DATA!C30) -> ICR Polska/VC/HL220802 | H74: =DATA!J30 -> Softeners | I74: =DATA!L30 -> CE | J74: =IF(DATA!D30="","",DATA!D30) -> Product types: Residential softeners RL-R30, RL-R50, RL-R55, RL-R60, RL-R70, RL-R80, RL-R90, RL-R100, RL-R105, RL-R110, RL-R115, RL-R120, RL-R150, RL-R200, RL-R250, RL-R300, RL-S30, RL-S50, RL-S55, RL-S60, RL-S70, RL-S80, RL-S90, RL-S100, RL-S105, RL-S110, RL-S115, RL-S120, RL-S150, RL-S200, RL-S250, RL-S300 | K74: =DATA!H30 -> European Union; United Kingdom
B75: =IF(DATA!O5="","",DATA!O5) -> 45436 | C75: =IF(DATA!F5<>"", HYPERLINK(DATA!F5, "Link"), "") -> Link | D75: =DATA!A5 -> PWG Certificate | E75: =DATA!E5 -> Suko NV | F75: =DATA!B5 -> Adoucisseur Clack PI | G75: =IF(DATA!C5="","",DATA!C5) -> 17 ACC LY 608 | H75: =DATA!J5 -> Softeners | I75: =DATA!L5 -> ACS | J75: =IF(DATA!D5="","",DATA!D5) | K75: =DATA!H5 -> France
B76: =IF(DATA!#REF!="","",DATA!#REF!) -> #REF! | C76: =IF(DATA!#REF!<>"", HYPERLINK(DATA!#REF!, "Link"), "") -> #REF! | D76: =DATA!#REF! -> #REF! | E76: =DATA!#REF! -> #REF! | F76: =DATA!#REF! -> #REF! | G76: =IF(DATA!#REF!="","",DATA!#REF!) -> #REF! | H76: =DATA!#REF! -> #REF! | I76: =DATA!#REF! -> #REF! | J76: =IF(DATA!#REF!="","",DATA!#REF!) -> #REF! | K76: =DATA!#REF! -> #REF!
B77: =IF(DATA!#REF!="","",DATA!#REF!) -> #REF! | C77: =IF(DATA!#REF!<>"", HYPERLINK(DATA!#REF!, "Link"), "") -> #REF! | D77: =DATA!#REF! -> #REF! | E77: =DATA!#REF! -> #REF! | F77: =DATA!#REF! -> #REF! | G77: =IF(DATA!#REF!="","",DATA!#REF!) -> #REF! | H77: =DATA!#REF! -> #REF! | I77: =DATA!#REF! -> #REF! | J77: =IF(DATA!#REF!="","",DATA!#REF!) -> #REF! | K77: =DATA!#REF! -> #REF!
B78: =IF(DATA!O2="","",DATA!O2) -> 45006 | C78: =IF(DATA!F2<>"", HYPERLINK(DATA!F2, "Link"), "") -> Link | D78: =DATA!A2 -> PWG Certificate | E78: =DATA!E2 -> Delta Water Engineering N.V. | F78: =DATA!B2 -> Softeners Delta Simplex & Delta Duplex | G78: =IF(DATA!C2="","",DATA!C2) -> KIWA-22-DW-10312 | H78: =DATA!J2 -> Softeners | I78: =DATA!L2 -> KTW-UBA | J78: =IF(DATA!D2="","",DATA!D2) -> SIMPLEX: Hydro @ Home - Simplex 3L Hydrosoft DHSO-100-M Hydrosoft DHSO-100-B Hydrosoft DHSO-100-BS Talent - Simplex 3L DTSO-100-M DTSO-100-B DTSO-100-BS Soft Monomatik Pallas NES Simplex DUPLEX: Hydro@Home - Duplex 3L Hydrosoft DHSO-200-M Hydrosoft DHSO-200-B Hydrosoft DHSO-200-BL Hydrosoft DHSO-200-BLS Talent - Duplex 3L DTSO-200-M DTSO-200-B DTSO-200-BL DTSO-200-BLS Soft Duomatik Evoline Pallas NES Duplex | K78: =DATA!H2 -> Germany
B79: =IF('Not used'!O15="","",'Not used'!O15) -> 45808 | C79: =IF('Not used'!F15<>"", HYPERLINK('Not used'!F15, "Link"), "") -> Link | D79: ='Not used'!A15 -> Supplier Certifcate | E79: ='Not used'!E15 -> PWG N.V. | F79: ='Not used'!B15 -> Resins Lanxess Lewatit S 1568, Lewatit S 1567 & Lewatit MonoPlus S107 NS | G79: =IF('Not used'!C15="","",'Not used'!C15) -> 2005536 | H79: ='Not used'!J15 -> ION exchange resins | I79: ='Not used'!L15 -> WRAS | J79: =IF('Not used'!D15="","",'Not used'!D15) -> Lewatit S 1568, Lewatit S 1567 & Lewatit MonoPlus S107 NS'. Brown coloured, translucent ion exchange resins. For use with water up to 23°C | K79: ='Not used'!H15 -> United Kingdom
B80: =IF('Not used'!O22="","",'Not used'!O22) -> 45961 | C80: =IF('Not used'!F22<>"", HYPERLINK('Not used'!F22, "Link"), "") -> Link | D80: ='Not used'!A22 -> Supplier Certifcate | E80: ='Not used'!E22 -> PWG N.V. | F80: ='Not used'!B22 -> Resins Lanxess Lewatit S 8227 & S 8229 | G80: =IF('Not used'!C22="","",'Not used'!C22) -> 2010509 | H80: ='Not used'!J22 -> ION exchange resins | I80: ='Not used'!L22 -> WRAS | J80: =IF('Not used'!D22="","",'Not used'!D22) -> Lewatit S 8227 & S 8229. White coloured ion exchange resins. For use with water up to 23°C | K80: ='Not used'!H22 -> United Kingdom
B81: =IF(DATA!O45="","",DATA!O45) -> 46934 | C81: =IF(DATA!F45<>"", HYPERLINK(DATA!F45, "Link"), "") -> Link | D81: =DATA!A45 -> PWG Certificate | E81: =DATA!E45 -> Wycombe Water Ltd. | F81: =DATA!B45 -> Softeners Wycombe FL29 | G81: =IF(DATA!C45="","",DATA!C45) -> 2306064 | H81: =DATA!J45 -> Softeners | I81: =DATA!L45 -> WRAS | J81: =IF(DATA!D45="","",DATA!D45) -> FLS29-125 2910, FLS29-150 2910, FLS29-250 2910, FLS29-350 2910, FLS29-500 2910 & FLS29-750 2910 WATER SOFTENERS | K81: =DATA!H45 -> United Kingdom
B82: =IF(DATA!O57="","",DATA!O57) -> 47067 | C82: =IF(DATA!F57<>"", HYPERLINK(DATA!F57, "Link"), "") -> Link | D82: =DATA!A57 -> PWG Certificate | E82: =DATA!E57 -> CTA | F82: =DATA!B57 -> Softeners Clack Gamme xCL66 | G82: =IF(DATA!C57="","",DATA!C57) -> 23 ACC LY 596 | H82: =DATA!J57 -> Softeners | I82: =DATA!L57 -> ACS | J82: =IF(DATA!D57="","",DATA!D57) -> SCL1766, SCL2066, SCL2266, SCL2566, SCL2766, SCL3066, SCL3266, SCL3566, SCL3766, SCL4066, SCL4266, SCL4566, SCL4766, SCL5066, SCL5266, SCL5566, SCL5766, SCL6066, SCL6266, SCL6566, SCL6766, SCL7066, SCL7566, SCL8066, SCL8566, SCL9066, SCL9566, SCL10066, SCL10566, SCL13066, SCL13566, SCL14066 DCL1766, DCL2066, DCL2266, DCL2566, DCL2766, DCL3066, DCL3266, DCL3566, DCL3766, DCL4066, DCL4266 DCL4566, DCL4766, DCL5066, DCL5266, DCL5566, DCL5766, DCL6066, DCL6266, DCL6566, DCL6766, DCL7066, DCL7566, DCL8066, DCL8566, DCL9066, DCL9566, DCL10066, DCL10566, DCL11066, DCL11566, DCL12066, DCL12566, DCL13066, DCL13566, DCL14066, 11066,CL11566, SCL12066, SCL12566, | K82: =DATA!H57 -> France
B83: =IF(DATA!O60="","",DATA!O60) -> 47118 | C83: =IF(DATA!F60<>"", HYPERLINK(DATA!F60, "Link"), "") -> Link | D83: =DATA!A60 -> Supplier Certifcate | E83: =DATA!E60 -> PWG N.V. | F83: =DATA!B60 -> Pressure vessels Canture 05x13" to 24x72" | G83: =IF(DATA!C60="","",DATA!C60) -> 2312364 | H83: =DATA!J60 -> Composite pressure vessels | I83: =DATA!L60 -> WRAS | J83: =IF(DATA!D60="","",DATA!D60) -> CN PRESSURE VESSEL RANGE: 05x13" TO 24x72" | K83: =DATA!H60 -> United Kingdom
B84: =IF(DATA!O54="","",DATA!O54) -> 47057 | C84: =IF(DATA!F54<>"", HYPERLINK(DATA!F54, "Link"), "") -> Link | D84: =DATA!A54 -> PWG Certificate | E84: =DATA!E54 -> Wycombe Water Ltd. | F84: =DATA!B54 -> Softeners Wycombe FLS39 | G84: =IF(DATA!C54="","",DATA!C54) -> 2310107 | H84: =DATA!J54 -> Softeners | I84: =DATA!L54 -> WRAS | J84: =IF(DATA!D54="","",DATA!D54) -> MODEL: FLS39-0800 FLS39-1000 FLS39-1300 WATER SOFTENERS | K84: =DATA!H54 -> United Kingdom
B85: =IF(DATA!O49="","",DATA!O49) -> 46967 | C85: =IF(DATA!F49<>"", HYPERLINK(DATA!F49, "Link"), "") -> Link | D85: =DATA!A49 -> PWG Certificate | E85: =DATA!E49 -> Cappers | F85: =DATA!B49 -> Softeners Cappers Ino 20 | G85: =IF(DATA!C49="","",DATA!C49) -> KIWA-23-DW-10366-2 | H85: =DATA!J49 -> Softeners | I85: =DATA!L49 -> KTW-UBA | J85: =IF(DATA!D49="","",DATA!D49) -> Component Supplier Model Valve Cappers Ino20 KTW series Pressure Vessel Pentair 2,5" inlet 8,8 to 103,1 l Riser tube Pallas 1,05" Bottom distributor KSH GBU Connector Cappers Straight 3/4" or Straight 1" or elbowed 1" Optional Bypass Cappers Residential Bypass | K85: =DATA!H49 -> Germany
B86: =IF(DATA!#REF!="","",DATA!#REF!) -> #REF! | C86: =IF(DATA!#REF!<>"", HYPERLINK(DATA!#REF!, "Link"), "") -> #REF! | D86: =DATA!#REF! -> #REF! | E86: =DATA!#REF! -> #REF! | F86: =DATA!#REF! -> #REF! | G86: =IF(DATA!#REF!="","",DATA!#REF!) -> #REF! | H86: =DATA!#REF! -> #REF! | I86: =DATA!#REF! -> #REF! | J86: =IF(DATA!#REF!="","",DATA!#REF!) -> #REF! | K86: =DATA!#REF! -> #REF!
B87: =IF(DATA!O52="","",DATA!O52) -> 47006 | C87: =IF(DATA!F52<>"", HYPERLINK(DATA!F52, "Link"), "") -> Link | D87: =DATA!A52 -> Supplier Certifcate | E87: =DATA!E52 -> PWG N.V. | F87: =DATA!B52 -> SS Housings Tiger Water Treatment | G87: =IF(DATA!C52="","",DATA!C52) -> 17857/1/2025-CERT-01 | H87: =DATA!J52 -> Other | I87: =DATA!L52 -> CE | J87: =IF(DATA!D52="","",DATA!D52) -> Scope of equipment: Bag filter housing, Media filter housing, (Max PS 500 Bar, fluid: water, max V=1000L, material: stainless steel) | K87: =DATA!H52 -> European Union
B88: =IF(DATA!O53="","",DATA!O53) -> 47031 | C88: =IF(DATA!F53<>"", HYPERLINK(DATA!F53, "Link"), "") -> Link | D88: =DATA!A53 -> Supplier Certifcate | E88: =DATA!E53 -> PWG N.V. | F88: =DATA!B53 -> Softeners Hague Water | G88: =IF(DATA!C53="","",DATA!C53) -> 22 ACC LY 838 | H88: =DATA!J53 -> Softeners | I88: =DATA!L53 -> ACS | J88: =IF(DATA!D53="","",DATA!D53) -> WaterBoss 400 - MICROBOSS 400 - MICROBOSS I410 - PROSERIES I1400 PURATECH 700 - WATERBOSS Pro 180 - Proseries 2300 - PURATECH 900 - WATERBOSS ProPlus 380 ProSeries 97 - PURATECH I51C-B - 9STG - 7STG - V25 - CITY UNIT 29 - CITY UNIT 39 | K88: =DATA!H53 -> France
B89: =IF(DATA!O56="","",DATA!O56) -> 47067 | C89: =IF(DATA!F56<>"", HYPERLINK(DATA!F56, "Link"), "") -> Link | D89: =DATA!A56 -> PWG Certificate | E89: =DATA!E56 -> CTA | F89: =DATA!B56 -> Softeners Clack Gamme xCL50 SCL750 | G89: =IF(DATA!C56="","",DATA!C56) -> 23 ACC LY 547 | H89: =DATA!J56 -> Softeners | I89: =DATA!L56 -> ACS | J89: =IF(DATA!D56="","",DATA!D56) -> SCL750, SCL1050, SCL1250, SCL1550, SCL1750, SCL2050, SCL2250, SCL2550, SCL2750, SCL3050, SCL3250, SCL3550, SCL3750, SCL4050, SCL4250, SCL4550, SCL4750, SCL5050, SCL5250, SCL5550, SCL5750, SCL6050, SCL6250, SCL6550, SCL6750, SCL7050, SCL7550, SCL8050, SCL8550, SCL9050, SCL9550, SCL10050, SCL10550 SCL11050, SCL11550, SCL12050,SCL12550, SCL13050, SCL13550, SCL14050 DCL750, DCL1050, DCL1250, DCL1550, DCL1750, DCL2050, DCL2250, DCL2550, DCL2750, DCL3050, DCL3250, DCL3550, DCL3750, DCL4050, DCL4250, DCL4550, DCL4750, DCL5050, DCL5250, DCL5550, DCL5750, DCL6050, DCL6250, DCL6550, DCL6750, DCL7050, DCL7550, DCL8050, DCL8550, DCL9050, DCL9550, DCL10050, DCL10550,DCL11050, DCL11550, DCL12050,DCL12550, DCL13050, DCL13550, DCL14050 | K89: =DATA!H56 -> France
B90: =IF(DATA!O74="","",DATA!O74) -> 47426 | C90: =IF(DATA!F74<>"", HYPERLINK(DATA!F74, "Link"), "") -> Link | D90: =DATA!A74 -> Supplier Certifcate | E90: =DATA!E74 -> PWG France | F90: =DATA!B74 -> Water meter DHM DN15 - DN50 | G90: =IF(DATA!C74="","",DATA!C74) -> 24 ACC NY 509 | H90: =DATA!J74 -> Other | I90: =DATA!L74 -> ACS | J90: =IF(DATA!D74="","",DATA!D74) -> COMPTEURS JETS MULTIPLES CADRAN SEC ORIENTABLE - DH METERING Compteurs DHM1000 DN15 à DN50 - LXSG 15E à 50E Compteurs DHM2000 DN15 à DN50 | K90: =DATA!H74 -> France
B91: =IF(DATA!O72="","",DATA!O72) -> 47391 | C91: =IF(DATA!F72<>"", HYPERLINK(DATA!F72, "Link"), "") -> Link | D91: =DATA!A72 -> Supplier Certifcate | E91: =DATA!E72 -> Wycombe Water Ltd. | F91: =DATA!B72 -> UV Van Remmen V90 to V290 | G91: =IF(DATA!C72="","",DATA!C72) -> 240902701 | H91: =DATA!J72 -> UV | I91: =DATA!L72 -> WRAS | J91: =IF(DATA!D72="","",DATA!D72) -> V90, V100, V110, V120, V130, V140, V150, V160, V170, V180, V190, V200, V220, V250 & V290 ULTRAVIOLET DISINFECTION UNITS | K91: =DATA!H72 -> United Kingdom
B92: =IF(DATA!O43="","",DATA!O43) -> 46896 | C92: =IF(DATA!F43<>"", HYPERLINK(DATA!F43, "Link"), "") -> Link | D92: =DATA!A43 -> PWG Certificate | E92: =DATA!E43 -> Suko NV | F92: =DATA!B43 -> Adoucisseur Clack WR 1.5In | G92: =IF(DATA!C43="","",DATA!C43) -> 23 ACC LY 060 | H92: =DATA!J43 -> Softeners | I92: =DATA!L43 -> ACS | J92: =IF(DATA!D43="","",DATA!D43) | K92: =DATA!H43 -> France
B93: =IF(DATA!O70="","",DATA!O70) -> 47377 | C93: =IF(DATA!F70<>"", HYPERLINK(DATA!F70, "Link"), "") -> Link | D93: =DATA!A70 -> Supplier Certifcate | E93: =DATA!E70 -> Suko NV | F93: =DATA!B70 -> Check Valves Neoperl | G93: =IF(DATA!C70="","",DATA!C70) -> Z-340801-21-Hy112 | H93: =DATA!J70 -> Others | I93: =DATA!L70 -> KTW-UBA | J93: =IF(DATA!D70="","",DATA!D70) -> . CV-Check valves . CV-FR-Check valves . DCV-Check valves* . DW-Check valves . FCV-Check valves . FR-CV Check valves . HDS-Check valves · NV-Check valves* · OD-Check valves* · OF-Check valves* · OV-Check valves* . SV-Check valves . WV-Check valves · discharge valve . vent cartridge 23 C and 60 ℃ | K93: =DATA!H70 -> Germany
B94: =IF(DATA!O66="","",DATA!O66) -> 47363 | C94: =IF(DATA!F66<>"", HYPERLINK(DATA!F66, "Link"), "") -> Link | D94: =DATA!A66 -> PWG Certificate | E94: =DATA!E66 -> Delta Water Engineering N.V. | F94: =DATA!B66 -> Filter Delta DPU-100 3L | G94: =IF(DATA!C66="","",DATA!C66) -> 24 ACC LY 338 | H94: =DATA!J66 -> Filters and components | I94: =DATA!L66 -> ACS | J94: =IF(DATA!D66="","",DATA!D66) -> Delta DPU-100 3L Hydro@Home Hydropure DHPU-100 3L Talent DPU-100 3L Talent TAC-50 | K94: =DATA!H66 -> France
B95: =IF(DATA!O68="","",DATA!O68) -> 47363 | C95: =IF(DATA!F68<>"", HYPERLINK(DATA!F68, "Link"), "") -> Link | D95: =DATA!A68 -> PWG Certificate | E95: =DATA!E68 -> CTA | F95: =DATA!B68 -> Softeners Clack Gamme 33 SCL1033V | G95: =IF(DATA!C68="","",DATA!C68) -> 24 ACC LY 462 | H95: =DATA!J68 -> Softeners | I95: =DATA!L68 -> ACS | J95: =IF(DATA!D68="","",DATA!D68) -> SCL333V, SCL533V, SCL733V, SCL1033V, SCL1533V, SCL1733V, SCL2233V DCL333V, DCL533V, DCL733V, DCL1033V, DCL1533V, DCL1733V, DCL2233V FA16FAG, FA18FAG, FA21FAG, FA16CHA, FA18CHA, FA21CHA, FA16CAL, FA18CAL, FA21CAL | K95: =DATA!H68 -> France
B96: =IF(DATA!O65="","",DATA!O65) -> 47304 | C96: =IF(DATA!F65<>"", HYPERLINK(DATA!F65, "Link"), "") -> Link | D96: =DATA!A65 -> Supplier Certifcate | E96: =DATA!E65 -> PWG France | F96: =DATA!B65 -> Filters AMG By pass filters | G96: =IF(DATA!C65="","",DATA!C65) -> 24 ACC LY 306 | H96: =DATA!J65 -> Filters and components | I96: =DATA!L65 -> ACS | J96: =IF(DATA!D65="","",DATA!D65) -> Filters AMG By pass filters | K96: =DATA!H65 -> France
B97: =IF(DATA!O62="","",DATA!O62) -> 47149 | C97: =IF(DATA!F62<>"", HYPERLINK(DATA!F62, "Link"), "") -> Link | D97: =DATA!A62 -> Supplier Certifcate | E97: =DATA!E62 -> PWG France | F97: =DATA!B62 -> UV Desinfection Sita 22 Articles | G97: =IF(DATA!C62="","",DATA!C62) -> 24 ACC LY 058 | H97: =DATA!J62 -> UV | I97: =DATA!L62 -> ACS | J97: =IF(DATA!D62="","",DATA!D62) -> Systemes de desinfection par UV - Sita - 22 articles | K97: =DATA!H62 -> France
B98: =IF(DATA!O64="","",DATA!O64) -> 47258 | C98: =IF(DATA!F64<>"", HYPERLINK(DATA!F64, "Link"), "") -> Link | D98: =DATA!A64 -> Supplier Certifcate | E98: =DATA!E64 -> PWG N.V. | F98: =DATA!B64 -> Pressure vessels Canature AxB: 05 x 17 to 63 x 86 | G98: =IF(DATA!C64="","",DATA!C64) -> No 033-03 | H98: =DATA!J64 -> Composite pressure vessels | I98: =DATA!L64 -> KTW-UBA | J98: =IF(DATA!D64="","",DATA!D64) -> pressure vessel AxB（AxB: 05 x 17 to 63 x 86) pressure vessel D AxB（AxB: 10 x 17 to 24 x 72 | K98: =DATA!H64 -> Germany
B99: =IF(DATA!#REF!="","",DATA!#REF!) -> #REF! | C99: =IF(DATA!#REF!<>"", HYPERLINK(DATA!#REF!, "Link"), "") -> #REF! | D99: =DATA!#REF! -> #REF! | E99: =DATA!#REF! -> #REF! | F99: =DATA!#REF! -> #REF! | G99: =IF(DATA!#REF!="","",DATA!#REF!) -> #REF! | H99: =DATA!#REF! -> #REF! | I99: =DATA!#REF! -> #REF! | J99: =IF(DATA!#REF!="","",DATA!#REF!) -> #REF! | K99: =DATA!#REF! -> #REF!
B100: =IF(DATA!#REF!="","",DATA!#REF!) -> #REF! | C100: =IF(DATA!#REF!<>"", HYPERLINK(DATA!#REF!, "Link"), "") -> #REF! | D100: =DATA!#REF! -> #REF! | E100: =DATA!#REF! -> #REF! | F100: =DATA!#REF! -> #REF! | G100: =IF(DATA!#REF!="","",DATA!#REF!) -> #REF! | H100: =DATA!#REF! -> #REF! | I100: =DATA!#REF! -> #REF! | J100: =IF(DATA!#REF!="","",DATA!#REF!) -> #REF! | K100: =DATA!#REF! -> #REF!
...

Sheet DATA
A1: Certificate Owner | B1: Index Number/Title | C1: Certification No. | D1: Content of Certificate | E1: Responsible Company | F1: Download the PDF of the certificate here | G1: E-mail of the responsible | H1: Applicable in following countries and continents | I1: If your region is not in the list above, fill it out here | J1: Product category | K1: Category | L1: Type of certificate | M1: Creation date of certificate | N1: Expiration date? | O1: Expiration date of certificate is | P1: Reminder mail has been send? | Q1: Send a reminder mail on | R1: Renewal certificate requested? | S1: Request Date of certificate by PWG member | T1: Select relevant communication flows
A2: PWG Certificate | B2: Softeners Delta Simplex & Delta Duplex | C2: KIWA-22-DW-10312 | D2: SIMPLEX: Hydro @ Home - Simplex 3L Hydrosoft DHSO-100-M Hydrosoft DHSO-100-B Hydrosoft DHSO-100-BS Talent - Simplex 3L DTSO-100-M DTSO-100-B DTSO-100-BS Soft Monomatik Pallas NES Simplex DUPLEX: Hydro@Home - Duplex 3L Hydrosoft DHSO-200-M Hydrosoft DHSO-200-B Hydrosoft DHSO-200-BL Hydrosoft DHSO-200-BLS Talent - Duplex 3L DTSO-200-M DTSO-200-B DTSO-200-BL DTSO-200-BLS Soft Duomatik Evoline Pallas NES Duplex | E2: Delta Water Engineering N.V. | F2: https://polletgroupintranet.sharepoint.com/:b:/s/PG_CORP_MKT/EfdvOo4Vk0hDkTyQ21bI4nUBaKGcPMbTN7t1yfTGJubDqQ?e=tPxJ8Y | G2: johan.lansens@pwg.be | H2: Germany | J2: Softeners | L2: KTW-UBA | M2: 44854 | N2: Yes | O2: 45006 | R2: No
A3: PWG Certificate | B3: Adoucisseur Clack WR duplex 1In | C3: 17 ACC LY 611 | E3: Suko NV | F3: https://polletgroupintranet.sharepoint.com/:b:/s/PG_CORP_MKT/EaveSjO62l9Hjhl2fnDIWIkBfzOoNd4fRuXgKFYCnxfYHg?e=jkRZpu | G3: johan.lansens@pwg.be | H3: France | J3: Softeners | L3: ACS | M3: 44901 | N3: Yes | O3: 45436 | Q3: 45400 | R3: No | T3: Expiration Mail: certificate reaches expiration date soon
A4: PWG Certificate | B4: Adoucisseur Clack 1In | C4: 17 ACC LY 607 | E4: Suko NV | F4: https://polletgroupintranet.sharepoint.com/:b:/s/PG_CORP_MKT/EcqK-mJCJPtDqPXji0xSY_gBNtNidem17eNkGF7g4v-GlQ?e=wgNZHr | G4: johan.lansens@pwg.be | H4: France | J4: Softeners | L4: ACS | M4: 44901 | N4: Yes | O4: 45436 | Q4: 45400 | R4: No | T4: Expiration Mail: certificate reaches expiration date soon
A5: PWG Certificate | B5: Adoucisseur Clack PI | C5: 17 ACC LY 608 | E5: Suko NV | F5: https://polletgroupintranet.sharepoint.com/:b:/s/PG_CORP_MKT/EV22MCF9_RBDkmv1H4OWJiYBTrZlCiJFqrcX3PbPirXAQQ?e=1ricSU | G5: johan.lansens@pwg.be | H5: France | J5: Softeners | L5: ACS | M5: 44901 | N5: Yes | O5: 45436 | Q5: 45400 | R5: No | T5: Expiration Mail: certificate reaches expiration date soon
A6: PWG Certificate | B6: Adoucisseur Clack WR 1.25In | C6: 17 ACC LY 610 | E6: Suko NV | F6: https://polletgroupintranet.sharepoint.com/:b:/s/PG_CORP_MKT/EZR2vJdxz4xLq_vQVuDmDsIBo_fEc9gP7_L8aceRXPKX_w?e=N3wkey | G6: johan.lansens@pwg.be | H6: France | J6: Softeners | L6: ACS | M6: 44901 | N6: Yes | O6: 45436 | Q6: 45400 | R6: No | T6: Expiration Mail: certificate reaches expiration date soon
A7: PWG Certificate | B7: Adoucisseur Clack WR 1In | C7: 17 ACC LY 609 | E7: Suko NV | F7: https://polletgroupintranet.sharepoint.com/:b:/s/PG_CORP_MKT/Edj7PGEspRhLoUp9bbJLc_QB7P5bAMbEhSJ8YMe0FLrR4A?e=xuvOre | G7: johan.lansens@pwg.be | H7: France | J7: Softeners | L7: ACS | M7: 44901 | N7: Yes | O7: 45436 | Q7: 45400 | R7: No | T7: Expiration Mail: certificate reaches expiration date soon
A8: Supplier Certifcate | B8: Filters Cintropur NW18 to 75 | C8: 21 ACC LY 752 | D8: Cintropur NW 18 to 75 | E8: PWG France | F8: https://polletgroupintranet.sharepoint.com/:b:/s/PG_CORP_MKT/EePUeSnn_J1OgZpwCeiN0RYB_Ps6TPs6M-JUKBYPEMNs8w?e=GAB0pf | G8: johan.lansens@pwg.be | H8: France | J8: Filters and components | L8: ACS | M8: 44504 | N8: Yes | O8: 46330 | Q8: 45965 | R8: No | T8: Expiration Mail: certificate reaches expiration date soon
A9: PWG Certificate | B9: Adoucisseur Delta 3L Simplex and Duplex | C9: 21 ACC LY 098 | D9: Hydro @ Home - range Talent - range Delta 3L Simplex Delta 3L Duplex | E9: Delta Water Engineering N.V. | F9: https://polletgroupintranet.sharepoint.com/:b:/s/PG_CORP_MKT/EUVoBmMEZjdOhelaVZgTF7MBRP6gLiwIMPIZF_M54QyooA?e=7TcnnJ | G9: johan.lansens@pwg.be | H9: France | J9: Softeners | L9: ACS | M9: 44537 | N9: Yes | O9: 46363 | Q9: 45998 | R9: No | T9: Expiration Mail: certificate reaches expiration date soon
A10: PWG Customer Certificate | B10: Adoucisseur Aqua 2000 Excell | C10: 21 ACC LY 931 | D10: Excell Hydro @ Home | E10: Delta Water Engineering N.V. | F10: https://polletgroupintranet.sharepoint.com/:b:/s/PG_CORP_MKT/Ed8O58HIk11Am0fLmNUMF4EBFhR5t2RjZHPeYlu70TSE5Q?e=sON5BO | G10: johan.lansens@pwg.be | H10: France | J10: Softeners | L10: ACS | M10: 44537 | N10: Yes | O10: 46363 | Q10: 45998 | R10: No | T10: Expiration Mail: certificate reaches expiration date soon
A11: PWG Certificate | B11: Adoucisseur PWG France Wave | C11: 21 ACC LY 932 | D11: Wave | E11: Delta Water Engineering N.V. | F11: https://polletgroupintranet.sharepoint.com/:b:/s/PG_CORP_MKT/EXPHXt7U5U5CuN8k9kJMWegBadBr_rwCbsBmXFKKPBkuWA?e=d8JTje | G11: johan.lansens@pwg.be | H11: France | J11: Softeners | L11: ACS | M11: 44537 | N11: Yes | O11: 46363 | Q11: 45998 | R11: No | T11: Expiration Mail: certificate reaches expiration date soon
A12: PWG Certificate | B12: Adoucisseur PWG France CR2J Hydroline | C12: 21 ACC LY 933 | D12: CR2J Hydroline | E12: Delta Water Engineering N.V. | F12: https://polletgroupintranet.sharepoint.com/:b:/s/PG_CORP_MKT/ERrIvckYu0FOg3orLM41v3wB4nEfbWJX6UNZXwuKm5Y-og?e=vBcxnk | G12: johan.lansens@pwg.be | H12: France | J12: Softeners | L12: ACS | M12: 44537 | N12: Yes | O12: 46363 | Q12: 45998 | R12: No | T12: Expiration Mail: certificate reaches expiration date soon
A13: PWG Customer Certificate | B13: Adoucisseur Sotco Ozeo | C13: 21 ACC LY 934 | D13: Sotco Ozeo | E13: Delta Water Engineering N.V. | F13: https://polletgroupintranet.sharepoint.com/:b:/s/PG_CORP_MKT/Ed8O58HIk11Am0fLmNUMF4EBFhR5t2RjZHPeYlu70TSE5Q?e=sON5BO | G13: johan.lansens@pwg.be | H13: France | J13: Softeners | L13: ACS | M13: 44537 | N13: Yes | O13: 46363 | Q13: 45998 | R13: No | T13: Expiration Mail: certificate reaches expiration date soon
A14: PWG Certificate | B14: Adoucisseur PWG France Pallas NES | C14: 21 ACC LY 935 | D14: Pallas NES | E14: Delta Water Engineering N.V. | F14: https://polletgroupintranet.sharepoint.com/:b:/s/PG_CORP_MKT/EZmf0x03BmNIoTR6bWBL-PwBrw5shB12Eo6prp5cLMyiig?e=KbWc96 | G14: johan.lansens@pwg.be | H14: France | J14: Softeners | L14: ACS | M14: 44537 | N14: Yes | O14: 46363 | Q14: 45998 | R14: No | T14: Expiration Mail: certificate reaches expiration date soon
A15: PWG Certificate | B15: Softeners Delta Simplex & Delta Duplex | C15: 461/2021 Swedish Type Approval 1773 | D15: SIMPLEX 3L DSO-100 Delta Simplex 3L DHSO-100-M Hydrosoft 100M DHSO-100-B Hydrosoft 100B DHSO-100-BS Hydrosoft 100BS DTSO-100-M Talent 100M DTSO-100-B Talent 100B DTSO-100-BS Talent 100BS DUPLEX 3L DSO-200 Delta Duplex 3L DHSO-200-M Hydrosoft 200M DHSO-200-B Hydrosoft 200B DHSO-200-BL Hydrosoft 200BL DTSO-200-M Talent 200M DTSO-200-B Talent 200B DTSO-200-BL Talent 200BL | E15: Delta Water Engineering N.V. | F15: https://polletgroupintranet.sharepoint.com/:b:/s/PG_CORP_MKT/EecXVayrwpZDs3c9q2VKTEYBi4m_2USZ-h-qXNxuuUMCMw?e=hGVfQp; https://polletgroupintranet.sharepoint.com/:b:/s/PG_CORP_MKT/EQkk5Z4H5AdOvaDORtNe9ukBuaC6K8qwCFNEh5-1Bybefg?e=GQ0AAf | G15: johan.lansens@pwg.be | H15: Sweden; Norway; Denmark | J15: Softeners | L15: Swedish type approval (rise) | M15: 44540 | N15: Yes | O15: 46365 | Q15: 46000 | R15: No | T15: Expiration Mail: certificate reaches expiration date soon
A16: Supplier Certifcate | B16: Softeners Runxin Residental Directive 2011/65/EU | C16: ICR Polska/VC/HL211204 | D16: Product type: Residential softener RL-R30, RL-R50, RL-R55, RL-R60, RL-R70, RL-R80, RL-R90, RL-R100, RL-R105, RL-R110, RL-R115, RL-R120, RL-R150, RL-R200, RL-R250, RL-R300, RL-S30, RL-S50, RL-S55, RL-S60, RL-S70, RL-S80, RL-S90, RL-S100, RL-S105, RL-S110, RL-S115, RL-S120, RL-S150, RL-S200, RL-S250, RL-S300 | E16: PWG N.V. | F16: https://polletgroupintranet.sharepoint.com/:b:/s/PG_CORP_MKT/EZ8Zl0YKIstLrxlSBJRjt7oBYfPnabOJR0Ok3dNync7p-A?e=0syCZZ | G16: johan.lansens@pwg.be | H16: European Union | J16: Softeners | L16: CE | M16: 44544 | N16: Yes | O16: 46369 | Q16: 46004 | R16: No | T16: Expiration Mail: certificate reaches expiration date soon
A17: Supplier Certifcate | B17: Filters Runxin Backwashable Disk Prefilter Directives 2014/35/EU and 2014/30/EU | C17: ICR Polska/VC/HL211206 | D17: Product types: Backwashable Disk Prefilter RL-Q01, RL-Q02, RL-Q03, RL-Q04, RL-Q05, RL-Q06, RL-Q07, RL-Q08, RL-Q09 | E17: PWG N.V. | F17: https://polletgroupintranet.sharepoint.com/:b:/s/PG_CORP_MKT/EQ3qZhtza1tGuNcM8eZ4y0kB8PZCzr8vuLvNBjhP_-Mvnw?e=XMdi9G | G17: johan.lansens@pwg.be | H17: European Union | J17: Filters and components | L17: CE | M17: 44552 | N17: Yes | O17: 46377 | Q17: 46012 | R17: No | T17: Expiration Mail: certificate reaches expiration date soon
A18: Supplier Certifcate | B18: Filters Runxin Backwashable Disk Prefilter Directives 2011/65/EU | C18: ICR Polska/VC/HL211207 | D18: Product types: Backwashable Disk Prefilters RL-Q01, RL-Q02, RL-Q03, RL-Q04, RL-Q05, RL-Q06, RL-Q07, RL-Q08, RL-Q09 | E18: PWG N.V. | F18: https://polletgroupintranet.sharepoint.com/:b:/s/PG_CORP_MKT/ETkz0Vv9FVJLnK09-Ze1lu8BDH-nym1iAJIVzB3ZcpULuA?e=PaQtMQ | G18: johan.lansens@pwg.be | H18: European Union | J18: Filters and components | L18: CE | M18: 44552 | N18: Yes | O18: 46377 | Q18: 46012 | R18: No | T18: Expiration Mail: certificate reaches expiration date soon
A19: Supplier Certifcate | B19: Pressure vessels Canature 4in | C19: 21 ACC LY 695 | D19: Pressure Vessel 4" 3072 Pressure Vessel 4"-4" 3072 Pressure Vessel 4"-4" 3672 | E19: PWG France | F19: https://polletgroupintranet.sharepoint.com/:b:/s/PG_CORP_MKT/EXbv0PSWtZJOv3M-b6tDS2UBnHBLoStWFxeOGqHYmBe_lQ?e=Wryusc | G19: johan.lansens@pwg.be | H19: France | J19: Composite pressure vessels | L19: ACS | M19: 44578 | N19: Yes | O19: 46404 | R19: No
A20: Supplier Certifcate | B20: Pressure vessels Canature 6 flange | C20: 21 MAT LY 167 | D20: Nom(s) commercial(aux) du produit fini / Pressure Vessel 6"-6" 3072 Pressure Vessel 6"-6" 3672 Pressure Vessel 6"-6" 4272 Pressure Vessel 6"-6" 4872 Pressure Vessel 6"-6" 5872 Pressure Vessel 6"-6" 6367 Pressure Vessel 6"-6" 6386 | E20: PWG France | F20: https://polletgroupintranet.sharepoint.com/:b:/s/PG_CORP_MKT/EUkZlodv-11Ks44EWGKIFeUBHX1Emv-tRYzRHqC7p-_p4w?e=2LQeZU | G20: johan.lansens@pwg.be | H20: France | J20: Composite pressure vessels | L20: ACS | M20: 44578 | N20: Yes | O20: 46404 | R20: No
A21: Supplier Certifcate | B21: PE/TUBE Reliance Worldwide Corporation Tube LLDPE Naturel | C21: 22 MAT NY 108 | D21: Tube/Pipe polyethylenee PE 240cm2 / L Naturel | E21: PWG France | F21: https://polletgroupintranet.sharepoint.com/:b:/s/PG_CORP_MKT/EU0jndonOCpPhat4YeSzoD4BbRUAccrSh8YQKEBz663Kzg?e=YI3nA0 | G21: johan.lansens@pwg.be | H21: France | J21: Tubes/Pipes | L21: ACS | M21: 44869 | N21: Yes | O21: 46446 | Q21: 46081 | R21: No | T21: Expiration Mail: certificate reaches expiration date soon
A22: PWG Certificate | B22: ISO9001 TES DIN EN ISO9001:2015 | C22: 73 100 7202 | D22: Scope: Technical advice and services in the sale of water treatment systems and their components. | E22: TES Water Treatment GmbH | F22: https://polletgroupintranet.sharepoint.com/:b:/s/PG_CORP_MKT/EanSXn6Yc2xNv2BVMpqNeikBPR8L1vA9A1Tc9Yg2s7pzuA?e=SdCG3x | G22: johan.lansens@pwg.be | H22: Other | J22: ISO | L22: ISO | M22: 45409 | N22: Yes | O22: 46503 | Q22: 46138 | R22: No | T22: Expiration Mail: certificate reaches expiration date soon
A23: Supplier Certifcate | B23: Resin Pure PC002 | C23: D-22-008495-31 | D23: Pure Resin PC002 | E23: PWG N.V. | F23: https://polletgroupintranet.sharepoint.com/:f:/s/PG_CORP_MKT/EiakZRxZ4HZHl4oBPlkksqYBGxRbs0OX-9w2BsoeI8n0uA?e=b4NNEs | G23: johan.lansens@pwg.be | H23: European Union | J23: ION exchange resins | L23: ACS | M23: 44662 | N23: Yes | O23: 46507 | R23: No
A24: Supplier Certifcate | B24: Resin Pure PC002 | C24: D-22-008495-31 | D24: Pure Resin PC002 | E24: PWG N.V. | F24: https://polletgroupintranet.sharepoint.com/:f:/s/PG_CORP_MKT/EhDsFgiY4bxGi6g_5kw-7KoBUxYh_5qoUlbicSozom-ySw?e=KWdehN | G24: johan.lansens@pwg.be | H24: European Union | J24: ION exchange resins | L24: RESAP | M24: 44662 | N24: Yes | O24: 46507 | R24: No
A25: PWG Certificate | B25: =IF(Table6[[#This Row],[Certification No.]]<>"",Table6[[#This Row],[Certification No.]],"") -> 2205103 | C25: 2205103 | D25: L8 L12 L22 L41 L57 L79 H15 H38 H93 H95 H151 UV DISINFECTION UNIT | E25: Wycombe Water Ltd. | F25: https://polletgroupintranet.sharepoint.com/:b:/s/PG_CORP_MKT/EUljUe9KtmVLlFpM-M0lXYwBQ1abPrxX0ed5Mv9S58erjw?e=CdlDWX | G25: johan.lansens@pwg.be | H25: United Kingdom | J25: UV | L25: WRAS | M25: 44682 | N25: Yes | O25: 46508 | R25: No
A26: Supplier Certifcate | B26: Joint/O-ring Joreau Elastomeres Melanges 2875N | C26: 22 CLP NY 026 | D26: Joint de diametre inferieur a 63mm EPDM Noir | E26: PWG France | F26: https://polletgroupintranet.sharepoint.com/:b:/s/PG_CORP_MKT/EecvCbhkjRhAiB_U5Z33r0YBlpBb-L8fyGaA3lN4WH9n4A?e=eLL578 | G26: johan.lansens@pwg.be | H26: France | J26: Other | L26: ACS | M26: 44739 | N26: Yes | O26: 46565 | Q26: 46200 | R26: No | T26: Expiration Mail: certificate reaches expiration date soon
A27: Supplier Certifcate | B27: PE/TUBE Reliance Worldwide Corporation Tube LLDPE Bleu | C27: 22 MAT NY 110 | D27: Tube/Pipe polyethylenee PE 240cm2 / L Bleu | E27: PWG France | F27: https://polletgroupintranet.sharepoint.com/:b:/s/PG_CORP_MKT/EaGNgxUGUqBGvCpjAY2M9dMBBlKnkpQeYl4Z-i-2Hl53YQ?e=fX1oWw | G27: johan.lansens@pwg.be | H27: France | J27: Tubes/Pipes | L27: ACS | M27: 44869 | N27: Yes | O27: 46581 | Q27: 46216 | R27: No | T27: Expiration Mail: certificate reaches expiration date soon
A28: Supplier Certifcate | B28: PE/TUBE Reliance Worldwide Corporation Tube LLDPE Rouge | C28: 22 MAT NY 111 | D28: Tube/Pipe polyethylenee PE 240cm2 / L Rouge | E28: PWG France | F28: https://polletgroupintranet.sharepoint.com/:b:/s/PG_CORP_MKT/EWgCor2yLxtBqo0-EoSKXUABEu863z_UVEl06oNDVW6UBw?e=tQegge | G28: johan.lansens@pwg.be | H28: France | J28: Tubes/Pipes | L28: ACS | M28: 44869 | N28: Yes | O28: 46581 | Q28: 46247 | R28: No | T28: Expiration Mail: certificate reaches expiration date soon
A29: PWG Certificate | B29: Softeners Delta Hydro @ Home | C29: K109795/03 | D29: Hydro @ Home - Simplex 3L Hydrosoft DSHO-100-M Hydrosoft DHSO-100-B Hydrosoft DHSO-100-BS Hydro@Home - Duplex 3L Hydrosoft DHSO-200-M Hydrosoft DHSO-200-B Hydrosoft DHSO-200-BL Hydrosoft DHSO-200-BLS Talent - Simplex 3L DTSO-100-M DTSO-100-B DTSO-100-BS Talent - Duplex 3L DTSO-200-M DTSO-200-B DTSO-200-BL DTSO-200-BLS | E29: Delta Water Engineering N.V. | F29: https://polletgroupintranet.sharepoint.com/:b:/s/PG_CORP_MKT/EaNlutVSshtAsgaggmvg-rIB7OxdxchNTPgwuY53ifvRPg?e=OAOVET; https://polletgroupintranet.sharepoint.com/:b:/s/PG_CORP_MKT/EbzjcYimoJhHhDd6kwOIR_8BrAPyMF3Bcl3l8LpD_nNERw?e=37UM0y | G29: johan.lansens@pwg.be | H29: European Union | J29: Softeners | L29: Dutch ATA (KIWA) | M29: 45413 | N29: Yes | O29: 46583 | Q29: 46218 | R29: No | T29: Expiration Mail: certificate reaches expiration date soon
A30: Supplier Certifcate | B30: Softeners Runxin Residental Directives 2014/35/EU and 2014/30/EU | C30: ICR Polska/VC/HL220802 | D30: Product types: Residential softeners RL-R30, RL-R50, RL-R55, RL-R60, RL-R70, RL-R80, RL-R90, RL-R100, RL-R105, RL-R110, RL-R115, RL-R120, RL-R150, RL-R200, RL-R250, RL-R300, RL-S30, RL-S50, RL-S55, RL-S60, RL-S70, RL-S80, RL-S90, RL-S100, RL-S105, RL-S110, RL-S115, RL-S120, RL-S150, RL-S200, RL-S250, RL-S300 | E30: PWG N.V. | F30: https://polletgroupintranet.sharepoint.com/:b:/s/PG_CORP_MKT/EYjO2leOScxOg56ZVrcVxWQBfG2YPPzbWtlfT_nrjj8TEg?e=HM2xH8 | G30: johan.lansens@pwg.be | H30: European Union; United Kingdom | J30: Softeners | L30: CE | M30: 44781 | N30: Yes | O30: 46606 | Q30: 46241 | R30: No | T30: Expiration Mail: certificate reaches expiration date soon
A31: Supplier Certifcate | B31: Valves Pentair Vannes Famille 5600 | C31: 22 ACC NY 282 | E31: PWG France | F31: https://polletgroupintranet.sharepoint.com/:b:/s/PG_CORP_MKT/ERIOr7ZgEXlBgo544VOh9QkBme9Q-17qXWsKbIDHsY9whw?e=oZmPEY | G31: johan.lansens@pwg.be | H31: France | J31: Valves - Fleck | L31: ACS | M31: 44796 | N31: Yes | O31: 46622 | Q31: 46257 | R31: No | T31: Expiration Mail: certificate reaches expiration date soon
A32: Supplier Certifcate | B32: PE/TUBE Reliance Worldwide Corporation Tube LLDPE Noir | C32: 22 MAT NY 109 | D32: Tube/Pipe polyethylenee PE 240cm2 / L Noir | E32: PWG France | F32: https://polletgroupintranet.sharepoint.com/:b:/s/PG_CORP_MKT/EXVqgX1xrfBLhqGZckBBq_0Bj8_dnGtCXa510Uynml5YkQ?e=R3umpn | G32: johan.lansens@pwg.be | H32: France | J32: Tubes/Pipes | L32: ACS | M32: 44869 | N32: Yes | O32: 46673 | Q32: 46308 | R32: No | T32: Expiration Mail: certificate reaches expiration date soon
A33: PWG Certificate | B33: Cartridge Wounded Pallas 10 to 40In | C33: 22 ACC LY 701 | E33: PWG N.V. | F33: https://polletgroupintranet.sharepoint.com/:b:/s/PG_CORP_MKT/EYqpFtOysWRKjIRyASZx5CwBTdaIzMdwTkP-VD8WtiIIyQ?e=WYWPCy | G33: johan.lansens@pwg.be | H33: France | J33: Filters and components | L33: ACS | M33: 44890 | N33: Yes | O33: 46716 | Q33: 46351 | R33: No | T33: Expiration Mail: certificate reaches expiration date soon
A34: Supplier Certifcate | B34: Resine Dupont Dowex Marathon Amberlite | C34: 22 RES LY 004 | D34: Dowex Marathon C(Na) Amberlite HPR1100 Na | E34: PWG France | F34: https://polletgroupintranet.sharepoint.com/:b:/s/PG_CORP_MKT/Efhp_jUlhXpHhDRf39_RyhcB6y-bELX18zORo-_jgJ3kqA?e=aLAmwp | G34: johan.lansens@pwg.be | H34: France | J34: ION exchange resins | L34: ACS | M34: 44902 | N34: Yes | O34: 46728 | Q34: 46363 | R34: No | T34: Expiration Mail: certificate reaches expiration date soon
A35: Supplier Certifcate | B35: Resine Dupont Taptec HCRSS FF Na | C35: 20 RES LY 005 | E35: PWG France | F35: https://polletgroupintranet.sharepoint.com/:b:/s/PG_CORP_MKT/ETIa0ej3UtlMvdIOQlSg4BEBlbl7mr4B7YSw682-wwFl4Q?e=zuFuQ4 | G35: johan.lansens@pwg.be | H35: France | J35: ION exchange resins | L35: ACS | M35: 44902 | N35: Yes | O35: 46728 | Q35: 46363 | R35: No | T35: Expiration Mail: certificate reaches expiration date soon
A36: Supplier Certifcate | B36: Resine Dupont Taptec SR1L Na & Amberlite SR1L Na | C36: 21 RES LY 001 | E36: PWG France | F36: https://polletgroupintranet.sharepoint.com/:b:/s/PG_CORP_MKT/Eb6ExO2VC-dBjoySeK0abqcByi0vx3gb2sJhovlrnLwihQ?e=FhkjBY | G36: johan.lansens@pwg.be | H36: France | J36: ION exchange resins | L36: ACS | M36: 44902 | N36: Yes | O36: 46728 | Q36: 46363 | R36: No | T36: Expiration Mail: certificate reaches expiration date soon
A37: PWG Certificate | B37: Filters Delta drinking water filter with activated carbon | C37: 043/2023 Swedish Type Approval 1837 | D37: Talent DPU-100 H@H Hydropure DPU-100 Delta DPU-100 | E37: Delta Water Engineering N.V. | F37: https://polletgroupintranet.sharepoint.com/:b:/s/PG_CORP_MKT/EfNDWmwdC4JIozJmimTiucUBYnV-8OXyJpQCIj_2FnQKDg?e=fejmpC; https://polletgroupintranet.sharepoint.com/:b:/s/PG_CORP_MKT/Ee0119ITJslHq-9HWRN-EB4BFa-VsFCQRYIK8LpMpd-syw?e=2Ki4XY | G37: johan.lansens@pwg.be | H37: Sweden; Denmark; Norway | J37: Filters and components | L37: Swedish type approval (rise) | M37: 44977 | N37: Yes | O37: 46802 | Q37: 46437 | R37: No | T37: Expiration Mail: certificate reaches expiration date soon
A38: PWG Certificate | B38: Softeners Clack 3-4In & 1In Plastic | C38: KIWA-23-DW-10335-1 | D38: Containing Structural Pressure Vessels - 2,5" Inlet - 8,8 L to 103,1 L Containing 3/4" & 1" Plastic Male BSPT Fittings - V3007-06-KTW or V3007-14-KTW Containing V3006-KTW Bypass Containing Pallas Riser Tube Containing GBO Upper Screen Containing GBU Lower Screen Clack 1" valve | E38: Suko NV | F38: https://polletgroupintranet.sharepoint.com/:b:/s/PG_CORP_MKT/Eb_gqB0jxG1KvhUPUpmmMVIBuCVhaDT9SMWYKV8aTxspjg?e=1DtKmv | G38: johan.lansens@pwg.be | H38: Germany | J38: Softeners | L38: KTW-UBA | M38: 45370 | N38: Yes | O38: 46820 | Q38: 46454 | R38: No | T38: Expiration Mail: certificate reaches expiration date soon
A39: PWG Certificate | B39: Adoucissuer Clack WR 2In | C39: 23 ACC LY 061 | E39: Suko NV | F39: https://polletgroupintranet.sharepoint.com/:b:/s/PG_CORP_MKT/Ecn1egFW-mJOlcWsNsCwwqgBZXYkau2I0hCAm6GT6hHF7w?e=RjPfdG | G39: johan.lansens@pwg.be | H39: France | J39: Softeners | L39: ACS | M39: 45106 | N39: Yes | O39: 46896 | Q39: 46896 | R39: No | T39: Expiration Mail: certificate reaches expiration date soon
A40: PWG Certificate | B40: Adoucisseur Clack WR 2In QC | C40: 23 ACC LY 062 | E40: Suko NV | F40: https://polletgroupintranet.sharepoint.com/:b:/s/PG_CORP_MKT/ETcLb35DeflPuwN6Wgr-DmEBfKN4W65kykOFhbZy2ktM8g?e=OHPrz8 | G40: johan.lansens@pwg.be | H40: France | J40: Softeners | L40: ACS | M40: 45106 | N40: Yes | O40: 46896 | Q40: 46530 | R40: No | T40: Expiration Mail: certificate reaches expiration date soon
A41: PWG Certificate | B41: Adoucisseur Clack WR 2In HF | C41: 23 ACC LY 063 | E41: Suko NV | F41: https://polletgroupintranet.sharepoint.com/:b:/s/PG_CORP_MKT/EQ0T_SYhGqdHnp-Ro8ZhCrgB3FQZLQTSH_1Yp_r8R4OR2w?e=SCXDj8 | G41: johan.lansens@pwg.be | H41: France | J41: Softeners | L41: ACS | M41: 45106 | N41: Yes | O41: 46896 | Q41: 46530 | R41: No | T41: Expiration Mail: certificate reaches expiration date soon
A42: PWG Certificate | B42: Adoucisseur Clack WR 3In | C42: 23 ACC LY 064 | E42: Suko NV | F42: https://polletgroupintranet.sharepoint.com/:b:/s/PG_CORP_MKT/EYLzAICSuYRJo-8Tmal-UU8B379Uomz5iE_Ns5bxvKw6DA?e=6wD69G | G42: johan.lansens@pwg.be | H42: France | J42: Softeners | L42: ACS | M42: 45106 | N42: Yes | O42: 46896 | Q42: 46530 | R42: No | T42: Expiration Mail: certificate reaches expiration date soon
A43: PWG Certificate | B43: Adoucisseur Clack WR 1.5In | C43: 23 ACC LY 060 | E43: Suko NV | F43: https://polletgroupintranet.sharepoint.com/:b:/s/PG_CORP_MKT/EY4_il_zSgtCiDyXewzEFIoBusok8Eh2vvJUPVBqTWkaeg?e=Q1TnS5 | G43: johan.lansens@pwg.be | H43: France | J43: Softeners | L43: ACS | M43: 45106 | N43: Yes | O43: 46896 | Q43: 46530 | R43: No | T43: Expiration Mail: certificate reaches expiration date soon
A44: PWG Certificate | B44: Softeners Wycombe FLS29 | C44: 2306622 S3 | D44: Models: FLS29-125, FLS29-150, FLS29-250, FLS29-350, FLS29-500 and FLS29-750 | E44: Wycombe Water Ltd. | F44: https://polletgroupintranet.sharepoint.com/:b:/s/PG_CORP_MKT/EaIdaHsQe-pHlBObm4Lj23wBwMm5nO3PKUgwrPq5Y7RkeA?e=s9HoxK | G44: johan.lansens@pwg.be | H44: United Kingdom | J44: Softeners | L44: NSF | M44: 45096 | N44: Yes | O44: 46922 | Q44: 46556 | R44: No | T44: Expiration Mail: certificate reaches expiration date soon
A45: PWG Certificate | B45: Softeners Wycombe FL29 | C45: 2306064 | D45: FLS29-125 2910, FLS29-150 2910, FLS29-250 2910, FLS29-350 2910, FLS29-500 2910 & FLS29-750 2910 WATER SOFTENERS | E45: Wycombe Water Ltd. | F45: https://polletgroupintranet.sharepoint.com/:b:/s/PG_CORP_MKT/EVyXp6ltpedDtO8wor6zVuYBf6_WZBrw_3BYDVufRmc8Jg?e=pYfuSX | G45: johan.lansens@pwg.be | H45: United Kingdom | J45: Softeners | L45: WRAS | M45: 45078 | N45: Yes | O45: 46934 | Q45: 46568 | R45: No | T45: Expiration Mail: certificate reaches expiration date soon
A46: Supplier Certifcate | B46: Cartridge CPP Sanic Atlas Filtri | C46: 23 ACC LY 306 | D46: CPP Sanic SX AX BX CX | E46: PWG France | F46: https://polletgroupintranet.sharepoint.com/:b:/s/PG_CORP_MKT/IQD8y7sHdUucQZrTpLZ2SIXEASx8HYbFgGEaqUJ4tknZ2qg?e=iQW46c | G46: johan.lansens@pwg.be | H46: France | J46: Filters and components | L46: ACS | M46: 45113 | O46: 46940 | R46: No
A47: Supplier Certifcate | B47: Pressure vessels Pentair Flanged Rotomolded Tanks C-XXYY-* | C47: 23 MAT LY 100 | D47: Nom(s) commercial(aux) du produit fini / Commercial name(s) of the finished product : C-xxyy -* Flanged Rotomolded Tanks What is Meaning / Range : C Product /Final use Commercial / Industrial xx External Diameter (in") From 14 to 36 yy Vessel Height (in") From 43 to 72 | E47: PWG France | F47: https://polletgroupintranet.sharepoint.com/:b:/s/PG_CORP_MKT/EbAFs6UjRpJFuYR2cHGADlgBlsvFbv-kt0dIHVwnTmWIJg?e=f1UcD5 | G47: johan.lansens@pwg.be | H47: France | J47: Composite pressure vessels | L47: ACS | M47: 45162 | N47: Yes | O47: 46944 | Q47: 46578 | R47: No | T47: Expiration Mail: certificate reaches expiration date soon
A48: Supplier Certifcate | B48: Pressure vessels Pentair Threaded rotomolded tank C-xxyy | C48: 23 ACC LY 073 | D48: C-xxyy -* Threaded Rotomolded Tanks What is : Meaning / Range: C Product /Final use Commercial / Industrial xx External Diameter (in") From 14 to 36 yy Vessel Height (in") From 43 to 72 | E48: PWG France | F48: https://polletgroupintranet.sharepoint.com/:b:/s/PG_CORP_MKT/ESiiDIP61_5MoFKNP5StX9YBuBJ-pxMCwbEwQGepdcPk9w?e=fbCWCy | G48: johan.lansens@pwg.be | H48: France | J48: Composite pressure vessels | L48: ACS | M48: 45162 | N48: Yes | O48: 46944 | Q48: 46578 | R48: No | T48: Expiration Mail: certificate reaches expiration date soon
A49: PWG Certificate | B49: Softeners Cappers Ino 20 | C49: KIWA-23-DW-10366-2 | D49: Component Supplier Model Valve Cappers Ino20 KTW series Pressure Vessel Pentair 2,5" inlet 8,8 to 103,1 l Riser tube Pallas 1,05" Bottom distributor KSH GBU Connector Cappers Straight 3/4" or Straight 1" or elbowed 1" Optional Bypass Cappers Residential Bypass | E49: Cappers | F49: https://polletgroupintranet.sharepoint.com/:b:/s/PG_CORP_MKT/IQBIpxH-1ZUMS7_s1M7HscRFARzd948owW_Kt1tIsu7IYng?e=z2Mcdf | G49: johan.lansens@pwg.be | H49: Germany | J49: Softeners | L49: KTW-UBA | M49: 46078 | N49: Yes | O49: 46967 | Q49: 46601 | R49: No | T49: Expiration Mail: certificate reaches expiration date soon
A50: PWG Certificate | B50: Softeners Wycombe FLS39 | C50: 2308625 S3 | D50: Models: FLS39-0800, FLS39-1000 and FLS39-1300 | E50: Wycombe Water Ltd. | F50: https://polletgroupintranet.sharepoint.com/:b:/s/PG_CORP_MKT/EaYi_Gu9PTVKlRZRgsWqYoYBNj_hzdFw7VtT1Z1SvmTKiA?e=v2S9i0 | G50: johan.lansens@pwg.be | H50: United Kingdom | J50: Softeners | L50: NSF | M50: 45152 | N50: Yes | O50: 46978 | Q50: 46612 | R50: No | T50: Expiration Mail: certificate reaches expiration date soon
A51: Supplier Certifcate | B51: SS Housings Bona Water Purification | C51: 17861/1/2025-CERT-01 | D51: Scope of equipment: RO Membrane housing, Cartridge filter housing, Bag filter housing, Media filter housing, Heat exchanger (Max PS 1000 PSI, fluid: water, max V=8000L, material: stainless steel) | E51: PWG N.V. | F51: https://polletgroupintranet.sharepoint.com/:b:/s/PG_CORP_MKT/EUPnWX0NciZKmy9yQqgNkpIBXiWHv7dJ2lGIRobxa13v8A?e=Qxr8nU | G51: johan.lansens@pwg.be | H51: European Union | J51: Other | L51: CE | M51: 45911 | N51: Yes | O51: 47006 | R51: No
A52: Supplier Certifcate | B52: SS Housings Tiger Water Treatment | C52: 17857/1/2025-CERT-01 | D52: Scope of equipment: Bag filter housing, Media filter housing, (Max PS 500 Bar, fluid: water, max V=1000L, material: stainless steel) | E52: PWG N.V. | F52: https://polletgroupintranet.sharepoint.com/:b:/s/PG_CORP_MKT/EZFr09Lxx0tEqhPqs01ii8IBVLy2Ehmch_eYr7x6nnV9Sg?e=XJ2bFg | G52: johan.lansens@pwg.be | H52: European Union | J52: Other | L52: CE | M52: 45911 | N52: Yes | O52: 47006 | R52: No
A53: Supplier Certifcate | B53: Softeners Hague Water | C53: 22 ACC LY 838 | D53: WaterBoss 400 - MICROBOSS 400 - MICROBOSS I410 - PROSERIES I1400 PURATECH 700 - WATERBOSS Pro 180 - Proseries 2300 - PURATECH 900 - WATERBOSS ProPlus 380 ProSeries 97 - PURATECH I51C-B - 9STG - 7STG - V25 - CITY UNIT 29 - CITY UNIT 39 | E53: PWG N.V. | F53: https://polletgroupintranet.sharepoint.com/:b:/s/PG_CORP_MKT/IQDjOgK3XbAUSKuf1ZDBajLWAbC0fCRML1pJTJRlqGqyvm0?e=sgbvgu | G53: johan.lansens@pwg.be | H53: France | J53: Softeners | L53: ACS | M53: 45204 | N53: Yes | O53: 47031 | R53: No
A54: PWG Certificate | B54: Softeners Wycombe FLS39 | C54: 2310107 | D54: MODEL: FLS39-0800 FLS39-1000 FLS39-1300 WATER SOFTENERS | E54: Wycombe Water Ltd. | F54: https://polletgroupintranet.sharepoint.com/:b:/s/PG_CORP_MKT/EYCM3LMDwnhDmJd8mFkol10BGLwSeqgacNg6UXNLGSGNIA?e=1Aj6eP | G54: johan.lansens@pwg.be | H54: United Kingdom | J54: Softeners | L54: WRAS | M54: 45200 | N54: Yes | O54: 47057 | Q54: 46691 | R54: No | T54: Expiration Mail: certificate reaches expiration date soon
A55: PWG Certificate | B55: Softeners Clack Gamme 40 SCL740 | C55: 23 ACC LY 546 | D55: SCL740, SCL1040, SCL1240, SCL1540, SCL1740, SCL2040, SCL2240, SCL2540, SCL2740, SCL3040, SCL3240, SCL3540, SCL3740, SCL4040, SCL4240, SCL4540, SCL4740, SCL5040 DCL740, DCL1040, DCL1240, DCL1540, DCL1740, DCL2040, DCL2240, DCL2540, DCL2740, DCL3040 DCL3240, DCL3540, DCL3740, DCL4040, DCL4240, DCL4540, DCL4740, DCL5040 | E55: CTA | F55: https://polletgroupintranet.sharepoint.com/:b:/s/PG_CORP_MKT/IQCzknZrqVkxRawHMCzH22KgAU1ZngpfaZzHV6sv-4MELqk?e=cMqqrz | G55: johan.lansens@pwg.be | H55: France | J55: Softeners | L55: ACS | M55: 45240 | O55: 47067 | R55: No
A56: PWG Certificate | B56: Softeners Clack Gamme xCL50 SCL750 | C56: 23 ACC LY 547 | D56: SCL750, SCL1050, SCL1250, SCL1550, SCL1750, SCL2050, SCL2250, SCL2550, SCL2750, SCL3050, SCL3250, SCL3550, SCL3750, SCL4050, SCL4250, SCL4550, SCL4750, SCL5050, SCL5250, SCL5550, SCL5750, SCL6050, SCL6250, SCL6550, SCL6750, SCL7050, SCL7550, SCL8050, SCL8550, SCL9050, SCL9550, SCL10050, SCL10550 SCL11050, SCL11550, SCL12050,SCL12550, SCL13050, SCL13550, SCL14050 DCL750, DCL1050, DCL1250, DCL1550, DCL1750, DCL2050, DCL2250, DCL2550, DCL2750, DCL3050, DCL3250, DCL3550, DCL3750, DCL4050, DCL4250, DCL4550, DCL4750, DCL5050, DCL5250, DCL5550, DCL5750, DCL6050, DCL6250, DCL6550, DCL6750, DCL7050, DCL7550, DCL8050, DCL8550, DCL9050, DCL9550, DCL10050, DCL10550,DCL11050, DCL11550, DCL12050,DCL12550, DCL13050, DCL13550, DCL14050 | E56: CTA | F56: https://polletgroupintranet.sharepoint.com/:b:/s/PG_CORP_MKT/IQCqfXzW7FnLTKo9rYHCWbJ5AQpoWSA_OCOUIgo2s1U8BbU?e=t8Jv1f | G56: johan.lansens@pwg.be | H56: France | J56: Softeners | L56: ACS | M56: 45240 | O56: 47067 | R56: No
A57: PWG Certificate | B57: Softeners Clack Gamme xCL66 | C57: 23 ACC LY 596 | D57: SCL1766, SCL2066, SCL2266, SCL2566, SCL2766, SCL3066, SCL3266, SCL3566, SCL3766, SCL4066, SCL4266, SCL4566, SCL4766, SCL5066, SCL5266, SCL5566, SCL5766, SCL6066, SCL6266, SCL6566, SCL6766, SCL7066, SCL7566, SCL8066, SCL8566, SCL9066, SCL9566, SCL10066, SCL10566, SCL13066, SCL13566, SCL14066 DCL1766, DCL2066, DCL2266, DCL2566, DCL2766, DCL3066, DCL3266, DCL3566, DCL3766, DCL4066, DCL4266 DCL4566, DCL4766, DCL5066, DCL5266, DCL5566, DCL5766, DCL6066, DCL6266, DCL6566, DCL6766, DCL7066, DCL7566, DCL8066, DCL8566, DCL9066, DCL9566, DCL10066, DCL10566, DCL11066, DCL11566, DCL12066, DCL12566, DCL13066, DCL13566, DCL14066, 11066,CL11566, SCL12066, SCL12566, | E57: CTA | F57: https://polletgroupintranet.sharepoint.com/:b:/s/PG_CORP_MKT/IQBXok1rPjpVRIODsclHIvJiAboN2bYozG1NgK7JHjZ8f5E?e=slEDWf | G57: johan.lansens@pwg.be | H57: France | J57: Softeners | L57: ACS | M57: 45240 | O57: 47067 | R57: No
A58: PWG Certificate | B58: Softeners Cappers Ino20 | C58: Swedish Type Approval TG 1856 | D58: Components Supplier Model Valve Cappers Ino20 KTW series Pressure vessel Pentair 2,5" inlet 8,8 to 103,1 l Riser tube Pallas 1,05" Bottom distributor KSH GBU/GDU Connector Cappers Straight 3/4" or Straight 1" or elbowed 1" Optional Bypass Cappers Residential Bypass | E58: Cappers | F58: https://polletgroupintranet.sharepoint.com/:b:/s/PG_CORP_MKT/IQCYQoDpqvlMQKtY6rwgEiT1ATz9uQNYT-DHdyWg7HFF6CA?e=SDfq9a | G58: johan.lansens@pwg.be | H58: Sweden; Norway; Denmark | J58: Softeners | L58: Swedish type approval (rise) | M58: 46207 | N58: Yes | O58: 47078 | Q58: 46712 | R58: No | T58: Expiration Mail: certificate reaches expiration date soon
A59: Supplier Certifcate | B59: Filter Thinkwater Profine Blue and Violet | C59: 23 ACC LY 638 | D59: Profine Blue small Profine Blue medium Profine Blue large Profine Blue sky small Profine Blue sky medium Profine Blue sky large Profine Violet small Profine Violet medium Profine Violet large | E59: PWG France | F59: https://polletgroupintranet.sharepoint.com/:b:/s/PG_CORP_MKT/EWTIRtCA3hxFma4uqUK5K6UBBZO-XKD5DrLBMfMhx_4wig?e=AghIQV | G59: johan.lansens@pwg.be | H59: France | J59: Filters and components | L59: ACS | M59: 45252 | N59: Yes | O59: 47079 | Q59: 46713 | R59: No | T59: Expiration Mail: certificate reaches expiration date soon
A60: Supplier Certifcate | B60: Pressure vessels Canture 05x13" to 24x72" | C60: 2312364 | D60: CN PRESSURE VESSEL RANGE: 05x13" TO 24x72" | E60: PWG N.V. | F60: https://polletgroupintranet.sharepoint.com/:b:/s/PG_CORP_MKT/EdjvWE-pZ1pJu9G2s5xXg4oBuVWFBkBBiF61qKuyPOtvXQ?e=DcsEvl | G60: johan.lansens@pwg.be | H60: United Kingdom | J60: Composite pressure vessels | L60: WRAS | M60: 45261 | N60: Yes | O60: 47118 | R60: No
A61: Supplier Certifcate | B61: Preassure vessels Noyi | C61: 23 ACS NY 557 | D61: RÉSERVOIR 5x13, 2.5"-8NPSM | E61: PWG N.V. | F61: https://polletgroupintranet.sharepoint.com/:b:/s/PG_CORP_MKT/IQACViV27ofYT481EjN22b39AR08Nj-BESJgqn_zj1sO010?e=TxhKqv | G61: johan.lansens@pwg.be | H61: France | J61: Composite pressure vessels | L61: ACS | M61: 45310 | N61: yes | O61: 47137 | R61: No
A62: Supplier Certifcate | B62: UV Desinfection Sita 22 Articles | C62: 24 ACC LY 058 | D62: Systemes de desinfection par UV - Sita - 22 articles | E62: PWG France | F62: https://polletgroupintranet.sharepoint.com/:b:/s/PG_CORP_MKT/EUv4XwkUZVNEocp5dITkpzYBVowtINbWlkJ3iUNknRIudg?e=FjmOpE | G62: johan.lansens@pwg.be | H62: France | J62: UV | L62: ACS | M62: 45322 | N62: Yes | O62: 47149 | Q62: 46783 | R62: No | T62: Expiration Mail: certificate reaches expiration date soon
A63: PWG Certificate | B63: Softeners Vanne 79 or 105 | C63: 24 ACC LY 204 | D63: Softeners Vanne 79 or 105 | E63: PWG France | F63: https://polletgroupintranet.sharepoint.com/:b:/s/PG_CORP_MKT/IQA3L_lrB-HGSL2KIrSW1yegAZyb9bCoGWdjPQyIOOKYMwk?e=WBqNDh | G63: johan.lansens@pwg.be | H63: France | J63: Softeners | L63: ACS | M63: 45380 | N63: Yes | O63: 47206 | R63: No
A64: Supplier Certifcate | B64: Pressure vessels Canature AxB: 05 x 17 to 63 x 86 | C64: No 033-03 | D64: pressure vessel AxB（AxB: 05 x 17 to 63 x 86) pressure vessel D AxB（AxB: 10 x 17 to 24 x 72 | E64: PWG N.V. | F64: https://polletgroupintranet.sharepoint.com/:b:/s/PG_CORP_MKT/EaFeEPeGGGFEq3jNcSS2pl8BdSSZfkSe8kFU5K5z0U6mNA?e=DhAfUm | G64: johan.lansens@pwg.be | H64: Germany | J64: Composite pressure vessels | L64: KTW-UBA | M64: 45432 | N64: Yes | O64: 47258 | Q64: 46893 | R64: No | T64: Expiration Mail: certificate reaches expiration date soon
A65: Supplier Certifcate | B65: Filters AMG By pass filters | C65: 24 ACC LY 306 | D65: Filters AMG By pass filters | E65: PWG France | F65: https://polletgroupintranet.sharepoint.com/:b:/s/PG_CORP_MKT/IQB7vZUEmZZFT4n4EmbLyNgHARD1buWimBrj0ivoqjNpzPs?e=4WAp4e | G65: johan.lansens@pwg.be | H65: France | J65: Filters and components | L65: ACS | M65: 45478 | N65: yes | O65: 47304 | R65: no
A66: PWG Certificate | B66: Filter Delta DPU-100 3L | C66: 24 ACC LY 338 | D66: Delta DPU-100 3L Hydro@Home Hydropure DHPU-100 3L Talent DPU-100 3L Talent TAC-50 | E66: Delta Water Engineering N.V. | F66: https://polletgroupintranet.sharepoint.com/:b:/s/PG_CORP_MKT/Ebf3ovElndZJmUUPYN0dJ9QB1eCzJXNx1p6lHchLtXFpYQ?e=Kf83gT | G66: johan.lansens@pwg.be | H66: France | J66: Filters and components | L66: ACS | M66: 45537 | N66: Yes | O66: 47363 | R66: No
A67: PWG Certificate | B67: Softeners Clack Gamme 26 MCL100V | C67: 24 ACC LY 461 | D67: MCL40V, MCL80V, MCL100V, MCL140V, MCL160V, MCL200V; MCL250V, MCL300V, MCL350V SCL105V, SCL145V, SCL165V, SCL205V, SCL255V, SCL305V, SCL505V, SCL755V SCL126V, SCL226V, SCL326V, SCL526V, SCL726V, SCL1026V, SCL1526V, SCL1726V, SCL2226V DCL126V, DCL226V, DCL326V, DCL526V, DCL726V, DCL1026V, DCL1526V, DCL1726V, DCL2226V FA08FAG, FA10FAG, FA12FAG, FA14FAG, FA08CHA, FA10CHA, FA12CHA, FA14CHA FA08CAL, FA10CAL, FA12CAL, FA14CAL | E67: CTA | F67: https://polletgroupintranet.sharepoint.com/:b:/s/PG_CORP_MKT/IQAzg1V0VQw8TIMwN5nINJ94AV84UlbHc0_PMDZLuMjNUlU?e=W5LhRk | G67: johan.lansens@pwg.be | H67: France | J67: Softeners | L67: ACS | M67: 45537 | N67: Yes | O67: 47363 | R67: No
A68: PWG Certificate | B68: Softeners Clack Gamme 33 SCL1033V | C68: 24 ACC LY 462 | D68: SCL333V, SCL533V, SCL733V, SCL1033V, SCL1533V, SCL1733V, SCL2233V DCL333V, DCL533V, DCL733V, DCL1033V, DCL1533V, DCL1733V, DCL2233V FA16FAG, FA18FAG, FA21FAG, FA16CHA, FA18CHA, FA21CHA, FA16CAL, FA18CAL, FA21CAL | E68: CTA | F68: https://polletgroupintranet.sharepoint.com/:b:/s/PG_CORP_MKT/IQBgeC-irXJES692S8gMd5Q8AdPoK0rrxDtysxrX5G3spEo?e=tEcYjQ | G68: johan.lansens@pwg.be | H68: France | J68: Softeners | L68: ACS | M68: 45537 | O68: 47363 | R68: No
A69: Supplier Certifcate | B69: Preassure vessels Noyi | C69: P1-054-01 | D69: FRP Tanks Material/polymer: Multilayer product (HDPE, PPO, Glass fiber) Product group P1 (Certification body Eurofins Expert Services) | E69: PWG N.V. | F69: https://polletgroupintranet.sharepoint.com/:b:/s/PG_CORP_MKT/IQDkvayGGWxQRKcVAHX8k-AqATYd9npKWNTQq47Byl8vEyc?e=TmXJuA | G69: johan.lansens@pwg.be | H69: Germany | J69: Composite pressure vessels | L69: KTW-BWGL | M69: 45546 | N69: Yes | O69: 47372 | R69: No
A70: Supplier Certifcate | B70: Check Valves Neoperl | C70: Z-340801-21-Hy112 | D70: . CV-Check valves . CV-FR-Check valves . DCV-Check valves* . DW-Check valves . FCV-Check valves . FR-CV Check valves . HDS-Check valves · NV-Check valves* · OD-Check valves* · OF-Check valves* · OV-Check valves* . SV-Check valves . WV-Check valves · discharge valve . vent cartridge 23 C and 60 ℃ | E70: Suko NV | F70: https://polletgroupintranet.sharepoint.com/:b:/s/PG_CORP_MKT/IQCrUys-Tl3KQa-bY45jJig2ATQMd7KWOOfra4nP45utC_k?e=THuCqi | G70: johan.lansens@pwg.be | H70: Germany | J70: Others | L70: KTW-UBA | M70: 45551 | N70: Yes | O70: 47377 | R70: No
A71: Supplier Certifcate | B71: Valves Canature BNT 850HE Pro T | C71: 24 ACC NY 396 | D71: Vanne de controle BNT 850HE Pro T | E71: PWG France | F71: https://polletgroupintranet.sharepoint.com/:b:/s/PG_CORP_MKT/EavSjEo7ZhlBiYiP41mrvLoB5DKPq5ErC3wudHLk50JwnQ?e=Ffjzcs | G71: johan.lansens@pwg.be | H71: France | J71: Valves - Canature | L71: ACS | M71: 45562 | N71: Yes | O71: 47388 | R71: No
A72: Supplier Certifcate | B72: UV Van Remmen V90 to V290 | C72: 240902701 | D72: V90, V100, V110, V120, V130, V140, V150, V160, V170, V180, V190, V200, V220, V250 & V290 ULTRAVIOLET DISINFECTION UNITS | E72: Wycombe Water Ltd. | F72: https://polletgroupintranet.sharepoint.com/:b:/s/PG_CORP_MKT/EcgAenSSFh1Pgk_pS1m5yC0BZcoYzTdn20OOWQHiiCGKuA?e=tbs219 | G72: johan.lansens@pwg.be | H72: United Kingdom | J72: UV | L72: WRAS | M72: 45565 | N72: Yes | O72: 47391 | R72: No
A73: Supplier Certifcate | B73: Valves Runxin K5-K9, K1 | C73: 24 ACC LY 227 | D73: vanne K5XYY vanne K6XYY vanne K7XYY vanne K8XYY vanne K9XYY vanne K1ZXYY + by-pass K70 + crépine et tube plongeur | E73: PWG N.V. | F73: https://polletgroupintranet.sharepoint.com/:b:/s/PG_CORP_MKT/IQCABT_96uTBRpgfFd-qwqCBAaSOFVz9X1a8S_Nl6UnNalY?e=znLgII | G73: johan.lansens@pwg.be | H73: France | J73: Valve - Runxin | L73: ACS | M73: 45579 | O73: 47405 | R73: No
A74: Supplier Certifcate | B74: Water meter DHM DN15 - DN50 | C74: 24 ACC NY 509 | D74: COMPTEURS JETS MULTIPLES CADRAN SEC ORIENTABLE - DH METERING Compteurs DHM1000 DN15 à DN50 - LXSG 15E à 50E Compteurs DHM2000 DN15 à DN50 | E74: PWG France | F74: https://polletgroupintranet.sharepoint.com/:b:/s/PG_CORP_MKT/IQD3Xe0G30hVQoNR1IFDgGeGAZqnOT3i4jVLu9WB9zWvKNA?e=g1BZBf | G74: johan.lansens@pwg.be | H74: France | J74: Other | L74: ACS | M74: 45603 | N74: Yes | O74: 47426 | R74: No
A75: PWG Certificate | B75: Softeners Clack 3/4” and 1” Plastic | C75: 482/2021 Swedish Type Approval 1911 | D75: Softeners Clack 3/4” and 1” Plastic | E75: Suko NV | F75: https://polletgroupintranet.sharepoint.com/:f:/s/PG_CORP_MKT/Eh17Q8st6MxGsj4fVzGcsKgBjmUX6JWzo0nwhfotNoGJog?e=yjGilI | G75: johan.lansens@pwg.be | H75: Sweden; Denmark; Norway | J75: Softeners | L75: Swedish type approval (rise) | M75: 45688 | N75: Yes | O75: 47513 | R75: No
A76: Supplier Certifcate | B76: Valves Runxin Control valve for water treatment systems | C76: ICR/VC/HL250401 | D76: LVD [2014/35/EU] EMC [2014/30/EU] EN 60730-1:2016+A11:2024 EN IEC 60730-2-8:2020+A1:2021 EN IEC 55014-1:2021 EN IEC 55014-2:2021 EN IEC 61000-3-2:2019+A1:2021+A2:2024 EN 61000-3-3:2013+A1:2019+A2:2021 | E76: PWG N.V. | F76: https://polletgroupintranet.sharepoint.com/:b:/s/PG_CORP_MKT/IQCHzX243a-DT6_i4o02qqVUAVz3ezyY69sB_-ou98T-8ps?e=Y4K3ZJ | G76: johan.lansens@pwg.be | H76: European Union | J76: Valve - Runxin | L76: CE | M76: 45751 | O76: 47576 | R76: No
A77: Supplier Certifcate | B77: Valves Runxin Control valve for water treatment systems | C77: ICR/VC/HL250402 | D77: RoHS [2011/65/EU] EN IEC 63000:2018 | E77: PWG N.V. | F77: https://polletgroupintranet.sharepoint.com/:b:/s/PG_CORP_MKT/IQBJEvktJjpYRYseX7DfOzdCAa1qId8cFRkwA-KTpNuFWnY?e=Wwrdaq | G77: johan.lansens@pwg.be | H77: European Union | J77: Valve - Runxin | L77: CE | M77: 45751 | O77: 47576 | R77: No
A78: Supplier Certifcate | B78: Adoucisseur Canature CS1 CS2 CS3 etc. | C78: 25 ACC NY 329 | D78: CS1 CS2 CS3 etc. | E78: PWG France | F78: https://polletgroupintranet.sharepoint.com/:b:/s/PG_CORP_MKT/IQBLJD1h3MUzR45QPQfdMk0bAW6nZfCjQMyOC25_qvonkn8?e=1TwQtm | G78: johan.lansens@pwg.be | H78: France | J78: Softeners | L78: ACS | M78: 45831 | N78: Yes | O78: 47657 | Q78: 45545 | R78: No | T78: Expiration Mail: certificate reaches expiration date soon
A79: PWG Certificate | B79: Softeners Laugil XP10 | C79: 26 ACC LY 034 | D79: TechnoLaugil 20L & 30L XP10 Compact Mural Eco | E79: PWG France | F79: https://polletgroupintranet.sharepoint.com/:b:/s/PG_CORP_MKT/IQDhc0KfjMDXQI5f-Wqimyn1AaBSfryP3VQFb2-yn3xbqMM?e=QSvTji | G79: johan.lansens@pwg.be | H79: France | J79: Softeners | L79: ACS | M79: 46041 | O79: 47657 | R79: No
A80: PWG Certificate | B80: Valves Easymixing 1,25 ; 1,5 ; 2In | C80: 25 ACC NY 438 | D80: VANNES DE MELANGE ET DE CEPAGE PROPORTIONNELLE - PWG Références / References : (3 articles) 3913000020 - Vanne de mélange DN32 G1.5" AG 3913000021 - Vanne de cépage proportionnelle Easymixing DN32- 1.25" 3913000022 - Vanne de cépage proportionnelle Easymixing DN50-2" | E80: PWG | F80: https://polletgroupintranet.sharepoint.com/:b:/s/PG_CORP_MKT/EURDjjljdSBKvWMzo_25mP0B9j1bK1NC-gCP85Zchobx8A?e=ppIeNZ | G80: johan.lansens@pwg.be | H80: France | J80: Valves - Others | L80: ACS | M80: 45873 | N80: Yes | O80: 47699 | R80: No
A81: Supplier Certifcate | B81: Filters Officine Rigamonti SPA Arion | C81: 25 ACC LY 671 | E81: PWG France | F81: https://polletgroupintranet.sharepoint.com/:b:/s/PG_CORP_MKT/IQAp84xIvJhDT5VYqorpRbXTASVQyx3N9MpfqxH2harX3m4?e=W8LShE | G81: johan.lansens@pwg.be | H81: France | J81: Filters and components | L81: ACS | M81: 45980 | N81: Yes | O81: 47712 | Q81: 45521 | R81: No | T81: Expiration Mail: certificate reaches expiration date soon
A82: PWG Certificate | B82: Filters Delta D.O.D. Open drain | C82: Belg 25/286/32 | D82: Conform volgens EN 1717 Conforme à la norme EN 1717 | E82: Delta Water Engineering N.V. | F82: https://polletgroupintranet.sharepoint.com/:b:/s/PG_CORP_MKT/IQAGV-n2R31MQK7H-k_IvaGtAXppJ6Z5d6t8TCBTqTFwaJo?e=nAai23 | G82: johan.lansens@pwg.be | H82: European Union | J82: Filters and components | L82: BELGAQUA | M82: 45953 | N82: Yes | O82: 47779 | Q82: 45627 | R82: No | T82: Expiration Mail: certificate reaches expiration date soon
A83: Supplier Certifcate | B83: Resin Lanxess Lewatit S1567 & S1568 | C83: 25 RES NY 001 | D83: Adoucissement de l'eau potable. S1567 & S1568. | E83: PWG N.V. | F83: https://polletgroupintranet.sharepoint.com/:b:/s/PG_CORP_MKT/EWhWWHxMb8RPo4q0IQKEbKcBVzp63A_usYu71xKVDMwsNA?e=cImnz0 | G83: johan.lansens@pwg.be | H83: France | J83: ION exchange resins | L83: ACS | M83: 45967 | N83: Yes | O83: 47793 | R83: No
A84: Supplier Certifcate | B84: Flexible hoses Fixaflex | C84: DW-0304DQ0877 | D84: Flexible hoses. Silicone 45 Inox (DN13 / DN 20 / DN 25 / DN 32) | E84: PWG N.V. | F84: https://polletgroupintranet.sharepoint.com/:b:/s/PG_CORP_MKT/IQC49XkNWY5hRaniFmkBe4uQAcGQiTEBm_nbhtBNtB0hXsA?e=XDaVSv | G84: johan.lansens@pwg.be | H84: Germany | J84: Other | L84: DVGW | M84: 46147 | N84: Yes | O84: 47818 | R84: No
A85: Supplier Certifcate | B85: Flexible hoses Fixaflex | C85: DW-0304DQ0875 | D85: Flexible hoses. Silicone 45 Inox (DN 8 / DN 10) | E85: PWG N.V. | F85: https://polletgroupintranet.sharepoint.com/:b:/s/PG_CORP_MKT/IQDr89F0DANqRI8lLn5WRi-RATK1QacafczWe8hiiBb2sfY?e=K2BKdr | G85: johan.lansens@pwg.be | H85: Germany | J85: Other | L85: DVGW | M85: 46147 | N85: Yes | O85: 47818 | R85: No
A86: PWG Certificate | B86: Filter 10In Spun. PP Cold Water. | C86: 25 MAT LY 277 | D86: Filter 10In Spun. PP Cold Water. | E86: PWG N.V. | F86: https://polletgroupintranet.sharepoint.com/:b:/s/PG_CORP_MKT/IQDwr9pqjl9zTJLcoNTeiMGjAQIzk8F_D-9H5PQlizhInhY?e=KHIiEO | G86: johan.lansens@pwg.be | H86: France | J86: Filters and components | L86: ACS | M86: 46021 | N86: Yes | O86: 47847
A87: Supplier Certifcate | B87: Resine Sunresin Seplite LSF978 | C87: 21 RES LY 005 | D87: Seplite LSF978 | E87: PWG N.V. | F87: https://polletgroupintranet.sharepoint.com/:b:/s/PG_CORP_MKT/IQAjyEQ29Tq9QofaHFVbBK5SAbyYrr0UV78u0gZBT-6__8s?e=PHAhYD | G87: johan.lansens@pwg.be | H87: France | J87: ION exchange resins | L87: ACS | M87: 46022 | O87: 47848 | R87: No
A88: Supplier Certifcate | B88: Resine Sunresin Seplite Monojet LSF9780 | C88: 21 RES LY 004 | D88: Seplite Monojet LSF9780 | E88: PWG N.V. | F88: https://polletgroupintranet.sharepoint.com/:b:/s/PG_CORP_MKT/IQDLgR_f68QQQIsgU72jFvnIAUA-rphQKSoFK-z1BF5hb5E?e=f9S7kI | G88: johan.lansens@pwg.be | H88: France | J88: ION exchange resins | L88: ACS | M88: 46022 | O88: 47848 | R88: No
A89: Supplier Certifcate | B89: Pressure vessels WaveCyber Wave 150P - 1200PJ | C89: 25 ACC LY 767 | D89: Pressure vessels WaveCyber Wave 150P - 1200PJ | E89: PWG N.V. | F89: https://polletgroupintranet.sharepoint.com/:b:/s/PG_CORP_MKT/IQCHevMmEWyRQJMG5Kih1PTZAQCU29750DqeiqiQn6NtG_o?e=cmfZ98 | G89: johan.lansens@pwg.be | H89: France | J89: Composite pressure vessels | L89: ACS | M89: 46042 | N89: Yes | O89: 47868 | R89: No
A90: Supplier Certifcate | B90: Pressure vessels WaveCyber 5x23 2,5In - 24x72 4In | C90: 25 ACC LY 746 | D90: Pressure vessels WaveCyber 5x23 2,5In - 24x72 4In | E90: PWG N.V. | F90: https://polletgroupintranet.sharepoint.com/:b:/s/PG_CORP_MKT/IQBvVka2PJWFQo8lhD1B9Ed_AZ0bB7S16KWe7sEldD9PJho?e=S9q9Lo | G90: johan.lansens@pwg.be | H90: France | J90: Composite pressure vessels | L90: ACS | M90: 46050 | N90: Yes | O90: 47876 | R90: No
A91: Supplier Certifcate | B91: Pressure vessels WaveCyber 18x36 4In - 63x86 6In | C91: 25 ACC LY 747 | D91: Pressure vessels WaveCyber 18x36 4In - 63x86 6In | E91: PWG N.V. | F91: https://polletgroupintranet.sharepoint.com/:b:/s/PG_CORP_MKT/IQD-z3QnWE13TqE1-arkZYQdAfLjWXdunR2pO0px85U5bKs?e=NTdebR | G91: johan.lansens@pwg.be | H91: France | J91: Composite pressure vessels | L91: ACS | M91: 46050 | N91: Yes | O91: 47876 | R91: No
A92: PWG Certificate | B92: Valves Cappers SCA19, Ino20 | C92: 26 ACC LY 118 | D92: SCA19 / Ino20 | E92: Cappers | F92: https://polletgroupintranet.sharepoint.com/:b:/s/PG_CORP_MKT/IQAJ7EdK-p79RIZpN6PPR1DiAdjmIlkoQ54GlwqbOkQ_vek?e=AYM9ka | G92: johan.lansens@pwg.be | H92: France | J92: Valves - Cappers | L92: ACS | M92: 46063 | N92: Yes | O92: 47889 | Q92: 45400 | R92: No | T92: Expiration Mail: certificate reaches expiration date soon
A93: Supplier Certifcate | B93: Flexibles IFT Groupe Flexibles de raccordement IFT - tuyau PEX | C93: 26 ACCNY 704 | D93: Flexible de raccordement IFT - DN6 tube inteme en PEX- longueur 10 cm raceords en laiton type P | E93: PWG France | F93: https://polletgroupintranet.sharepoint.com/:b:/s/PG_CORP_MKT/IQCb95GR7oHvSp4jiqCapUt8ATiKV-ZafrmOjeLVk_eecj8?e=S0izlP | G93: johan.lansens@pwg.be | H93: France | J93: Houses and flexibles | L93: ACS | M93: 46261 | N93: Yes | O93: 48087 | R93: No | T93: Expiration Mail: certificate reaches expiration date soon
A94: Supplier Certifcate | B94: Flexibles IFT Groupe Flexibles de raccordement IFT - tuyau EPDM | C94: 26 ACC NY 703 | D94: Flexible de raccordement IFT - DN6 tube inteme en EPDN- longueur 10 cm raceords en laiton type P | E94: PWG France | F94: https://polletgroupintranet.sharepoint.com/:b:/s/PG_CORP_MKT/IQDI6Ewjz5ttRp-knNEyDsYKAS9GXpHCwbWNHpR2jMG_ceg?e=Df8Loq | G94: johan.lansens@pwg.be | H94: France | J94: Houses and flexibles | L94: ACS | M94: 46274 | N94: Yes | O94: 48100 | R94: No | T94: Expiration Mail: certificate reaches expiration date soon
A95: PWG Certificate | B95: Softeners Euraqua Europe Flamingo Softener | D95: EN61326-1:2006 EN55011:2009+A1:2010 Class B EN61000-3-2:2006 EN61000-3-3:2008 EN61000-6-1:2007 EN60204-1:2006+A1:2009 EN ISO 12100:2010 | E95: PWG N.V. | F95: https://polletgroupintranet.sharepoint.com/:b:/s/PG_CORP_MKT/EeqbZJcsu_hOpedmERsD8p0BgKudYg8C46__vNj0HR_sVA?e=FgpIFv | G95: johan.lansens@pwg.be | H95: European Union | J95: Softeners | L95: CE | M95: 41831 | N95: No | R95: No
A96: Supplier Certifcate | B96: Valves Clack Water Softening and Filtering Control Valves D-12147-003 | C96: D-12147-003 | D96: Machinery Directive 2006/42/EC | E96: Suko NV | F96: https://polletgroupintranet.sharepoint.com/:b:/s/PG_CORP_MKT/EZRzyygZM3pDjKMN6le6ZEgBIHkCU8jTe8__KQONO5jB_w?e=Ukuaf5 | G96: johan.lansens@pwg.be | H96: European Union | J96: Valves - Clack | L96: CE | M96: 41876 | N96: No | R96: No
A97: Supplier Certifcate | B97: Valves Clack XMEGA Microcontroller | C97: D-12147-003 | D97: EN ISO 12100:2010 EN 61310:2008 EN 61310-2:2008 EN 60204-1:2006 +A1:2009 EN13857:2008 EN 953:1997+A1:2009 EN ISO 13732-1:2008 | E97: PWG N.V. | F97: https://polletgroupintranet.sharepoint.com/:b:/s/PG_CORP_MKT/EfkM4s-XoSRGn0jgfBHGxfEBG19FP0wYh6bGlCFG_dyWpg?e=a9o6YU | G97: johan.lansens@pwg.be | H97: European Union | J97: Valves - Clack | L97: CE | M97: 41876 | N97: No | R97: No
A98: Supplier Certifcate | B98: Valves Clack XMEGA Microcontroller 2 | C98: D-12147-002 | D98: EN 61000-6-1:2007 EN 61000-6-3:2007 | E98: PWG N.V. | F98: https://polletgroupintranet.sharepoint.com/:b:/s/PG_CORP_MKT/EefC4d5tDkZDucvNxiMqp9sBl_XArxcRFPFy4MjZrQdFDA?e=s6bl2m | G98: johan.lansens@pwg.be | H98: European Union | J98: Valves - Clack | L98: CE | M98: 41876 | N98: No | R98: No
A99: Supplier Certifcate | B99: Pressure vessels WaveCyber Directive 2014/68/EU | D99: Products: PE liner reinforced with epoxydic resin and fibreglass Pressure Vessels with threaded or flange opening / openings | E99: PWG N.V. | F99: https://polletgroupintranet.sharepoint.com/:b:/s/PG_CORP_MKT/ETRiJRYQxndCqC2SqeUwChABQheLu62HtghZyRm_RnP3tg?e=YxLCbE; https://polletgroupintranet.sharepoint.com/:b:/s/PG_CORP_MKT/Ee_9IqXj5cxFvk3frkrLiYkBqVWnKGQqq6ALa4JbtvBscA?e=1zlp9X | G99: johan.lansens@pwg.be | H99: European Union | J99: Composite pressure vessels | L99: CE | M99: 42276 | N99: No | R99: No | T99: Expiration Mail: certificate reaches expiration date soon
A100: PWG Certificate | B100: Filters Suko Evolve Series Crystal Right filters | D100: □ 2014/30/UE □ 2014/35/UE □ 2006/42/EC □ 2011/65/EC □ 2014/68/EU □ 2012/19/EU Electromagnetic Compatibility Low Voltage Directive Machinery Directive Rohs directive Pressure Equipment Directive WEEE - Directive | E100: PWG N.V. | F100: https://polletgroupintranet.sharepoint.com/:b:/s/PG_CORP_MKT/EbP9InuUloBHhhU-hMZ6nGEB1CfUtAdc4mnxq5lueWzUlw?e=YamDdn | G100: johan.lansens@pwg.be | H100: European Union | J100: Filters and components | L100: CE | M100: 43396 | N100: No | R100: No
...

Sheet Certificates
B1: Red color indicates certificates that are expired. | G1: If you have any questions, feedback or information regarding certificates,
B2: Orange color indicates certificates that will expire within 180days. | G2: please contact pawel.oslislok@pwg.be or johan.lansens@pwg.be
B4: Expiration date | C4: Renewal in progress? | D4: Link to cerfiticate | E4: Certificate Owner | F4: Responsible Company | G4: Index Number/Title | H4: Certification No. | I4: Product category | J4: Type of certificate | K4: Content of Certificate | L4: Applicable in following regions
B5: =IF(Table6[[#This Row],[Expiration date of certificate is]]<>"",Table6[[#This Row],[Expiration date of certificate is]],"") -> 45436 | C5: =IF(Table6[[#This Row],[Renewal certificate requested?]]<>"",Table6[[#This Row],[Renewal certificate requested?]],"") -> No | D5: =IF(Table6[[#This Row],[Download the PDF of the certificate here]]<>"", HYPERLINK(Table6[[#This Row],[Download the PDF of the certificate here]],"Link"),"") -> Link | E5: =IF(Table6[[#This Row],[Certificate Owner]]<>"",Table6[[#This Row],[Certificate Owner]],"") -> PWG Certificate | F5: =IF(Table6[[#This Row],[Responsible Company]]<>"",Table6[[#This Row],[Responsible Company]],"") -> Suko NV | G5: =IF(Table6[[#This Row],[Index Number/Title]]<>"",Table6[[#This Row],[Index Number/Title]],"") -> Adoucisseur Clack PI | H5: =IF(Table6[[#This Row],[Certification No.]]<>"",Table6[[#This Row],[Certification No.]],"") -> 17 ACC LY 608 | I5: =IF(Table6[[#This Row],[Product category]]<>"",Table6[[#This Row],[Product category]],"") -> Softeners | J5: =IF(Table6[[#This Row],[Type of certificate]]<>"",Table6[[#This Row],[Type of certificate]],"") -> ACS | K5: =IF(Table6[[#This Row],[Content of Certificate]]<>"",Table6[[#This Row],[Content of Certificate]],"") | L5: =IF(Table6[[#This Row],[Applicable in following countries and continents]]<>"",Table6[[#This Row],[Applicable in following countries and continents]],"") -> France
B6: =IF(Table6[[#This Row],[Expiration date of certificate is]]<>"",Table6[[#This Row],[Expiration date of certificate is]],"") -> 45436 | C6: =IF(Table6[[#This Row],[Renewal certificate requested?]]<>"",Table6[[#This Row],[Renewal certificate requested?]],"") -> No | D6: =IF(Table6[[#This Row],[Download the PDF of the certificate here]]<>"", HYPERLINK(Table6[[#This Row],[Download the PDF of the certificate here]],"Link"),"") -> Link | E6: =IF(Table6[[#This Row],[Certificate Owner]]<>"",Table6[[#This Row],[Certificate Owner]],"") -> PWG Certificate | F6: =IF(Table6[[#This Row],[Responsible Company]]<>"",Table6[[#This Row],[Responsible Company]],"") -> Suko NV | G6: =IF(Table6[[#This Row],[Index Number/Title]]<>"",Table6[[#This Row],[Index Number/Title]],"") -> Adoucisseur Clack WR 1.25In | H6: =IF(Table6[[#This Row],[Certification No.]]<>"",Table6[[#This Row],[Certification No.]],"") -> 17 ACC LY 610 | I6: =IF(Table6[[#This Row],[Product category]]<>"",Table6[[#This Row],[Product category]],"") -> Softeners | J6: =IF(Table6[[#This Row],[Type of certificate]]<>"",Table6[[#This Row],[Type of certificate]],"") -> ACS | K6: =IF(Table6[[#This Row],[Content of Certificate]]<>"",Table6[[#This Row],[Content of Certificate]],"") | L6: =IF(Table6[[#This Row],[Applicable in following countries and continents]]<>"",Table6[[#This Row],[Applicable in following countries and continents]],"") -> France
B7: =IF(Table6[[#This Row],[Expiration date of certificate is]]<>"",Table6[[#This Row],[Expiration date of certificate is]],"") -> 45436 | C7: =IF(Table6[[#This Row],[Renewal certificate requested?]]<>"",Table6[[#This Row],[Renewal certificate requested?]],"") -> No | D7: =IF(Table6[[#This Row],[Download the PDF of the certificate here]]<>"", HYPERLINK(Table6[[#This Row],[Download the PDF of the certificate here]],"Link"),"") -> Link | E7: =IF(Table6[[#This Row],[Certificate Owner]]<>"",Table6[[#This Row],[Certificate Owner]],"") -> PWG Certificate | F7: =IF(Table6[[#This Row],[Responsible Company]]<>"",Table6[[#This Row],[Responsible Company]],"") -> Suko NV | G7: =IF(Table6[[#This Row],[Index Number/Title]]<>"",Table6[[#This Row],[Index Number/Title]],"") -> Adoucisseur Clack WR 1In | H7: =IF(Table6[[#This Row],[Certification No.]]<>"",Table6[[#This Row],[Certification No.]],"") -> 17 ACC LY 609 | I7: =IF(Table6[[#This Row],[Product category]]<>"",Table6[[#This Row],[Product category]],"") -> Softeners | J7: =IF(Table6[[#This Row],[Type of certificate]]<>"",Table6[[#This Row],[Type of certificate]],"") -> ACS | K7: =IF(Table6[[#This Row],[Content of Certificate]]<>"",Table6[[#This Row],[Content of Certificate]],"") | L7: =IF(Table6[[#This Row],[Applicable in following countries and continents]]<>"",Table6[[#This Row],[Applicable in following countries and continents]],"") -> France
B8: =IF(Table6[[#This Row],[Expiration date of certificate is]]<>"",Table6[[#This Row],[Expiration date of certificate is]],"") -> 46330 | C8: =IF(Table6[[#This Row],[Renewal certificate requested?]]<>"",Table6[[#This Row],[Renewal certificate requested?]],"") -> No | D8: =IF(Table6[[#This Row],[Download the PDF of the certificate here]]<>"", HYPERLINK(Table6[[#This Row],[Download the PDF of the certificate here]],"Link"),"") -> Link | E8: =IF(Table6[[#This Row],[Certificate Owner]]<>"",Table6[[#This Row],[Certificate Owner]],"") -> Supplier Certifcate | F8: =IF(Table6[[#This Row],[Responsible Company]]<>"",Table6[[#This Row],[Responsible Company]],"") -> PWG France | G8: =IF(Table6[[#This Row],[Index Number/Title]]<>"",Table6[[#This Row],[Index Number/Title]],"") -> Filters Cintropur NW18 to 75 | H8: =IF(Table6[[#This Row],[Certification No.]]<>"",Table6[[#This Row],[Certification No.]],"") -> 21 ACC LY 752 | I8: =IF(Table6[[#This Row],[Product category]]<>"",Table6[[#This Row],[Product category]],"") -> Filters and components | J8: =IF(Table6[[#This Row],[Type of certificate]]<>"",Table6[[#This Row],[Type of certificate]],"") -> ACS | K8: =IF(Table6[[#This Row],[Content of Certificate]]<>"",Table6[[#This Row],[Content of Certificate]],"") -> Cintropur NW 18 to 75 | L8: =IF(Table6[[#This Row],[Applicable in following countries and continents]]<>"",Table6[[#This Row],[Applicable in following countries and continents]],"") -> France
B9: =IF(Table6[[#This Row],[Expiration date of certificate is]]<>"",Table6[[#This Row],[Expiration date of certificate is]],"") -> 46363 | C9: =IF(Table6[[#This Row],[Renewal certificate requested?]]<>"",Table6[[#This Row],[Renewal certificate requested?]],"") -> No | D9: =IF(Table6[[#This Row],[Download the PDF of the certificate here]]<>"", HYPERLINK(Table6[[#This Row],[Download the PDF of the certificate here]],"Link"),"") -> Link | E9: =IF(Table6[[#This Row],[Certificate Owner]]<>"",Table6[[#This Row],[Certificate Owner]],"") -> PWG Certificate | F9: =IF(Table6[[#This Row],[Responsible Company]]<>"",Table6[[#This Row],[Responsible Company]],"") -> Delta Water Engineering N.V. | G9: =IF(Table6[[#This Row],[Index Number/Title]]<>"",Table6[[#This Row],[Index Number/Title]],"") -> Adoucisseur Delta 3L Simplex and Duplex | H9: =IF(Table6[[#This Row],[Certification No.]]<>"",Table6[[#This Row],[Certification No.]],"") -> 21 ACC LY 098 | I9: =IF(Table6[[#This Row],[Product category]]<>"",Table6[[#This Row],[Product category]],"") -> Softeners | J9: =IF(Table6[[#This Row],[Type of certificate]]<>"",Table6[[#This Row],[Type of certificate]],"") -> ACS | K9: =IF(Table6[[#This Row],[Content of Certificate]]<>"",Table6[[#This Row],[Content of Certificate]],"") -> Hydro @ Home - range Talent - range Delta 3L Simplex Delta 3L Duplex | L9: =IF(Table6[[#This Row],[Applicable in following countries and continents]]<>"",Table6[[#This Row],[Applicable in following countries and continents]],"") -> France
B10: =IF(Table6[[#This Row],[Expiration date of certificate is]]<>"",Table6[[#This Row],[Expiration date of certificate is]],"") -> 46363 | C10: =IF(Table6[[#This Row],[Renewal certificate requested?]]<>"",Table6[[#This Row],[Renewal certificate requested?]],"") -> No | D10: =IF(Table6[[#This Row],[Download the PDF of the certificate here]]<>"", HYPERLINK(Table6[[#This Row],[Download the PDF of the certificate here]],"Link"),"") -> Link | E10: =IF(Table6[[#This Row],[Certificate Owner]]<>"",Table6[[#This Row],[Certificate Owner]],"") -> PWG Customer Certificate | F10: =IF(Table6[[#This Row],[Responsible Company]]<>"",Table6[[#This Row],[Responsible Company]],"") -> Delta Water Engineering N.V. | G10: =IF(Table6[[#This Row],[Index Number/Title]]<>"",Table6[[#This Row],[Index Number/Title]],"") -> Adoucisseur Aqua 2000 Excell | H10: =IF(Table6[[#This Row],[Certification No.]]<>"",Table6[[#This Row],[Certification No.]],"") -> 21 ACC LY 931 | I10: =IF(Table6[[#This Row],[Product category]]<>"",Table6[[#This Row],[Product category]],"") -> Softeners | J10: =IF(Table6[[#This Row],[Type of certificate]]<>"",Table6[[#This Row],[Type of certificate]],"") -> ACS | K10: =IF(Table6[[#This Row],[Content of Certificate]]<>"",Table6[[#This Row],[Content of Certificate]],"") -> Excell Hydro @ Home | L10: =IF(Table6[[#This Row],[Applicable in following countries and continents]]<>"",Table6[[#This Row],[Applicable in following countries and continents]],"") -> France
B11: =IF(Table6[[#This Row],[Expiration date of certificate is]]<>"",Table6[[#This Row],[Expiration date of certificate is]],"") -> 46363 | C11: =IF(Table6[[#This Row],[Renewal certificate requested?]]<>"",Table6[[#This Row],[Renewal certificate requested?]],"") -> No | D11: =IF(Table6[[#This Row],[Download the PDF of the certificate here]]<>"", HYPERLINK(Table6[[#This Row],[Download the PDF of the certificate here]],"Link"),"") -> Link | E11: =IF(Table6[[#This Row],[Certificate Owner]]<>"",Table6[[#This Row],[Certificate Owner]],"") -> PWG Certificate | F11: =IF(Table6[[#This Row],[Responsible Company]]<>"",Table6[[#This Row],[Responsible Company]],"") -> Delta Water Engineering N.V. | G11: =IF(Table6[[#This Row],[Index Number/Title]]<>"",Table6[[#This Row],[Index Number/Title]],"") -> Adoucisseur PWG France Wave | H11: =IF(Table6[[#This Row],[Certification No.]]<>"",Table6[[#This Row],[Certification No.]],"") -> 21 ACC LY 932 | I11: =IF(Table6[[#This Row],[Product category]]<>"",Table6[[#This Row],[Product category]],"") -> Softeners | J11: =IF(Table6[[#This Row],[Type of certificate]]<>"",Table6[[#This Row],[Type of certificate]],"") -> ACS | K11: =IF(Table6[[#This Row],[Content of Certificate]]<>"",Table6[[#This Row],[Content of Certificate]],"") -> Wave | L11: =IF(Table6[[#This Row],[Applicable in following countries and continents]]<>"",Table6[[#This Row],[Applicable in following countries and continents]],"") -> France
B12: =IF(Table6[[#This Row],[Expiration date of certificate is]]<>"",Table6[[#This Row],[Expiration date of certificate is]],"") -> 46363 | C12: =IF(Table6[[#This Row],[Renewal certificate requested?]]<>"",Table6[[#This Row],[Renewal certificate requested?]],"") -> No | D12: =IF(Table6[[#This Row],[Download the PDF of the certificate here]]<>"", HYPERLINK(Table6[[#This Row],[Download the PDF of the certificate here]],"Link"),"") -> Link | E12: =IF(Table6[[#This Row],[Certificate Owner]]<>"",Table6[[#This Row],[Certificate Owner]],"") -> PWG Certificate | F12: =IF(Table6[[#This Row],[Responsible Company]]<>"",Table6[[#This Row],[Responsible Company]],"") -> Delta Water Engineering N.V. | G12: =IF(Table6[[#This Row],[Index Number/Title]]<>"",Table6[[#This Row],[Index Number/Title]],"") -> Adoucisseur PWG France CR2J Hydroline | H12: =IF(Table6[[#This Row],[Certification No.]]<>"",Table6[[#This Row],[Certification No.]],"") -> 21 ACC LY 933 | I12: =IF(Table6[[#This Row],[Product category]]<>"",Table6[[#This Row],[Product category]],"") -> Softeners | J12: =IF(Table6[[#This Row],[Type of certificate]]<>"",Table6[[#This Row],[Type of certificate]],"") -> ACS | K12: =IF(Table6[[#This Row],[Content of Certificate]]<>"",Table6[[#This Row],[Content of Certificate]],"") -> CR2J Hydroline | L12: =IF(Table6[[#This Row],[Applicable in following countries and continents]]<>"",Table6[[#This Row],[Applicable in following countries and continents]],"") -> France
B13: =IF(Table6[[#This Row],[Expiration date of certificate is]]<>"",Table6[[#This Row],[Expiration date of certificate is]],"") -> 46363 | C13: =IF(Table6[[#This Row],[Renewal certificate requested?]]<>"",Table6[[#This Row],[Renewal certificate requested?]],"") -> No | D13: =IF(Table6[[#This Row],[Download the PDF of the certificate here]]<>"", HYPERLINK(Table6[[#This Row],[Download the PDF of the certificate here]],"Link"),"") -> Link | E13: =IF(Table6[[#This Row],[Certificate Owner]]<>"",Table6[[#This Row],[Certificate Owner]],"") -> PWG Customer Certificate | F13: =IF(Table6[[#This Row],[Responsible Company]]<>"",Table6[[#This Row],[Responsible Company]],"") -> Delta Water Engineering N.V. | G13: =IF(Table6[[#This Row],[Index Number/Title]]<>"",Table6[[#This Row],[Index Number/Title]],"") -> Adoucisseur Sotco Ozeo | H13: =IF(Table6[[#This Row],[Certification No.]]<>"",Table6[[#This Row],[Certification No.]],"") -> 21 ACC LY 934 | I13: =IF(Table6[[#This Row],[Product category]]<>"",Table6[[#This Row],[Product category]],"") -> Softeners | J13: =IF(Table6[[#This Row],[Type of certificate]]<>"",Table6[[#This Row],[Type of certificate]],"") -> ACS | K13: =IF(Table6[[#This Row],[Content of Certificate]]<>"",Table6[[#This Row],[Content of Certificate]],"") -> Sotco Ozeo | L13: =IF(Table6[[#This Row],[Applicable in following countries and continents]]<>"",Table6[[#This Row],[Applicable in following countries and continents]],"") -> France
B14: =IF(Table6[[#This Row],[Expiration date of certificate is]]<>"",Table6[[#This Row],[Expiration date of certificate is]],"") -> 46363 | C14: =IF(Table6[[#This Row],[Renewal certificate requested?]]<>"",Table6[[#This Row],[Renewal certificate requested?]],"") -> No | D14: =IF(Table6[[#This Row],[Download the PDF of the certificate here]]<>"", HYPERLINK(Table6[[#This Row],[Download the PDF of the certificate here]],"Link"),"") -> Link | E14: =IF(Table6[[#This Row],[Certificate Owner]]<>"",Table6[[#This Row],[Certificate Owner]],"") -> PWG Certificate | F14: =IF(Table6[[#This Row],[Responsible Company]]<>"",Table6[[#This Row],[Responsible Company]],"") -> Delta Water Engineering N.V. | G14: =IF(Table6[[#This Row],[Index Number/Title]]<>"",Table6[[#This Row],[Index Number/Title]],"") -> Adoucisseur PWG France Pallas NES | H14: =IF(Table6[[#This Row],[Certification No.]]<>"",Table6[[#This Row],[Certification No.]],"") -> 21 ACC LY 935 | I14: =IF(Table6[[#This Row],[Product category]]<>"",Table6[[#This Row],[Product category]],"") -> Softeners | J14: =IF(Table6[[#This Row],[Type of certificate]]<>"",Table6[[#This Row],[Type of certificate]],"") -> ACS | K14: =IF(Table6[[#This Row],[Content of Certificate]]<>"",Table6[[#This Row],[Content of Certificate]],"") -> Pallas NES | L14: =IF(Table6[[#This Row],[Applicable in following countries and continents]]<>"",Table6[[#This Row],[Applicable in following countries and continents]],"") -> France
B15: =IF(Table6[[#This Row],[Expiration date of certificate is]]<>"",Table6[[#This Row],[Expiration date of certificate is]],"") -> 46365 | C15: =IF(Table6[[#This Row],[Renewal certificate requested?]]<>"",Table6[[#This Row],[Renewal certificate requested?]],"") -> No | D15: =IF(Table6[[#This Row],[Download the PDF of the certificate here]]<>"", HYPERLINK(Table6[[#This Row],[Download the PDF of the certificate here]],"Link"),"") -> Link | E15: =IF(Table6[[#This Row],[Certificate Owner]]<>"",Table6[[#This Row],[Certificate Owner]],"") -> PWG Certificate | F15: =IF(Table6[[#This Row],[Responsible Company]]<>"",Table6[[#This Row],[Responsible Company]],"") -> Delta Water Engineering N.V. | G15: =IF(Table6[[#This Row],[Index Number/Title]]<>"",Table6[[#This Row],[Index Number/Title]],"") -> Softeners Delta Simplex & Delta Duplex | H15: =IF(Table6[[#This Row],[Certification No.]]<>"",Table6[[#This Row],[Certification No.]],"") -> 461/2021 Swedish Type Approval 1773 | I15: =IF(Table6[[#This Row],[Product category]]<>"",Table6[[#This Row],[Product category]],"") -> Softeners | J15: =IF(Table6[[#This Row],[Type of certificate]]<>"",Table6[[#This Row],[Type of certificate]],"") -> Swedish type approval (rise) | K15: =IF(Table6[[#This Row],[Content of Certificate]]<>"",Table6[[#This Row],[Content of Certificate]],"") -> SIMPLEX 3L DSO-100 Delta Simplex 3L DHSO-100-M Hydrosoft 100M DHSO-100-B Hydrosoft 100B DHSO-100-BS Hydrosoft 100BS DTSO-100-M Talent 100M DTSO-100-B Talent 100B DTSO-100-BS Talent 100BS DUPLEX 3L DSO-200 Delta Duplex 3L DHSO-200-M Hydrosoft 200M DHSO-200-B Hydrosoft 200B DHSO-200-BL Hydrosoft 200BL DTSO-200-M Talent 200M DTSO-200-B Talent 200B DTSO-200-BL Talent 200BL | L15: =IF(Table6[[#This Row],[Applicable in following countries and continents]]<>"",Table6[[#This Row],[Applicable in following countries and continents]],"") -> Sweden; Norway; Denmark
B16: =IF(Table6[[#This Row],[Expiration date of certificate is]]<>"",Table6[[#This Row],[Expiration date of certificate is]],"") -> 46369 | C16: =IF(Table6[[#This Row],[Renewal certificate requested?]]<>"",Table6[[#This Row],[Renewal certificate requested?]],"") -> No | D16: =IF(Table6[[#This Row],[Download the PDF of the certificate here]]<>"", HYPERLINK(Table6[[#This Row],[Download the PDF of the certificate here]],"Link"),"") -> Link | E16: =IF(Table6[[#This Row],[Certificate Owner]]<>"",Table6[[#This Row],[Certificate Owner]],"") -> Supplier Certifcate | F16: =IF(Table6[[#This Row],[Responsible Company]]<>"",Table6[[#This Row],[Responsible Company]],"") -> PWG N.V. | G16: =IF(Table6[[#This Row],[Index Number/Title]]<>"",Table6[[#This Row],[Index Number/Title]],"") -> Softeners Runxin Residental Directive 2011/65/EU | H16: =IF(Table6[[#This Row],[Certification No.]]<>"",Table6[[#This Row],[Certification No.]],"") -> ICR Polska/VC/HL211204 | I16: =IF(Table6[[#This Row],[Product category]]<>"",Table6[[#This Row],[Product category]],"") -> Softeners | J16: =IF(Table6[[#This Row],[Type of certificate]]<>"",Table6[[#This Row],[Type of certificate]],"") -> CE | K16: =IF(Table6[[#This Row],[Content of Certificate]]<>"",Table6[[#This Row],[Content of Certificate]],"") -> Product type: Residential softener RL-R30, RL-R50, RL-R55, RL-R60, RL-R70, RL-R80, RL-R90, RL-R100, RL-R105, RL-R110, RL-R115, RL-R120, RL-R150, RL-R200, RL-R250, RL-R300, RL-S30, RL-S50, RL-S55, RL-S60, RL-S70, RL-S80, RL-S90, RL-S100, RL-S105, RL-S110, RL-S115, RL-S120, RL-S150, RL-S200, RL-S250, RL-S300 | L16: =IF(Table6[[#This Row],[Applicable in following countries and continents]]<>"",Table6[[#This Row],[Applicable in following countries and continents]],"") -> European Union
... B149: =IF(Table6[[#This Row],[Expiration date of certificate is]]<>"",Table6[[#This Row],[Expiration date of certificate is]],"") | C149: =IF(Table6[[#This Row],[Renewal certificate requested?]]<>"",Table6[[#This Row],[Renewal certificate requested?]],"") -> No | D149: =IF(Table6[[#This Row],[Download the PDF of the certificate here]]<>"", HYPERLINK(Table6[[#This Row],[Download the PDF of the certificate here]],"Link"),"") -> Link | E149: =IF(Table6[[#This Row],[Certificate Owner]]<>"",Table6[[#This Row],[Certificate Owner]],"") -> Supplier Certifcate | F149: =IF(Table6[[#This Row],[Responsible Company]]<>"",Table6[[#This Row],[Responsible Company]],"") -> Suko NV | G149: =IF(Table6[[#This Row],[Index Number/Title]]<>"",Table6[[#This Row],[Index Number/Title]],"") -> Valves Clack with XMEGA Microcontroller | H149: =IF(Table6[[#This Row],[Certification No.]]<>"",Table6[[#This Row],[Certification No.]],"") -> D-WSFCV-IE-001 | I149: =IF(Table6[[#This Row],[Product category]]<>"",Table6[[#This Row],[Product category]],"") -> Valves - Clack | J149: =IF(Table6[[#This Row],[Type of certificate]]<>"",Table6[[#This Row],[Type of certificate]],"") -> CE | K149: =IF(Table6[[#This Row],[Content of Certificate]]<>"",Table6[[#This Row],[Content of Certificate]],"") -> Machinery Directive 2006/42/EC (Reg. (EU) 2023/1230) | L149: =IF(Table6[[#This Row],[Applicable in following countries and continents]]<>"",Table6[[#This Row],[Applicable in following countries and continents]],"") -> European Union

Sheet Not used
A1: PWG Certificate | B1: Valves Cappers Vannes industriellles | C1: 19 ACC LY 306 | E1: Cappers | F1: https://polletgroupintranet.sharepoint.com/:b:/s/PG_CORP_MKT/ERLQTW1cOfFIgxde6-epzywBPOMEFswQMPNcZWW46UGNfA?e=XzRLPs | G1: johan.lansens@pwg.be | H1: France | J1: Valves - Cappers | L1: ACS | M1: 43781 | N1: Yes | O1: 45608 | Q1: 45400 | R1: No | T1: Expiration Mail: certificate reaches expiration date soon
A2: Supplier Certifcate | B2: UV Sita Stainless steel bodies & sensors | C2: 1905378 | D2: RANGE OF UV DISINFECTION UNITS INCORPORATING STAINLESS STEEL BODIES & SENSORS | E2: PWG N.V. | F2: https://polletgroupintranet.sharepoint.com/:b:/s/PG_CORP_MKT/ERixy5kPsnJMqZiczQTIBkQB4G5yYxdhSNwAPIBSr8VEMA?e=4hgeoL | G2: johan.lansens@pwg.be | H2: United Kingdom | J2: UV | L2: WRAS | M2: 43586 | N2: Yes | O2: 45443 | Q2: 45442 | R2: No | T2: Expiration Mail: certificate reaches expiration date soon
A3: Supplier Certifcate | B3: UV SITA DM 174 Desinfection unit IT Series Model 40 IT | C3: ICIM-CAP-010237-00 | D3: DM 174 Desinfection unit IT Series Model 40 IT | E3: PWG N.V. | F3: https://polletgroupintranet.sharepoint.com/:b:/s/PG_CORP_MKT/EUxhtddSydlAoeSGu-k1KfkBd_zviCb9BcKYwnc7Otgd2w?e=0Am7Sf | G3: johan.lansens@pwg.be | H3: Italy | J3: UV | L3: Other | M3: 44213 | N3: Yes | O3: 46038 | Q3: 45673 | R3: No | T3: Expiration Mail: certificate reaches expiration date soon
A4: Supplier Certifcate | B4: Cartouches Atlas Filtri CA 4-10 SE | C4: 20 ACC LY 235 | D4: CA 4/5/7/10 SE SX/PB/BX | E4: PWG France | F4: https://polletgroupintranet.sharepoint.com/:b:/s/PG_CORP_MKT/EU58pM79bpVLlpCY5wxK3KMB_Hh4tVrKhKmSfZIEgF-0Sg?e=9PNXAN | G4: johan.lansens@pwg.be | H4: France | J4: Filters and components | L4: ACS | M4: 45118 | N4: Yes | O4: 45922 | Q4: 45557 | R4: No | T4: Expiration Mail: certificate reaches expiration date soon
A5: Supplier Certifcate | B5: HDPE Pressure Vessels_Wave Cyber | C5: 19 ACC LY 315 | E5: PWG France | F5: https://polletgroupintranet.sharepoint.com/:b:/s/PG_CORP_MKT/EUITJ1qLmIZHuokQCTK2w4wBZ-Qn-2RWnSn64P9gqsOtcQ?e=I4dJSI | G5: johan.lansens@pwg.be | H5: France | J5: Composite pressure vessels | L5: ACS | M5: 43655 | N5: Yes | O5: 45482 | Q5: 45405 | R5: No | T5: Expiration Mail: certificate reaches expiration date soon
A6: Supplier Certifcate | B6: Composant d'accessoires Noval/PPI Fritte en PA | C6: 19 MAT LY 138 | D6: PPI-SLS-X001 Couleur du meteriau: Blanc 3cm2 / L | E6: PWG France | F6: https://polletgroupintranet.sharepoint.com/:b:/s/PG_CORP_MKT/EbcDRGgWAUdIoygUWhqobEwB-NTMS9WmFfTMrmIk6Id1EA?e=iGin1L | G6: johan.lansens@pwg.be | H6: France | J6: Other | L6: ACS | M6: 43719 | N6: Yes | O6: 45546 | Q6: 45444 | R6: No | T6: Expiration Mail: certificate reaches expiration date soon
A7: Supplier Certifcate | B7: Filters Airwatec Cintropur 1",1"1/4, 1"1/2 | C7: 19 ACC LY 388 | D7: CINTROPUR NW 280 1" CINTROPUR NW 340 1 1/4" CINTROPUR NW 400 1 1/2" | E7: PWG France | F7: https://polletgroupintranet.sharepoint.com/:b:/s/PG_CORP_MKT/ERqqrclkaw9OquHCve0j6PQBh4wUzCeNjhL8LlRvkm_q3g?e=SiXz4h | G7: johan.lansens@pwg.be | H7: France | J7: Filters and components | L7: ACS | M7: 43752 | N7: Yes | O7: 45579 | Q7: 45444 | R7: No | T7: Expiration Mail: certificate reaches expiration date soon
A8: Supplier Certifcate | B8: Adocisseur Pentair Evolio 255/760 | C8: 19 ACC LY 578 | D8: 8L 15L 20L 30L | E8: PWG France | F8: https://polletgroupintranet.sharepoint.com/:b:/s/PG_CORP_MKT/ETktyj3-QLtDvJH23nsdQxEBwnbrktqMKYnJZTeuglHEPA?e=CYVL03 | G8: johan.lansens@pwg.be | H8: France | J8: Softeners | L8: ACS | M8: 43791 | N8: Yes | O8: 45618 | Q8: 45444 | R8: No | T8: Expiration Mail: certificate reaches expiration date soon
A9: Supplier Certifcate | B9: Check Valve Neoperl UK Backflow Prevention Devices | C9: 2003739 | D9: Spring loaded, resilient trim, in-line check valve cartridges with plastic guide, stem and body and NBR or EPDM rubber 'O'-rings. | E9: PWG N.V. | F9: https://polletgroupintranet.sharepoint.com/:b:/s/PG_CORP_MKT/EQhqyo87bKpHnOTxD23cTCgBIWyrTsrN-kgFYkq7-S4MLQ?e=5AxzZM | G9: johan.lansens@pwg.be | H9: United Kingdom | J9: Valves - Others | L9: UK-REG4 | M9: 43900 | N9: Yes | O9: 45725 | Q9: 45360 | R9: No | T9: Expiration Mail: certificate reaches expiration date soon
A10: Supplier Certifcate | B10: Pressure vessels Canature HDPE, PA, EPDM | C10: B.BK.60110.0075.2022 | D10: Zbiorniki ciśnieniowe o średnicach od 05' do 63'; wysokościach od 13 do 86 cali; Zbiornik ciśnieniowy 06x16, Zbiornik ciśnieniowy 08x19, Zbiornik ciśnieniowy 08x25, Zbiornik ciśnieniowy 08x35, Zbiornik ciśnieniowy 08x40, Zbiornik ciśnieniowy 09x14 | E10: PWG N.V. | F10: https://polletgroupintranet.sharepoint.com/:b:/s/PG_CORP_MKT/EWeKPcNP_-1Al-OCpzLVw3QBovG2Q7659zOWB9TIEksaRw?e=Kodbfi | G10: johan.lansens@pwg.be | H10: Poland | J10: Composite pressure vessels | L10: PIB Poland | M10: 44638 | O10: 45734 | R10: No
A11: Supplier Certifcate | B11: Softeners Runxin Residential Directive 2011/65/EU & Amendment 2015/863/EU | C11: ISETC.002820200417 | D11: Type of products: Residential softeners RL-R30, RL-R50, RL-R60, RL-R80, RL-R100, RL-R110, RL-R120, RL-R150, RL-R200, RL-R250, RL-R300, RL-S30, RL-S50, RL-S60, RL-S80, RL-S100, RL-S110, RL-S120, RL-S150, RL-S200, RL-S250, RL-S300 | E11: PWG N.V. | F11: https://polletgroupintranet.sharepoint.com/:b:/s/PG_CORP_MKT/EYHUULDoMqNEhgK5wKraVa8BiOFt40lXugIBfLnQtRmD5g?e=iKog22 | G11: johan.lansens@pwg.be | H11: European Union | J11: Softeners | L11: CE | M11: 43938 | N11: Yes | O11: 45763 | Q11: 45473 | R11: No | T11: Expiration Mail: certificate reaches expiration date soon
A12: Supplier Certifcate | B12: Valves Runxin Multi-functional Directive 2011/65/EU and Amendment 2015/ 863/EU | C12: ISETC.002720200417 | D12: Product type: Multi-functional Flow Control Valve for Water Treatment Systems MODEL(S): TM.F | E12: PWG N.V. | F12: https://polletgroupintranet.sharepoint.com/:b:/s/PG_CORP_MKT/EcSvcxMknZJMno4bTLGskgUBz7MLnPEyfYKaiv0XObcNEA?e=jtlsjy | G12: johan.lansens@pwg.be | H12: European Union | J12: Valves - Runxin | L12: CE | M12: 43938 | N12: Yes | O12: 45763 | Q12: 45473 | R12: No | T12: Expiration Mail: certificate reaches expiration date soon
A13: Supplier Certifcate | B13: Valves Runxin Multi-functional Low voltage directive 2014/35/EU & EMC 2014/30/EU | C13: ISETC.002620200417 | D13: Multi-functional Flow Control Valve for Water Treatment Systems MODEL(S): TM.F | E13: PWG N.V. | F13: https://polletgroupintranet.sharepoint.com/:b:/s/PG_CORP_MKT/ERxYG8cWtc9JuF8POwPAXRABe7mduKlQFyLph-0GI6_eLw?e=hWiKCJ | G13: johan.lansens@pwg.be | H13: European Union | J13: Valves - Runxin | L13: CE | M13: 43938 | N13: Yes | O13: 45763 | Q13: 45473 | R13: No | T13: Expiration Mail: certificate reaches expiration date soon
A14: Supplier Certifcate | B14: Resin Sunresin SEPLITE Monojet SC3100 (2x mod) | C14: SO 009/20 | D14: SEPLITE Monojet SC3100 (2x mod) | E14: PWG N.V. | F14: https://polletgroupintranet.sharepoint.com/:b:/s/PG_CORP_MKT/Edtnlu5Lt1JJjFbukOL1qhYBI257DTRR_xJ12SkBxzMLTw?e=RCN3Ms | G14: johan.lansens@pwg.be | H14: European Union | J14: ION exchange resins | L14: Other | M14: 43979 | N14: Yes | O14: 45787 | Q14: 45627 | R14: No | T14: Expiration Mail: certificate reaches expiration date soon
A15: Supplier Certifcate | B15: Resins Lanxess Lewatit S 1568, Lewatit S 1567 & Lewatit MonoPlus S107 NS | C15: 2005536 | D15: Lewatit S 1568, Lewatit S 1567 & Lewatit MonoPlus S107 NS'. Brown coloured, translucent ion exchange resins. For use with water up to 23°C | E15: PWG N.V. | F15: https://www.wrasapprovals.co.uk/approvals-directory/?company=16329 | G15: johan.lansens@pwg.be | H15: United Kingdom | J15: ION exchange resins | L15: WRAS | M15: 43982 | O15: 45808 | R15: No
A16: Supplier Certifcate | B16: ISO9001 Canature Health Technology | C16: FM 711830 | D16: ISO9001 The design and manufacture of water purification equipment and its core components. | E16: PWG N.V. | F16: https://polletgroupintranet.sharepoint.com/:b:/s/PG_CORP_MKT/EQY39CejLqZEql8FKl6Kn50BhGo1DMYIwuWD2smi7QIx1A?e=IV6bvp | G16: johan.lansens@pwg.be | H16: European Union | J16: ISO | L16: ISO | M16: 44736 | N16: Yes | O16: 45831 | R16: No
A17: Supplier Certifcate | B17: ISO14001 Canature Health Technology | C17: EMS 711832 | D17: ISO14001 The design and manufacture of water purification equipment and its core components. | E17: PWG N.V. | F17: https://polletgroupintranet.sharepoint.com/:b:/s/PG_CORP_MKT/EUJBIA3pvgtMkdRkDZ5jhtgBhB5JgGp4Zz4xGGtVlk_zSg?e=8v9txM | G17: johan.lansens@pwg.be | H17: European Union | J17: ISO | L17: ISO | M17: 44736 | N17: Yes | O17: 45831 | R17: No
A18: Supplier Certifcate | B18: Pressure Vessels Canature 8x17 and more | C18: 20 ACC LY 356 | E18: PWG France | F18: https://polletgroupintranet.sharepoint.com/:b:/s/PG_CORP_MKT/Ee8MslBR66BEp_ugYNs2-QwB4QKwOF0OqDaxvOPM4REl2A?e=e24Sxz | G18: johan.lansens@pwg.be | H18: France | J18: Composite pressure vessels | L18: ACS | M18: 44013 | N18: Yes | O18: 45839 | Q18: 45474 | R18: No | T18: Expiration Mail: certificate reaches expiration date soon
A19: Supplier Certifcate | B19: WRAS Pressure vessels Pentair Polyethylene | C19: 2007073 | D19: Model number: C-****-A*-NI, DPEX****, DPEX*****, Q-****-A*, RT-****-P*, RT-****-A* RT-****-P*-NI & RT-****-A*-NI RANGE OF POLYETHYLENE PRESSURE VESSELS | E19: PWG N.V. | F19: https://polletgroupintranet.sharepoint.com/:b:/s/PG_CORP_MKT/EYP5cGB_7YVNoUg9cKrKZs4BZ7BtnPwAFF65ufWyzs2NHQ?e=zsSMuj | G19: johan.lansens@pwg.be | H19: United Kingdom | J19: Composite pressure vessels | L19: WRAS | M19: 44013 | N19: Yes | O19: 45869 | Q19: 45504 | R19: No | T19: Expiration Mail: certificate reaches expiration date soon
A20: Supplier Certifcate | B20: WRAS Pressure vessels Pentair C-1468-F*HW | C20: 2007061 | D20: Pressure vessel C-1468-F*HW | E20: PWG N.V. | F20: https://polletgroupintranet.sharepoint.com/:b:/s/PG_CORP_MKT/EQ8djsX6f2VNnRW9wOuJpGQB0-t4-tpiGsiQNYuDBHKoPw?e=A972Vm | G20: johan.lansens@pwg.be | H20: United Kingdom | J20: Composite pressure vessels | L20: WRAS | M20: 44013 | N20: Yes | O20: 45869 | Q20: 45504 | R20: No | T20: Expiration Mail: certificate reaches expiration date soon
A21: Supplier Certifcate | B21: Filter Hangzhou Tiger Water Bag Filter Housing | C21: IN-HZ-5805-22087-003 Rev.0 | D21: Filter Hangzhou Tiger Water Bag Filter Housing | E21: PWG N.V. | F21: https://polletgroupintranet.sharepoint.com/:f:/s/PG_CORP_MKT/EokJNtiQ7jBBjLTxy9W_ZAcBWR41KLlwwKq522qcA6PEeQ?e=bB79fB | G21: johan.lansens@pwg.be | H21: European Union | J21: Filters and components | L21: CE | M21: 45540 | N21: Yes | O21: 45904 | R21: No
A22: Supplier Certifcate | B22: Resins Lanxess Lewatit S 8227 & S 8229 | C22: 2010509 | D22: Lewatit S 8227 & S 8229. White coloured ion exchange resins. For use with water up to 23°C | E22: PWG N.V. | F22: https://www.wrasapprovals.co.uk/approvals-directory/?company=16329 | G22: johan.lansens@pwg.be | H22: United Kingdom | J22: ION exchange resins | L22: WRAS | M22: 44135 | O22: 45961 | R22: No
A23: PWG Certificate | B23: Filters Airwatec Cintropur SL160 | C23: 20 ACC LY 298 | D23: Cintropur filters with transparent body Cintropur SL 160 Cintropur SL 240 Cintropur SL 240 TE DUO Cintropur SL 240 TE TRIO | E23: PWG France | F23: https://polletgroupintranet.sharepoint.com/:b:/s/PG_CORP_MKT/EXgnSdQItHlDkCYajBwhgz4BuEotEKpcjd_tR_Ps7PY0nA?e=vZbZBk | G23: johan.lansens@pwg.be | H23: France | J23: Filters and components | L23: ACS | M23: 44110 | N23: Yes | O23: 45936 | Q23: 45571 | R23: No | T23: Expiration Mail: certificate reaches expiration date soon
